BEGIN:VCALENDAR
VERSION:2.0
PRODID:-//Georgia Society, Sons of the American Revolution - ECPv6.15.20//NONSGML v1.0//EN
CALSCALE:GREGORIAN
METHOD:PUBLISH
X-WR-CALNAME:Georgia Society, Sons of the American Revolution
X-ORIGINAL-URL:https://gasocietysar.org
X-WR-CALDESC:Events for Georgia Society, Sons of the American Revolution
REFRESH-INTERVAL;VALUE=DURATION:PT1H
X-Robots-Tag:noindex
X-PUBLISHED-TTL:PT1H
BEGIN:VTIMEZONE
TZID:America/New_York
BEGIN:DAYLIGHT
TZOFFSETFROM:-0500
TZOFFSETTO:-0400
TZNAME:EDT
DTSTART:20230312T070000
END:DAYLIGHT
BEGIN:STANDARD
TZOFFSETFROM:-0400
TZOFFSETTO:-0500
TZNAME:EST
DTSTART:20231105T060000
END:STANDARD
BEGIN:DAYLIGHT
TZOFFSETFROM:-0500
TZOFFSETTO:-0400
TZNAME:EDT
DTSTART:20240310T070000
END:DAYLIGHT
BEGIN:STANDARD
TZOFFSETFROM:-0400
TZOFFSETTO:-0500
TZNAME:EST
DTSTART:20241103T060000
END:STANDARD
BEGIN:DAYLIGHT
TZOFFSETFROM:-0500
TZOFFSETTO:-0400
TZNAME:EDT
DTSTART:20250309T070000
END:DAYLIGHT
BEGIN:STANDARD
TZOFFSETFROM:-0400
TZOFFSETTO:-0500
TZNAME:EST
DTSTART:20251102T060000
END:STANDARD
END:VTIMEZONE
BEGIN:VEVENT
DTSTART;TZID=America/New_York:20240428T113000
DTEND;TZID=America/New_York:20240428T130000
DTSTAMP:20260425T064900
CREATED:20240206T190216Z
LAST-MODIFIED:20240206T190216Z
UID:7474-1714303800-1714309200@gasocietysar.org
SUMMARY:Midway Church Service – 11:30 AM
DESCRIPTION:April 28\, 2024 @ 11:30 am – 1:00 pm\n\n\n\nPlease consider joining us that morning for the yearly church service at the Midway Church at 11:30 a.m. followed by dinner on the grounds. \nThe Color Guard will present the Colors for the start of the service. \nThe church is located across from the cemetery. \nUS Highway 17 South \nMidway\, Georgia 31320 \nIf you need a hotel accommodation nearby Richmond Hill (19 miles north) and Hinesville (11 miles west) have many chain hotels.
URL:https://gasocietysar.org/event/midway-church-service-1130-am-2/
LOCATION:Midway Church\, 491 N Coastal Highway\, Midway\, GA\, 31320\, United States
CATEGORIES:GA Society Events,GASSAR Color Guard,Miscellaneous Events
END:VEVENT
END:VCALENDAR