BEGIN:VCALENDAR
VERSION:2.0
PRODID:-//Georgia Society, Sons of the American Revolution - ECPv6.15.20//NONSGML v1.0//EN
CALSCALE:GREGORIAN
METHOD:PUBLISH
X-WR-CALNAME:Georgia Society, Sons of the American Revolution
X-ORIGINAL-URL:https://gasocietysar.org
X-WR-CALDESC:Events for Georgia Society, Sons of the American Revolution
REFRESH-INTERVAL;VALUE=DURATION:PT1H
X-Robots-Tag:noindex
X-PUBLISHED-TTL:PT1H
BEGIN:VTIMEZONE
TZID:America/New_York
BEGIN:DAYLIGHT
TZOFFSETFROM:-0500
TZOFFSETTO:-0400
TZNAME:EDT
DTSTART:20230312T070000
END:DAYLIGHT
BEGIN:STANDARD
TZOFFSETFROM:-0400
TZOFFSETTO:-0500
TZNAME:EST
DTSTART:20231105T060000
END:STANDARD
BEGIN:DAYLIGHT
TZOFFSETFROM:-0500
TZOFFSETTO:-0400
TZNAME:EDT
DTSTART:20240310T070000
END:DAYLIGHT
BEGIN:STANDARD
TZOFFSETFROM:-0400
TZOFFSETTO:-0500
TZNAME:EST
DTSTART:20241103T060000
END:STANDARD
BEGIN:DAYLIGHT
TZOFFSETFROM:-0500
TZOFFSETTO:-0400
TZNAME:EDT
DTSTART:20250309T070000
END:DAYLIGHT
BEGIN:STANDARD
TZOFFSETFROM:-0400
TZOFFSETTO:-0500
TZNAME:EST
DTSTART:20251102T060000
END:STANDARD
END:VTIMEZONE
BEGIN:VEVENT
DTSTART;TZID=America/New_York:20240527T140000
DTEND;TZID=America/New_York:20240527T153000
DTSTAMP:20260425T080756
CREATED:20240206T213301Z
LAST-MODIFIED:20240206T213301Z
UID:7536-1716818400-1716823800@gasocietysar.org
SUMMARY:National (DC) - Memorial Day Parade in Washington\, DC - 2:00 PM
DESCRIPTION:As we have discussed in passing\, I would very much like to get a good showing from the national color guard at this year’s National Memorial Day Parade.  PG Dodd and the incoming C.A.R. national president are both scheduled to attend.\n\nAs there are some misconceptions about the parade unit\, I wanted to state clearly that the unit is the NSSAR unit — not VASSAR or GW Chapter.  I have facilitated the NSSAR unit through the GW Chapter for many years\, but it has always been intended to be a national society effort.  NSSAR has always provided the certificate of insurance for the group.  Although this is not an easy one because of its location on the National Mall\, there are very few parade opportunities we have with as much public exposure and media amplification.\n\nThe parade is scheduled for 2 p.m. on Memorial Day\, Monday\, May 27\, 2024.  I am working on an earlier event that would help make this a two-fer for any color guardsmen who make the trip.  Additionally\, the GW Chapter awards a chapter-level medal to participants in the parade unit.\n\nAll of that is a long way of respectfully requesting that you put this on the color guard calendar.  Perhaps you might also consider letting me make a pitch for participation at your meeting during Spring Leadership.
URL:https://gasocietysar.org/event/national-dc-memorial-day-parade-in-washington-dc-200-pm/
CATEGORIES:Miscellaneous Events,National Events
END:VEVENT
END:VCALENDAR