BEGIN:VCALENDAR
VERSION:2.0
PRODID:-//Georgia Society, Sons of the American Revolution - ECPv6.15.20//NONSGML v1.0//EN
CALSCALE:GREGORIAN
METHOD:PUBLISH
X-ORIGINAL-URL:https://gasocietysar.org
X-WR-CALDESC:Events for Georgia Society, Sons of the American Revolution
REFRESH-INTERVAL;VALUE=DURATION:PT1H
X-Robots-Tag:noindex
X-PUBLISHED-TTL:PT1H
BEGIN:VTIMEZONE
TZID:America/New_York
BEGIN:DAYLIGHT
TZOFFSETFROM:-0500
TZOFFSETTO:-0400
TZNAME:EDT
DTSTART:20230312T070000
END:DAYLIGHT
BEGIN:STANDARD
TZOFFSETFROM:-0400
TZOFFSETTO:-0500
TZNAME:EST
DTSTART:20231105T060000
END:STANDARD
BEGIN:DAYLIGHT
TZOFFSETFROM:-0500
TZOFFSETTO:-0400
TZNAME:EDT
DTSTART:20240310T070000
END:DAYLIGHT
BEGIN:STANDARD
TZOFFSETFROM:-0400
TZOFFSETTO:-0500
TZNAME:EST
DTSTART:20241103T060000
END:STANDARD
BEGIN:DAYLIGHT
TZOFFSETFROM:-0500
TZOFFSETTO:-0400
TZNAME:EDT
DTSTART:20250309T070000
END:DAYLIGHT
BEGIN:STANDARD
TZOFFSETFROM:-0400
TZOFFSETTO:-0500
TZNAME:EST
DTSTART:20251102T060000
END:STANDARD
END:VTIMEZONE
BEGIN:VEVENT
DTSTART;TZID=America/New_York:20240905T080000
DTEND;TZID=America/New_York:20240905T170000
DTSTAMP:20260425T001512
CREATED:20240702T141822Z
LAST-MODIFIED:20240830T135004Z
UID:7816-1725523200-1725555600@gasocietysar.org
SUMMARY:(PA) Potential stamp dedication by the US Postal Service for the First Continental Congress
DESCRIPTION:The basics are 11 am\, Thursday\, September 5\, 2024\, at Carpenters’ Hall in Philadelphia. We’d ask that you arrive NLT 10:15 to do the walk through. Ten guardsmen max in the unit due to space constraints\, but it will be open to the public\, so any other guardsman who wants to come in uniform is welcome to do so to add to the general festive nature of the event. \n 
URL:https://gasocietysar.org/event/pa-potential-stamp-dedication-by-the-us-postal-service-for-the-first-continental-congress/
CATEGORIES:Miscellaneous Events
END:VEVENT
END:VCALENDAR