BEGIN:VCALENDAR
VERSION:2.0
PRODID:-//Georgia Society, Sons of the American Revolution - ECPv6.15.20//NONSGML v1.0//EN
CALSCALE:GREGORIAN
METHOD:PUBLISH
X-WR-CALNAME:Georgia Society, Sons of the American Revolution
X-ORIGINAL-URL:https://gasocietysar.org
X-WR-CALDESC:Events for Georgia Society, Sons of the American Revolution
REFRESH-INTERVAL;VALUE=DURATION:PT1H
X-Robots-Tag:noindex
X-PUBLISHED-TTL:PT1H
BEGIN:VTIMEZONE
TZID:America/New_York
BEGIN:DAYLIGHT
TZOFFSETFROM:-0500
TZOFFSETTO:-0400
TZNAME:EDT
DTSTART:20240310T070000
END:DAYLIGHT
BEGIN:STANDARD
TZOFFSETFROM:-0400
TZOFFSETTO:-0500
TZNAME:EST
DTSTART:20241103T060000
END:STANDARD
BEGIN:DAYLIGHT
TZOFFSETFROM:-0500
TZOFFSETTO:-0400
TZNAME:EDT
DTSTART:20250309T070000
END:DAYLIGHT
BEGIN:STANDARD
TZOFFSETFROM:-0400
TZOFFSETTO:-0500
TZNAME:EST
DTSTART:20251102T060000
END:STANDARD
BEGIN:DAYLIGHT
TZOFFSETFROM:-0500
TZOFFSETTO:-0400
TZNAME:EDT
DTSTART:20260308T070000
END:DAYLIGHT
BEGIN:STANDARD
TZOFFSETFROM:-0400
TZOFFSETTO:-0500
TZNAME:EST
DTSTART:20261101T060000
END:STANDARD
END:VTIMEZONE
BEGIN:VEVENT
DTSTART;TZID=America/New_York:20250306T180000
DTEND;TZID=America/New_York:20250306T210000
DTSTAMP:20260424T120034
CREATED:20240702T161508Z
LAST-MODIFIED:20250125T003303Z
UID:7876-1741284000-1741294800@gasocietysar.org
SUMMARY:Brier Creek Revolutionary War Battlefield Association - Annual Meeting and Dinner
DESCRIPTION:The Brier Creek Revolutionary War Battlefield Association\, Inc. Invites you to join in celebrating the Battle of Brier Creek at the Annual Meeting and Dinner. \nThursday\, March 6\, 2025\nForest Heights Country Club\, 3772 Country Club Road\, Statesboro\, Georgia \nSpeaker: LTC Leslie Chandler\, GaARNG\, Director of the Integrated Primary Prevention Program\, Joint Staff “Remembering Well” \nDinner Cost: $50.00 per person \nAnnual Meeting and Dinner 6:00 PM \nPlease make your checks payable to the BCRWBA\, Inc. and mail to:\nBCRWBA\, Inc.\, P.O. Box 603\, Swainsboro\, GA 30401-0603\nPlease include your email address. \nDinner reservations must be postmarked no later than February 26\, 2025 \nName:                            \, Email:                                      \,Phone:
URL:https://gasocietysar.org/event/brier-creek-revolutionary-war-battlefield-association-annual-meeting-and-dinner/
CATEGORIES:GASSAR Color Guard,Miscellaneous Events
END:VEVENT
END:VCALENDAR