BEGIN:VCALENDAR
VERSION:2.0
PRODID:-//Georgia Society, Sons of the American Revolution - ECPv6.15.20//NONSGML v1.0//EN
CALSCALE:GREGORIAN
METHOD:PUBLISH
X-WR-CALNAME:Georgia Society, Sons of the American Revolution
X-ORIGINAL-URL:https://gasocietysar.org
X-WR-CALDESC:Events for Georgia Society, Sons of the American Revolution
REFRESH-INTERVAL;VALUE=DURATION:PT1H
X-Robots-Tag:noindex
X-PUBLISHED-TTL:PT1H
BEGIN:VTIMEZONE
TZID:America/New_York
BEGIN:DAYLIGHT
TZOFFSETFROM:-0500
TZOFFSETTO:-0400
TZNAME:EDT
DTSTART:20240310T070000
END:DAYLIGHT
BEGIN:STANDARD
TZOFFSETFROM:-0400
TZOFFSETTO:-0500
TZNAME:EST
DTSTART:20241103T060000
END:STANDARD
BEGIN:DAYLIGHT
TZOFFSETFROM:-0500
TZOFFSETTO:-0400
TZNAME:EDT
DTSTART:20250309T070000
END:DAYLIGHT
BEGIN:STANDARD
TZOFFSETFROM:-0400
TZOFFSETTO:-0500
TZNAME:EST
DTSTART:20251102T060000
END:STANDARD
BEGIN:DAYLIGHT
TZOFFSETFROM:-0500
TZOFFSETTO:-0400
TZNAME:EDT
DTSTART:20260308T070000
END:DAYLIGHT
BEGIN:STANDARD
TZOFFSETFROM:-0400
TZOFFSETTO:-0500
TZNAME:EST
DTSTART:20261101T060000
END:STANDARD
END:VTIMEZONE
BEGIN:VEVENT
DTSTART;TZID=America/New_York:20250330T080000
DTEND;TZID=America/New_York:20250330T170000
DTSTAMP:20260424T105651
CREATED:20241221T213740Z
LAST-MODIFIED:20241221T214749Z
UID:8244-1743321600-1743354000@gasocietysar.org
SUMMARY:Potential Lafayette marking at Fort Mitchell - Fort Moore - ???
DESCRIPTION:Save the date \nThe time schedule is yet to be set exactly and will be announced soon.  All events will need to be tightly scheduled to allow everyone an opportunity to be involved\, so it is suggested that any presentation be limited to not more than 5 minutes. I would be glad to talk with local lodge Grand Masters to discuss any tentative plans. They can email me or call 478-957-7411. We are hoping to get all our plans firmed up by January 1\, 2025 so we can get advertising \, printing \, etc\, done in plenty of time. Thank you!\nJohn (and Billie Trussell\, Bev Baker\, Lynne Tate)\nCo-Chairs\, American Friends of Lafayette\, Georgia Committee
URL:https://gasocietysar.org/event/potential-lafayette-marking-at-fort-mitchell-fort-moore/
CATEGORIES:Miscellaneous Events
END:VEVENT
END:VCALENDAR