BEGIN:VCALENDAR
VERSION:2.0
PRODID:-//Georgia Society, Sons of the American Revolution - ECPv6.15.20//NONSGML v1.0//EN
CALSCALE:GREGORIAN
METHOD:PUBLISH
X-ORIGINAL-URL:https://gasocietysar.org
X-WR-CALDESC:Events for Georgia Society, Sons of the American Revolution
REFRESH-INTERVAL;VALUE=DURATION:PT1H
X-Robots-Tag:noindex
X-PUBLISHED-TTL:PT1H
BEGIN:VTIMEZONE
TZID:America/New_York
BEGIN:DAYLIGHT
TZOFFSETFROM:-0500
TZOFFSETTO:-0400
TZNAME:EDT
DTSTART:20240310T070000
END:DAYLIGHT
BEGIN:STANDARD
TZOFFSETFROM:-0400
TZOFFSETTO:-0500
TZNAME:EST
DTSTART:20241103T060000
END:STANDARD
BEGIN:DAYLIGHT
TZOFFSETFROM:-0500
TZOFFSETTO:-0400
TZNAME:EDT
DTSTART:20250309T070000
END:DAYLIGHT
BEGIN:STANDARD
TZOFFSETFROM:-0400
TZOFFSETTO:-0500
TZNAME:EST
DTSTART:20251102T060000
END:STANDARD
BEGIN:DAYLIGHT
TZOFFSETFROM:-0500
TZOFFSETTO:-0400
TZNAME:EDT
DTSTART:20260308T070000
END:DAYLIGHT
BEGIN:STANDARD
TZOFFSETFROM:-0400
TZOFFSETTO:-0500
TZNAME:EST
DTSTART:20261101T060000
END:STANDARD
END:VTIMEZONE
BEGIN:VEVENT
DTSTART;TZID=America/New_York:20250412T100000
DTEND;TZID=America/New_York:20250412T110000
DTSTAMP:20260424T105030
CREATED:20240702T210211Z
LAST-MODIFIED:20241221T162438Z
UID:7942-1744452000-1744455600@gasocietysar.org
SUMMARY:National (NC) - 249th Anniversary of the Adoption of the Halifax Resolves
DESCRIPTION:Date/Time: April 12\, 2025 / 10:00 AM – 11:00 AM \nOrganized by:Halifax Resolves Chapter \nLocation: Historic Halifax \n72 Market St\, Halifax\, NC 27839\, USA \n  \nMore information forthcoming
URL:https://gasocietysar.org/event/national-ga-frederica-naval-actions-could-be-april-12-or-19/
LOCATION:Historic Halifax\, 72 Market Street\, Halifax\, NC\, 27839\, United States
CATEGORIES:Miscellaneous Events,National Events
END:VEVENT
END:VCALENDAR