BEGIN:VCALENDAR
VERSION:2.0
PRODID:-//Georgia Society, Sons of the American Revolution - ECPv6.15.20//NONSGML v1.0//EN
CALSCALE:GREGORIAN
METHOD:PUBLISH
X-ORIGINAL-URL:https://gasocietysar.org
X-WR-CALDESC:Events for Georgia Society, Sons of the American Revolution
REFRESH-INTERVAL;VALUE=DURATION:PT1H
X-Robots-Tag:noindex
X-PUBLISHED-TTL:PT1H
BEGIN:VTIMEZONE
TZID:America/New_York
BEGIN:DAYLIGHT
TZOFFSETFROM:-0500
TZOFFSETTO:-0400
TZNAME:EDT
DTSTART:20240310T070000
END:DAYLIGHT
BEGIN:STANDARD
TZOFFSETFROM:-0400
TZOFFSETTO:-0500
TZNAME:EST
DTSTART:20241103T060000
END:STANDARD
BEGIN:DAYLIGHT
TZOFFSETFROM:-0500
TZOFFSETTO:-0400
TZNAME:EDT
DTSTART:20250309T070000
END:DAYLIGHT
BEGIN:STANDARD
TZOFFSETFROM:-0400
TZOFFSETTO:-0500
TZNAME:EST
DTSTART:20251102T060000
END:STANDARD
BEGIN:DAYLIGHT
TZOFFSETFROM:-0500
TZOFFSETTO:-0400
TZNAME:EDT
DTSTART:20260308T070000
END:DAYLIGHT
BEGIN:STANDARD
TZOFFSETFROM:-0400
TZOFFSETTO:-0500
TZNAME:EST
DTSTART:20261101T060000
END:STANDARD
END:VTIMEZONE
BEGIN:VEVENT
DTSTART;TZID=America/New_York:20250614T080000
DTEND;TZID=America/New_York:20250614T170000
DTSTAMP:20260424T081109
CREATED:20240702T201754Z
LAST-MODIFIED:20240702T201842Z
UID:7926-1749888000-1749920400@gasocietysar.org
SUMMARY:Flag Day
DESCRIPTION:
URL:https://gasocietysar.org/event/flag-day/
CATEGORIES:Miscellaneous Events
END:VEVENT
BEGIN:VEVENT
DTSTART;TZID=America/New_York:20250614T100000
DTEND;TZID=America/New_York:20250614T110000
DTSTAMP:20260424T081109
CREATED:20240702T202822Z
LAST-MODIFIED:20240705T220757Z
UID:7933-1749895200-1749898800@gasocietysar.org
SUMMARY:National (NJ) - Battle of Monmouth Reenactment and SAR Commemorative Wreath Laying
DESCRIPTION:Battle of Monmouth Reenactment and SAR Commemorative Wreath Laying\n\nSaturday\, June 14\, 2025\n10:00 AM  11:00 AM\n\nMonmouth Battlefield will commemorate the Battle of Monmouth. This event features reenactments\, soldier camps\, talks\, and historical presentations in the camps and the Visitor Center. There will also be children’s infantry and cannon drills. \nThe NJSSAR Color Guard will have a Commemorative Wreath Laying Ceremony. For more information\, visit the Friends of Monmouth Battlefield at this link. Contact:  Jay Hershey\nJulian.hershey@verizon.net
URL:https://gasocietysar.org/event/national-nj-battle-of-monmouth-reenactment-and-sar-commemorative-wreath-laying/
CATEGORIES:Miscellaneous Events,National Events
END:VEVENT
END:VCALENDAR