BEGIN:VCALENDAR
VERSION:2.0
PRODID:-//Georgia Society, Sons of the American Revolution - ECPv6.15.20//NONSGML v1.0//EN
CALSCALE:GREGORIAN
METHOD:PUBLISH
X-WR-CALNAME:Georgia Society, Sons of the American Revolution
X-ORIGINAL-URL:https://gasocietysar.org
X-WR-CALDESC:Events for Georgia Society, Sons of the American Revolution
REFRESH-INTERVAL;VALUE=DURATION:PT1H
X-Robots-Tag:noindex
X-PUBLISHED-TTL:PT1H
BEGIN:VTIMEZONE
TZID:America/New_York
BEGIN:DAYLIGHT
TZOFFSETFROM:-0500
TZOFFSETTO:-0400
TZNAME:EDT
DTSTART:20240310T070000
END:DAYLIGHT
BEGIN:STANDARD
TZOFFSETFROM:-0400
TZOFFSETTO:-0500
TZNAME:EST
DTSTART:20241103T060000
END:STANDARD
BEGIN:DAYLIGHT
TZOFFSETFROM:-0500
TZOFFSETTO:-0400
TZNAME:EDT
DTSTART:20250309T070000
END:DAYLIGHT
BEGIN:STANDARD
TZOFFSETFROM:-0400
TZOFFSETTO:-0500
TZNAME:EST
DTSTART:20251102T060000
END:STANDARD
BEGIN:DAYLIGHT
TZOFFSETFROM:-0500
TZOFFSETTO:-0400
TZNAME:EDT
DTSTART:20260308T070000
END:DAYLIGHT
BEGIN:STANDARD
TZOFFSETFROM:-0400
TZOFFSETTO:-0500
TZNAME:EST
DTSTART:20261101T060000
END:STANDARD
END:VTIMEZONE
BEGIN:VEVENT
DTSTART;TZID=America/New_York:20250621T150000
DTEND;TZID=America/New_York:20250621T160000
DTSTAMP:20260425T094803
CREATED:20240705T220615Z
LAST-MODIFIED:20240705T220637Z
UID:7970-1750518000-1750521600@gasocietysar.org
SUMMARY:National (NJ) - Battle of Springfield
DESCRIPTION:Battle of Springfield Commemorative Wreath Laying\n\nSaturday\, June 21\, 2025\n3:00 PM  4:00 PM\n\n\nBattleground Cemetary39 Mountain Ave.\, Springfield\, NJ 07081 (map)\n\n\nGoogle Calendar  ICS\n\n\n\n\n\n\n\n\n\nHelp us commemorate the 244rd anniversaries of The Battle of Springfield\, June 23\, 1780\, and the Battle of Connecticut Farms\, June 7\, 1780. These were two of the most important battles of the Revolutionary War and the last to occur in the northern theater. In two successive attacks\, British and Hessian troops tried and failed to finally capture George Washington and defeat the Continental and New Jersey Militia forces that had kept them bottled up in New York City for several years. At Springfield\, the second of the two battles\, referred to by some as the “Forgotten Victory\,” roughly 1\,500 Continentals\, including the 3rd NJ Regiment\, and an undetermined number of militia units\, blocked over 6\,000 British and Hessians from attacking the main body of Washington’s army through the Hobart Gap. Two weeks earlier\, the town of Connecticut Farms\, since renamed Union\, was largely destroyed by the invaders in a similar failed attempt. \nOn June 22 at 3 pm the NJSSAR Color Guard will participate in two wreath layings commemorating the Battles of Connecticut Farms and Springfield\, beginning at Battleground Cemetery\, 39 Mountain Avenue\, Springfield\, and continuing with a march to Springfield First Presbyterian Church where a second wreath will be laid. \nWebsite: Click here \nContact: Christopher Sands rex44roger@aol.com
URL:https://gasocietysar.org/event/national-nj-battle-of-springfield/
CATEGORIES:Miscellaneous Events,National Events
END:VEVENT
BEGIN:VEVENT
DTSTART;TZID=America/New_York:20250628T100000
DTEND;TZID=America/New_York:20250628T230000
DTSTAMP:20260425T094803
CREATED:20240702T192716Z
LAST-MODIFIED:20250520T154717Z
UID:7896-1751104800-1751151600@gasocietysar.org
SUMMARY:District Event - (FL) Commemoration of the Battle of Alligator Creek Bridge
DESCRIPTION:The NSSAR South Atlantic District and the Florida Society Sons of the American Revolution The Battle of Alligator Creek Bridge \nCeremony: June 28\, 2025 at 10:00 am \nThe battle took place on June 30\, 1778\, at the bridge over Alligator Creek in what is now Callahan\, Florida in the county of Nassau. \nApproximately 1000 Continental and British troops were involved. \nThe program will take place at the following location: \n543378 US Highway 1\nCallahan\, FL 32011-3856\nMulti-Purpose Building \nRSVP \nNotification of attendance will be required no later than Wednesday June 5\, 2025. Attendees should contact:\nDarryl Ingle\, Secretary Jacksonville Chapter FLSSAR to this email\n“darryl.jaxsar.sec@att.net”.We need to know the number in your party who will attend. \nSociety Name: _____________________________________________\nChapter or Organization Name: _______________________________\nWill present Wreath: Yes _____ No_____\nPresenter (s) Name (s): ______________________________________\nTitle (s) (if applicable) _______________________________________\nWill bring SAR flag for the Color Guard? Yes ____ No ____\nNumber of members from your group: _______ In\nuniform/Militia/Colonial Dress\nEmail: ___________________________________________________ \nCell Phone: _______________________________________________ \n(Buffet lunch will be a BBQ\, attendees will pay $20.00 at the beginning of lunch by either cash or check made payable to JAX SAR.)
URL:https://gasocietysar.org/event/fl-commemoration-of-the-battle-of-alligator-creek-bridge/
LOCATION:Multi Purpose Building\, 543378 US Highway 1\, Callahan\, FL\, 32011\, United States
CATEGORIES:District Event,Miscellaneous Events
END:VEVENT
BEGIN:VEVENT
DTSTART;VALUE=DATE:20250917
DTEND;VALUE=DATE:20250918
DTSTAMP:20260425T094803
CREATED:20250520T230301Z
LAST-MODIFIED:20250520T230301Z
UID:18060-1758067200-1758153599@gasocietysar.org
SUMMARY:Constitution Day
DESCRIPTION:
URL:https://gasocietysar.org/event/constitution-day-4/
CATEGORIES:Miscellaneous Events
END:VEVENT
BEGIN:VEVENT
DTSTART;TZID=America/New_York:20250920T080000
DTEND;TZID=America/New_York:20250920T170000
DTSTAMP:20260425T094803
CREATED:20241221T212436Z
LAST-MODIFIED:20241221T212436Z
UID:8227-1758355200-1758387600@gasocietysar.org
SUMMARY:National (TN) - Gathering at Sycamore Shoals
DESCRIPTION:Per discussions with the staff of Sycamore Shoals and we have concluded that moving the Gathering to\nthe weekend of September 19-20 would provide a new perspective on the Gathering. They had\nalready planned to have the fort full of reenactors displaying different pioneer chores in the cabins\nof the fort\, cooking\, sewing\, making black powder\, plus many other things that will tie to the launch\nof the Overmountain Men on their march to Kings Mountain on Sept. 25.  We would have to move\nthe Gathering ceremony to the Amphitheatre\, but that has now been updated and will be comfortable.\n\nDetails will be forthcoming
URL:https://gasocietysar.org/event/national-tn-gathering-at-sycamore-shoals/
LOCATION:Sycamore Shoals State Historic Park\, 1651 W. Elk Ave\, Elizabethton\, TN\, 37643\, United States
CATEGORIES:Miscellaneous Events,National Events
END:VEVENT
BEGIN:VEVENT
DTSTART;TZID=America/New_York:20251009T080000
DTEND;TZID=America/New_York:20251009T100000
DTSTAMP:20260425T094803
CREATED:20250520T233410Z
LAST-MODIFIED:20251008T130750Z
UID:18075-1759996800-1760004000@gasocietysar.org
SUMMARY:Siege of Savannah
DESCRIPTION:On Thursday\, October 9th\, participants will meet at 8:30 AM in the Savannah History Museum parking lot at 303 Martin Luther King Jr. Boulevard. The march will begin promptly at 9:00 AM and proceed down West Boundary Street and along Louisville Road\, concluding with a ceremony at Battlefield Memorial Park. \nIn the early morning hours of October 9\, 1779\, the Battle of Savannah occurred on the current grounds of Coastal Heritage Society’s Tricentennial Park. The battle was one of the bloodiest of the American Revolution\, where approximately 800 troops died or were wounded. On Thursday\, October 9th\, 2025\, the Society\, our friends\, donors\, patriotic organizations\, and community leaders will follow in the footsteps of those who fought that day 246 years ago.  \nOn behalf of the Coastal Heritage Society\, we invite you to attend the 2025 Battlefield Memorial March to honor those who fought\, fell\, and sacrificed for our freedom. The event will include a ceremonial march on the path of the allied attacking columns\, followed by a dedication of stones and a presentation of wreaths to commemorate the fallen soldiers. \nA light brunch will be available for the event attendees following the ceremony. \nIndividuals and organizations are invited to bring a wreath to be presented during the ceremony. Please contact me to RSVP for this event and notify me whether you or your organization wants to bring a wreath. I can be reached at dmccall@chsgeorgia.org or (912) 944-7457.  \nDaniel McCall – Manager of Membership and Special Events – Coastal Heritage Society – dmccall@chsgeorgia.org \nCell: 912-944-7457
URL:https://gasocietysar.org/event/siege-of-savannah/
CATEGORIES:Miscellaneous Events
END:VEVENT
END:VCALENDAR