BEGIN:VCALENDAR
VERSION:2.0
PRODID:-//Georgia Society, Sons of the American Revolution - ECPv6.15.20//NONSGML v1.0//EN
CALSCALE:GREGORIAN
METHOD:PUBLISH
X-ORIGINAL-URL:https://gasocietysar.org
X-WR-CALDESC:Events for Georgia Society, Sons of the American Revolution
REFRESH-INTERVAL;VALUE=DURATION:PT1H
X-Robots-Tag:noindex
X-PUBLISHED-TTL:PT1H
BEGIN:VTIMEZONE
TZID:America/New_York
BEGIN:DAYLIGHT
TZOFFSETFROM:-0500
TZOFFSETTO:-0400
TZNAME:EDT
DTSTART:20220313T070000
END:DAYLIGHT
BEGIN:STANDARD
TZOFFSETFROM:-0400
TZOFFSETTO:-0500
TZNAME:EST
DTSTART:20221106T060000
END:STANDARD
BEGIN:DAYLIGHT
TZOFFSETFROM:-0500
TZOFFSETTO:-0400
TZNAME:EDT
DTSTART:20230312T070000
END:DAYLIGHT
BEGIN:STANDARD
TZOFFSETFROM:-0400
TZOFFSETTO:-0500
TZNAME:EST
DTSTART:20231105T060000
END:STANDARD
BEGIN:DAYLIGHT
TZOFFSETFROM:-0500
TZOFFSETTO:-0400
TZNAME:EDT
DTSTART:20240310T070000
END:DAYLIGHT
BEGIN:STANDARD
TZOFFSETFROM:-0400
TZOFFSETTO:-0500
TZNAME:EST
DTSTART:20241103T060000
END:STANDARD
END:VTIMEZONE
BEGIN:VEVENT
DTSTART;TZID=America/New_York:20230617T100000
DTEND;TZID=America/New_York:20230617T120000
DTSTAMP:20260425T223210
CREATED:20230619T214342Z
LAST-MODIFIED:20230619T214342Z
UID:6970-1686996000-1687003200@gasocietysar.org
SUMMARY:Ramsour's Mill
DESCRIPTION:The 243rd Anniversary of the Commemoration of the Battle of Ramour’s Mill – 10:00 AM \n3010 Jeb Seagle Dr\, Lincolnton\, North Carolina   28092
URL:https://gasocietysar.org/event/ramsours-mill/
LOCATION:GA
CATEGORIES:GASSAR Color Guard,Historic Sites & Celebrations,National Events
END:VEVENT
BEGIN:VEVENT
DTSTART;TZID=America/New_York:20230625T160000
DTEND;TZID=America/New_York:20230625T173000
DTSTAMP:20260425T223210
CREATED:20230609T203123Z
LAST-MODIFIED:20230609T203123Z
UID:6966-1687708800-1687714200@gasocietysar.org
SUMMARY:Patriotic Concert - Gainesville\, GA - 4:00 PM
DESCRIPTION:Gainesville First United Methodist Church’s Patriotic Concert\n\nSunday\, June 25\, 2023 \n\nConcert will start at 4:00 PM but I ask that participants show up by 3:30 that we might review a few minor changes for this year.\n\nThe concert is intended to be a celebration of Independence Day and could count as a National Society SAR event.\nPlease remember that One Independence Day even can be considered a National Society SAR event with others counting as State or Chapter events.\n\nFollowing the Concert\, the Rigels will get back to hosting the once traditional Barbecue Supper.\nCome after the Concert and enjoy a cold beverage while we wait for the others.  Spouses are invited to attend the concert and the supper.\n\nPlease let me know how many of you will be attending supper that we can prepare enough food.\n\nHoller with questions.\n\nEd Sr.
URL:https://gasocietysar.org/event/patriotic-concert-gainesville-ga-400-pm/
LOCATION:Gainesville First UMC\, 2780 Thompson Bridge Road\, Gainesville\, GA\, 30506\, United States
CATEGORIES:GA Society Events,GASSAR Color Guard,National Events
END:VEVENT
END:VCALENDAR