BEGIN:VCALENDAR
VERSION:2.0
PRODID:-//Georgia Society, Sons of the American Revolution - ECPv6.15.20//NONSGML v1.0//EN
CALSCALE:GREGORIAN
METHOD:PUBLISH
X-ORIGINAL-URL:https://gasocietysar.org
X-WR-CALDESC:Events for Georgia Society, Sons of the American Revolution
REFRESH-INTERVAL;VALUE=DURATION:PT1H
X-Robots-Tag:noindex
X-PUBLISHED-TTL:PT1H
BEGIN:VTIMEZONE
TZID:America/New_York
BEGIN:DAYLIGHT
TZOFFSETFROM:-0500
TZOFFSETTO:-0400
TZNAME:EDT
DTSTART:20220313T070000
END:DAYLIGHT
BEGIN:STANDARD
TZOFFSETFROM:-0400
TZOFFSETTO:-0500
TZNAME:EST
DTSTART:20221106T060000
END:STANDARD
BEGIN:DAYLIGHT
TZOFFSETFROM:-0500
TZOFFSETTO:-0400
TZNAME:EDT
DTSTART:20230312T070000
END:DAYLIGHT
BEGIN:STANDARD
TZOFFSETFROM:-0400
TZOFFSETTO:-0500
TZNAME:EST
DTSTART:20231105T060000
END:STANDARD
BEGIN:DAYLIGHT
TZOFFSETFROM:-0500
TZOFFSETTO:-0400
TZNAME:EDT
DTSTART:20240310T070000
END:DAYLIGHT
BEGIN:STANDARD
TZOFFSETFROM:-0400
TZOFFSETTO:-0500
TZNAME:EST
DTSTART:20241103T060000
END:STANDARD
END:VTIMEZONE
BEGIN:VEVENT
DTSTART;TZID=America/New_York:20230819T100000
DTEND;TZID=America/New_York:20230819T120000
DTSTAMP:20260425T163051
CREATED:20230104T001328Z
LAST-MODIFIED:20230104T001328Z
UID:6716-1692439200-1692446400@gasocietysar.org
SUMMARY:Battle of Blue Licks (KY)
DESCRIPTION:241st Anniversary of the Battle of Blue Licks \nKentucky Society \nA National SAR event in KY \nThere will be a reception the evening before on 19 August at the Lodge in the state park. The time has not been set for this. \nAUGUST 19\, 2023 – SATURDAY – 19th Annual Battle of Blue Licks Memorial Service\nLocation: Blue Licks Battlefield State Park\, 10299 Maysville Rd.\, Carlisle\, KY\nTime: 10:00 a.m. (color guard muster at 9:00 a.m.) \nKYSSAR Summer Meeting & Luncheon\nLocation: Blue Licks Battlefield State Park\, 10299 Maysville Rd.\, Carlisle\, KY\nTime: 1:00 p.m. – 3:30 p.m. \nContact Scott Giltner to register \nstgilt@earthlink.net \n 
URL:https://gasocietysar.org/event/battle-of-blue-licks-ky/
LOCATION:GA
CATEGORIES:National Events
END:VEVENT
END:VCALENDAR