BEGIN:VCALENDAR
VERSION:2.0
PRODID:-//Georgia Society, Sons of the American Revolution - ECPv6.15.20//NONSGML v1.0//EN
CALSCALE:GREGORIAN
METHOD:PUBLISH
X-WR-CALNAME:Georgia Society, Sons of the American Revolution
X-ORIGINAL-URL:https://gasocietysar.org
X-WR-CALDESC:Events for Georgia Society, Sons of the American Revolution
REFRESH-INTERVAL;VALUE=DURATION:PT1H
X-Robots-Tag:noindex
X-PUBLISHED-TTL:PT1H
BEGIN:VTIMEZONE
TZID:America/New_York
BEGIN:DAYLIGHT
TZOFFSETFROM:-0500
TZOFFSETTO:-0400
TZNAME:EDT
DTSTART:20220313T070000
END:DAYLIGHT
BEGIN:STANDARD
TZOFFSETFROM:-0400
TZOFFSETTO:-0500
TZNAME:EST
DTSTART:20221106T060000
END:STANDARD
BEGIN:DAYLIGHT
TZOFFSETFROM:-0500
TZOFFSETTO:-0400
TZNAME:EDT
DTSTART:20230312T070000
END:DAYLIGHT
BEGIN:STANDARD
TZOFFSETFROM:-0400
TZOFFSETTO:-0500
TZNAME:EST
DTSTART:20231105T060000
END:STANDARD
BEGIN:DAYLIGHT
TZOFFSETFROM:-0500
TZOFFSETTO:-0400
TZNAME:EDT
DTSTART:20240310T070000
END:DAYLIGHT
BEGIN:STANDARD
TZOFFSETFROM:-0400
TZOFFSETTO:-0500
TZNAME:EST
DTSTART:20241103T060000
END:STANDARD
END:VTIMEZONE
BEGIN:VEVENT
DTSTART;TZID=America/New_York:20230909T080000
DTEND;TZID=America/New_York:20230909T150000
DTSTAMP:20260425T150726
CREATED:20230103T235014Z
LAST-MODIFIED:20230619T215628Z
UID:6702-1694246400-1694271600@gasocietysar.org
SUMMARY:Battle of Eutaw Springs (SC)
DESCRIPTION:Battle of Eutaw Springs – Details to be announced \nA national event in SC.  ***Event is normally the first weekend in September but this year will be held on the battle anniversary date.*** \nThis year the Commemoration will be on Friday and Saturday\, September 8th and 9th. \nA dinner/program at Clark’s Restaurant in Santee\, S.C. is planned for Friday night\, September 8\, 2023 \nA patriotic service in the Historic Church of the Epiphany in Eutawville will be held on Saturday morning\, September 8\, 2023\, at 10:00. \nA wreath laying ceremony at the battle monument site in Eutaw Springs will follow this service. \n  \nAfter lunch an honor guard ceremony will be held at General Francis Marion’s tomb site near Pineville\, S.C.
URL:https://gasocietysar.org/event/interment-of-14-patriot-soldiers-on-the-camden-battlefield-in-camden-sc-details-to-be-announced-2/
LOCATION:GA
CATEGORIES:GASSAR Color Guard,National Events
END:VEVENT
BEGIN:VEVENT
DTSTART;TZID=America/New_York:20230909T100000
DTEND;TZID=America/New_York:20230909T123000
DTSTAMP:20260425T150726
CREATED:20230104T002534Z
LAST-MODIFIED:20230104T002534Z
UID:6723-1694253600-1694262600@gasocietysar.org
SUMMARY:The Gathering at Sycamore Shoals (TN)
DESCRIPTION:The Gathering at Sycamore Shoals \nA National SAR event in TN \nThe Gathering at Sycamore Shoals celebrates the 243rd Anniversary of the Overmountain Men mustering for their march across the mountains to meet and defeat the large Tory army led by Maj. Patrick Ferguson at the Battle of Kings Mountain.  The celebration takes place at the Sycamore Shoals State Park in Elizabethton\, TN on Saturday\, September 9\, 2023\, at 10:00 AM. \nThis is a National SAR Color Guard Event with wreath presentations and musket volleys.
URL:https://gasocietysar.org/event/the-gathering-at-sycamore-shoals-tn/
LOCATION:GA
CATEGORIES:National Events
END:VEVENT
BEGIN:VEVENT
DTSTART;TZID=America/New_York:20230916T083000
DTEND;TZID=America/New_York:20230916T163000
DTSTAMP:20260425T150726
CREATED:20230104T002850Z
LAST-MODIFIED:20230104T002850Z
UID:6725-1694853000-1694881800@gasocietysar.org
SUMMARY:Vigil at George Washington’s Tomb (VA)
DESCRIPTION:Vigil at George Washington’s Tomb \nA National SAR event in VA \nDate appears to be September 16\, 2023\, at \nMount Vernon\,  3200 Mount Vernon Memorial Highway\, Mount Vernon\, VZ   22121 \nMarch to the Tomb is at 8:30 AM with tomb shifts every 15 minutes beginning at 9:00 AM.  Closing ceremony and march back to the Mansion begins at 4:00 PM. \nDetails and electronic signup will be announced at a latter date. \n  \nNSSAR Guardsmen\, The National Color Guard staff cordially invites you to honor our patriot commander and join us at Mt Vernon for the annual George Washington Tomb Vigil of Saturday September 17th. \nThere are several hotels close to Mount Vernon \nHampton Inn & Suites – Fort Belvoir Alexandria South \nCandlewood Suites – Alexandria – Fort Belvoir\, an IHG Hotel \nBest Wester Plus – Mount Vernon/Fort Belvoir \n  \nWe have again been given permission to bring our weapons\, under the following stipulations: \n\nCommanders may wear their swords\, all blunted edged and only removed from their sheaths when marching the guard.\nNo other knives will be allowed.\nMuskets may be carried by the guard as they march and stand guard at the tomb.\nNo powder\, ball or bayonets are to be brought onto the property.\nThere will be a safety check preformed in the parking lot before any guardsmen can move any further on the property.\nAll muskets must always be in the control of guardsmen and all additional national weapons safety rules are to be followed.\n\nDue to the steepness of the hill from the Estate to the tomb please consider your ability to traverse a 800 foot 4 percent grade before signing up. \n 
URL:https://gasocietysar.org/event/vigil-at-george-washingtons-tomb-va/
LOCATION:GA
CATEGORIES:Historic Sites & Celebrations,National Events
END:VEVENT
BEGIN:VEVENT
DTSTART;TZID=America/New_York:20230922T080000
DTEND;TZID=America/New_York:20230922T170000
DTSTAMP:20260425T150726
CREATED:20230104T003405Z
LAST-MODIFIED:20230104T003405Z
UID:6729-1695369600-1695402000@gasocietysar.org
SUMMARY:National SAR Fall Leadership (KY)
DESCRIPTION:National SAR Fall Leadership (KY) \nBrown Hotel in Louisville\, KY \n09-22-2023 – Friday – National SAR Committee Meetings\, etc. \n09-22-2023 – Friday – Evening Banquet – Color Guard presents colors \nGo to www.sar.org to register
URL:https://gasocietysar.org/event/national-sar-fall-leadership-ky/
LOCATION:GA
CATEGORIES:GASSAR Color Guard,National Events,NSSAR Meetings
END:VEVENT
BEGIN:VEVENT
DTSTART;TZID=America/New_York:20230923T080000
DTEND;TZID=America/New_York:20230923T170000
DTSTAMP:20260425T150726
CREATED:20230104T003539Z
LAST-MODIFIED:20230104T003539Z
UID:6731-1695456000-1695488400@gasocietysar.org
SUMMARY:National SAR Fall Leadership (KY)
DESCRIPTION:National SAR Fall Leadership \nBrown Hotel in Louisville\, KY \n09-23-2024 – Saturday – Donors Breakfast\, Trustee’s meeting\, etc. \n09-23-2024 – Saturday – Evening Banquet – Color Guard retires colors \nGo to www.sar.org to register
URL:https://gasocietysar.org/event/national-sar-fall-leadership-ky-2/
LOCATION:GA
CATEGORIES:GASSAR Color Guard,National Events,NSSAR Meetings
END:VEVENT
END:VCALENDAR