BEGIN:VCALENDAR
VERSION:2.0
PRODID:-//Georgia Society, Sons of the American Revolution - ECPv6.15.20//NONSGML v1.0//EN
CALSCALE:GREGORIAN
METHOD:PUBLISH
X-WR-CALNAME:Georgia Society, Sons of the American Revolution
X-ORIGINAL-URL:https://gasocietysar.org
X-WR-CALDESC:Events for Georgia Society, Sons of the American Revolution
REFRESH-INTERVAL;VALUE=DURATION:PT1H
X-Robots-Tag:noindex
X-PUBLISHED-TTL:PT1H
BEGIN:VTIMEZONE
TZID:America/New_York
BEGIN:DAYLIGHT
TZOFFSETFROM:-0500
TZOFFSETTO:-0400
TZNAME:EDT
DTSTART:20220313T070000
END:DAYLIGHT
BEGIN:STANDARD
TZOFFSETFROM:-0400
TZOFFSETTO:-0500
TZNAME:EST
DTSTART:20221106T060000
END:STANDARD
BEGIN:DAYLIGHT
TZOFFSETFROM:-0500
TZOFFSETTO:-0400
TZNAME:EDT
DTSTART:20230312T070000
END:DAYLIGHT
BEGIN:STANDARD
TZOFFSETFROM:-0400
TZOFFSETTO:-0500
TZNAME:EST
DTSTART:20231105T060000
END:STANDARD
BEGIN:DAYLIGHT
TZOFFSETFROM:-0500
TZOFFSETTO:-0400
TZNAME:EDT
DTSTART:20240310T070000
END:DAYLIGHT
BEGIN:STANDARD
TZOFFSETFROM:-0400
TZOFFSETTO:-0500
TZNAME:EST
DTSTART:20241103T060000
END:STANDARD
END:VTIMEZONE
BEGIN:VEVENT
DTSTART;TZID=America/New_York:20231006T100000
DTEND;TZID=America/New_York:20231006T210000
DTSTAMP:20260425T120442
CREATED:20230711T174717Z
LAST-MODIFIED:20231003T144825Z
UID:7001-1696586400-1696626000@gasocietysar.org
SUMMARY:South Atlantic District meeting - 2:00 PM - TIME and LOCATION CHANGE
DESCRIPTION:The South Atlantic District meeting is being planned to be held in Gaffney\, SC on Friday. October 6\, 2023 at 2:00 PM. – 210 W Frederick Street\, Gaffney\, SC \nFriday\, October 6th: \n10:00   Thicketty Fort visit – A map has been provided; however\, anyone wishing to ride in the van\, should meet at the Gaffney Visitors Center (210 W. Frederick Street).  The van will DEPART at 9:30 a.m. \n12:00   Lunch and South Atlantic District National Society SAR – Gaffney Visitors Center\, Rev War Exhibition Hall\, 210 W. Frederick Street.  During lunch\, there will be a presentation of Carolina Rising\, A Revolutionary Experience\, followed by the South Atlantic District SAR meeting. – Box lunch $10.00 \n2:00      South Atlantic District Meeting – Zoom link. \nhttps://us06web.zoom.us/j/86301821252?pwd=CaH6FaXH35g9MKWIi1jTQYiPr3fH2H.1 \nMeeting ID: 863 0182 1252    Passcode: 118956 \n4:00      NPS Trail Dedication at Cherokee Ford on the Broad River – A map has been provided; however\, anyone wishing to ride in the van\, should meet at the Gaffney Visitors Center (210 W. Frederick Street).  The van will DEPART at 3:30 p.m. \n6:00      Night Before Kings Mountain at Cowpens National Battleground \n7:30      Fellowship – Evening with OVTA at Cherokee County History Museum\, 301 College Drive\, Gaffney\, SC.  The City of Gaffney will provide pizza for OVTA and SAR members. \n 
URL:https://gasocietysar.org/event/south-atlantic-district-meeting-tba/
LOCATION:GA
CATEGORIES:National Events
END:VEVENT
BEGIN:VEVENT
DTSTART;TZID=America/New_York:20231007T110000
DTEND;TZID=America/New_York:20231007T120000
DTSTAMP:20260425T120442
CREATED:20230104T141924Z
LAST-MODIFIED:20231001T202424Z
UID:6739-1696676400-1696680000@gasocietysar.org
SUMMARY:Battle of King’s Mountain (SC) - UPDATED INFO
DESCRIPTION:Battle of King’s Mountain – 243th Anniversary \nDATE/TIME: October 07\, 2023 / SATURDAY – 11:00 AM – 12:00 PM \nLOCATION: Kings Mountain National Battlefield Park\, 2625 Park Road\, Blacksburg\, SC \nTHE NATIONAL SOCIETY SAR\, THE DANIEL MORGAN CHAPTER\, SOUTH CAROLINA SAR\, AND THE BATTLE OF KINGS MOUNTAIN CHAPTER\, NORTH CAROLINA SAR INVITES EVERYONE TO ATTEND \nSAR\, DAR\, C.A.R. and other patriotic and lineage societies & chapters are invited to participate in a formal wreath laying ceremony at the United States’ Monument.  Participants presenting a wreath must deliver it to the park’s Visitor Center no later than 9:45 am on October 7th for labeling and transportation to the monument.  Transportation will be provided for those needing assistance to the monument – Please note that parking is at the Kings Mountain State Park with shuttles transporting to the National Park.  You will need to plan PLENTY of time to arrive. \nWreath Registration can be sent to: \nGrantham Wood \nwm.granthamwood “at” yahoo “dot” com \nPlease provide:  Presenter Name\, Title\, Organization Represented.  No later than Saturday\, September 30th for the registration to be included in the Scroll of Honor which will be presented on-screen at the Kings Mountain Visitor’s Center during the day. During the ceremony only one wreath will be brought forward and presented. \n  \nThe South Atlantic District meeting is being planned to be held in Gaffney\, SC on Friday. October 6\, 2023 at 2:00 PM at the Gaffney Visitors Center\, Rev War Exhibition Hall\, 210 W. Frederick Street – PLEASE NOTE TIME CHANGE AND LOCATION CHANGE. \nThe Sleep Inn at 834 Windslow Ave\, Gaffney\, SC 29341 is the official hotel for the Kings Mountain anniversary. Reservations can be made directly by calling the hotel at 864-487-5337. Additional hotels are available in Gaffney\, SC\, Gastonia\, NC or Kings Mountain\, NC. \nIF NEEDED:\nGovernment Shut-Down/Parks are Closed – with wonderful weather. \nLocation will be Jolly Park Amphitheater\, 102 Railroad Avenue\, Gaffney\, SC \n11:00   Anniversary Program \n11:30   Keeping the Story Alive by the Overmountain Victory National Historic Trail \n12:00   Overmountain Men march to Col. James Williams (Brigadier General) Grave (210 N. Limestone Street\, Gaffney\, SC) for City of Gaffney wreath laying. \n  \nGovernment Shut-Down/Parks are Closed – INCLEMENT weather. \nLocation will be Gaffney High School Auditorium\, 149 Twin Lakes Road\, Gaffney\, SC \n11:00   Anniversary Program \n11:30   Keeping the Story Alive by the Overmountain Victory National Historic Trail \n12:30   City of Gaffney wreath laying at Col. James Williams (Brigadier General) Grave (210 N. Limestone Street\, Gaffney\, SC) \n  \n 
URL:https://gasocietysar.org/event/battle-of-kings-mountain-sc/
LOCATION:Kings Mountain National Military Park\, 2625 Park Road\, Blacksburg\, SC\, 29702\, United States
CATEGORIES:GASSAR Color Guard,Historic Sites & Celebrations,National Events
END:VEVENT
BEGIN:VEVENT
DTSTART;TZID=America/New_York:20231019T070000
DTEND;TZID=America/New_York:20231019T120000
DTSTAMP:20260425T120442
CREATED:20230104T142344Z
LAST-MODIFIED:20230901T193248Z
UID:6743-1697698800-1697716800@gasocietysar.org
SUMMARY:Victory at Yorktown (VA)
DESCRIPTION:Victory at Yorktown – A National Society SAR event in VA. \nOctober 19th\, 2023\, Thursday (9:15 am) – Wreath Laying at the tomb of Thomas Nelson Jr.\, Yorktown\, VA\n​Event Level: National\nHost/POC: Thomas Nelson Jr Chapter VASSAR / Gary Hodges.\n​Location:  Grace Episcopal Church\, Yorktown\, VA.\nFiring Event: No\nNational Color Guard Commander: Collins.\nState Color Guard Commander: Melhuish.\nHonor Guard Commander: Corey.\nDetails:  on-line registration for this event is now open.  https://www.virginiasar.org/index.php?option=com_mcform&view=ngforms&id=2177442Layout and Color / Honor Guard movements may be reviewed by clicking this link: Thomas Nelson Playbook \n  \nOctober 19th\, 2023\, Thursday (10:30 am) – Battle of Yorktown Victory Parade\, Yorktown\, VA\n​Event Level: National\nHost/POC: Thomas Nelson Jr Chapter VASSAR / Gary Hodges.\nLocation:  Yorktown\, VA.\nFiring Event: No\nNational Color Guard Commander:  Collins.\nState Color Guard Commander: Melhuish.\nHonor Guard Commander: Corey.\nDetails:  The Siege of Yorktown\, also known as the Battle of Yorktown\, the surrender at Yorktown\, or the German Battle\, ending on October 19\, 1781\, at Yorktown\, Virginia\, was a decisive victory by a combined force of the American Continental Army troops led by General George Washington and French Army troops led by the Comte de Rochambeau over a British army commanded by British peer and Lieutenant General Charles Cornwallis. The culmination of the Yorktown campaign\, the siege proved to be the last major land battle of the American Revolutionary War in the North American region\, as the surrender by Cornwallis\, and the capture of both him and his army\, prompted the British government to negotiate an end to the conflict.\nParade formation may be viewed here (click on link): Yorktown SAR Formation\nYorktown Day invitation and RSVP form:  Click here: Invitation and RSVP \nYorktown Day Celebration\nThursday\, October 19\, 2023 \n8:30 a.m. – Commemorative Ceremony at the French Cemetery\, Yorktown Battlefield\, sponsored by The American Friends of Lafayette and The Friends of Rochambeau. \n9:10 a.m. – Wreath-Laying Ceremony at the grave of Governor Thomas Nelson\, Jr.\, at Grace Episcopal Church\, Yorktown\, sponsored by the Virginia Society\, Sons of the American Revolution. \n9:10 a.m. – Commemorative Ceremony at the French Memorial honoring \n10:30 a.m. – Yorktown Day Parade\, Main Street\, sponsored by the National Park Service \n11:15 a.m. – Patriotic Exercises and Memorial Wreath-Laying Ceremony at the Monument to Alliance and Victory\, Yorktown. \nAdditional Activities\nVisit the Town of York\, the National Park Service Yorktown Battlefield Visitor Center and Battlefield Tours\, the Nelson House\, the Custom House\, the Watermen’s Museum\, the Gallery at York Hall\, the York County Historical Museum\, and the American Revolution Museum at Yorktown. On the Battlefield Tour Roads\, visit the siege lines\, the redoubts\, and Surrender Field.\nEvent sponsored by Colonial National Historical Park and the Yorktown Day Association. the French and American Alliance\, sponsored by the French Wars Veterans Association in Washington\, DC.
URL:https://gasocietysar.org/event/victory-at-yorktown-va/
LOCATION:Grace Episcopal Church\, 111 Church St\, Yorktown\, VA\, 23690\, United States
CATEGORIES:GASSAR Color Guard,Historic Sites & Celebrations,National Events
END:VEVENT
END:VCALENDAR