BEGIN:VCALENDAR
VERSION:2.0
PRODID:-//Georgia Society, Sons of the American Revolution - ECPv6.15.20//NONSGML v1.0//EN
CALSCALE:GREGORIAN
METHOD:PUBLISH
X-WR-CALNAME:Georgia Society, Sons of the American Revolution
X-ORIGINAL-URL:https://gasocietysar.org
X-WR-CALDESC:Events for Georgia Society, Sons of the American Revolution
REFRESH-INTERVAL;VALUE=DURATION:PT1H
X-Robots-Tag:noindex
X-PUBLISHED-TTL:PT1H
BEGIN:VTIMEZONE
TZID:America/New_York
BEGIN:DAYLIGHT
TZOFFSETFROM:-0500
TZOFFSETTO:-0400
TZNAME:EDT
DTSTART:20230312T070000
END:DAYLIGHT
BEGIN:STANDARD
TZOFFSETFROM:-0400
TZOFFSETTO:-0500
TZNAME:EST
DTSTART:20231105T060000
END:STANDARD
BEGIN:DAYLIGHT
TZOFFSETFROM:-0500
TZOFFSETTO:-0400
TZNAME:EDT
DTSTART:20240310T070000
END:DAYLIGHT
BEGIN:STANDARD
TZOFFSETFROM:-0400
TZOFFSETTO:-0500
TZNAME:EST
DTSTART:20241103T060000
END:STANDARD
BEGIN:DAYLIGHT
TZOFFSETFROM:-0500
TZOFFSETTO:-0400
TZNAME:EDT
DTSTART:20250309T070000
END:DAYLIGHT
BEGIN:STANDARD
TZOFFSETFROM:-0400
TZOFFSETTO:-0500
TZNAME:EST
DTSTART:20251102T060000
END:STANDARD
END:VTIMEZONE
BEGIN:VEVENT
DTSTART;TZID=America/New_York:20240107T090000
DTEND;TZID=America/New_York:20240107T150000
DTSTAMP:20260425T065112
CREATED:20240206T222439Z
LAST-MODIFIED:20240206T222439Z
UID:7546-1704618000-1704639600@gasocietysar.org
SUMMARY:National (NJ) - Ten Crucial Days - Princeton\, NJ
DESCRIPTION:January 7\, 2024 Hereditary Organization/Military Commemorative Wreath Laying– Princeton &Assunpink Creek. 9:00 AM – 3:30 PM\n8:00 to 11:00 am“Experience the Battle of Princeton” Reenactment – Princeton Battlefield\, 500 Mercer St.\, Princeton\, NJ 08540\n11:30 to 12:15 amHereditary Organization/Military Representative Commemorative Wreath Laying\n1:00 to 2:00 pmLunch\n2:30 to 3:15 pm Hereditary Organization/Military Representative Commemorative Wreath Layingat Assunpink Creek\, Mill Hill Park\, corner of Front and Broad Streets\, Trenton\, NJ
URL:https://gasocietysar.org/event/national-nj-ten-crucial-days-princeton-nj-2/
LOCATION:GA
CATEGORIES:National Events
END:VEVENT
BEGIN:VEVENT
DTSTART;TZID=America/New_York:20240117T103000
DTEND;TZID=America/New_York:20240117T123000
DTSTAMP:20260425T065112
CREATED:20231229T224825Z
LAST-MODIFIED:20240104T224250Z
UID:7339-1705487400-1705494600@gasocietysar.org
SUMMARY:National - 243rd Anniversary - Battle of Cowpens - 10:00 AM - revised start time
DESCRIPTION:The National Society SAR\, The South Carolina Society SAR\, and The Daniel Morgan Chapter\, South Carolina SAR \nInvite you to attend a Celebration of The 243rd Anniversary of the Battle of Cowpens \nWednesday\, 17 January 2024     –    10:00 AM\nWreath Laying Ceremony\, US Monument\, National Battlefield Visitors Center \nOnly a single wreath will be presented at the Monument. \n  \nOrganizations wishing their names recognized as wreath presenters should send the \nname of the organization and presenter to jdhoyle@rocketmail.com \nThese will be compiled into a list which will be published/scrolled on the Cowpens National \nBattlefield Social Media accounts on the day of the event.  \nThe deadline for registrations is Monday\, January 1\, 2024
URL:https://gasocietysar.org/event/national-243rd-anniversary-battle-of-cowpens-1030-am/
LOCATION:Cowpens National Battlefield\, 4001 Chesnee Highway\, Gaffney\, SC\, 29341\, United States
CATEGORIES:GASSAR Color Guard,Historic Sites & Celebrations,National Events
END:VEVENT
BEGIN:VEVENT
DTSTART;TZID=America/New_York:20240127T073000
DTEND;TZID=America/New_York:20240127T110000
DTSTAMP:20260425T065112
CREATED:20240206T223550Z
LAST-MODIFIED:20240206T223550Z
UID:7548-1706340600-1706353200@gasocietysar.org
SUMMARY:National (SC) - Battle of Cowan's Ford
DESCRIPTION:DATE/TIME: \nJanuary 27\, 2024 / 7:30 AM – 11:00 AM\n\nORGANIZED BY:Mecklenburg Chapter SAR\nLOCATION: \n\nHopewell Presbyterian Church\n\n10500 Beatties Ford Road\, Huntersville\, NC\, United States\n\n\n\n\n\n\n\n\n\n\n\n243RD COMMEMORATION OF THE BATTLE OF COWAN’S FORD\nJANUARY 27\, 2024\nSchedule of Events: \n\nBreakfast: 7:30am\nCommemoration: 9:00am\nState Board of Managers Meeting: 12:00pm
URL:https://gasocietysar.org/event/national-sc-battle-of-cowans-ford/
LOCATION:GA
CATEGORIES:National Events
END:VEVENT
END:VCALENDAR