BEGIN:VCALENDAR
VERSION:2.0
PRODID:-//Georgia Society, Sons of the American Revolution - ECPv6.15.20//NONSGML v1.0//EN
CALSCALE:GREGORIAN
METHOD:PUBLISH
X-WR-CALNAME:Georgia Society, Sons of the American Revolution
X-ORIGINAL-URL:https://gasocietysar.org
X-WR-CALDESC:Events for Georgia Society, Sons of the American Revolution
REFRESH-INTERVAL;VALUE=DURATION:PT1H
X-Robots-Tag:noindex
X-PUBLISHED-TTL:PT1H
BEGIN:VTIMEZONE
TZID:America/New_York
BEGIN:DAYLIGHT
TZOFFSETFROM:-0500
TZOFFSETTO:-0400
TZNAME:EDT
DTSTART:20230312T070000
END:DAYLIGHT
BEGIN:STANDARD
TZOFFSETFROM:-0400
TZOFFSETTO:-0500
TZNAME:EST
DTSTART:20231105T060000
END:STANDARD
BEGIN:DAYLIGHT
TZOFFSETFROM:-0500
TZOFFSETTO:-0400
TZNAME:EDT
DTSTART:20240310T070000
END:DAYLIGHT
BEGIN:STANDARD
TZOFFSETFROM:-0400
TZOFFSETTO:-0500
TZNAME:EST
DTSTART:20241103T060000
END:STANDARD
BEGIN:DAYLIGHT
TZOFFSETFROM:-0500
TZOFFSETTO:-0400
TZNAME:EDT
DTSTART:20250309T070000
END:DAYLIGHT
BEGIN:STANDARD
TZOFFSETFROM:-0400
TZOFFSETTO:-0500
TZNAME:EST
DTSTART:20251102T060000
END:STANDARD
END:VTIMEZONE
BEGIN:VEVENT
DTSTART;TZID=America/New_York:20240817T100000
DTEND;TZID=America/New_York:20240817T120000
DTSTAMP:20260424T213757
CREATED:20240206T200457Z
LAST-MODIFIED:20240206T200457Z
UID:7502-1723888800-1723896000@gasocietysar.org
SUMMARY:National (KY) - Battle of Blue Licks Memorial Service
DESCRIPTION:The Gov. Isaac Shelby Chapter Kentucky Society Sons of the American Revolution invites you to attend the Memorial Service for the 242nd Anniversary of the Battle of Blue Licks\nTIME: Saturday\, 17 August\, 2024 @ 10 a.m. EDT\nLOCATION: Blue Licks Battlefield State Park\, 10299 Maysville Road\, Carlisle\, KY \n(Color Guard muster at 9:00 a.m.)\nContact Scott Giltner – stgilt@earthlink.net to register. \nThis event normally has a five patriot grave marking ceremony included in it. \nJoin us in this National Color Guard event by presenting a wreath\, carrying your state flag or participating in the flintlock gun salute.
URL:https://gasocietysar.org/event/national-ky-battle-of-blue-licks-memorial-service/
LOCATION:GA
CATEGORIES:Grave Dedication,National Events
END:VEVENT
BEGIN:VEVENT
DTSTART;TZID=America/New_York:20240831T100000
DTEND;TZID=America/New_York:20240831T150000
DTSTAMP:20260424T213757
CREATED:20240520T153628Z
LAST-MODIFIED:20240826T192032Z
UID:7778-1725098400-1725116400@gasocietysar.org
SUMMARY:National (SC) - Eutaw Springs Commemoration
DESCRIPTION:243rd Anniversary Commemoration of the Battle of Eutaw Springs on Friday and Saturday\, August 30th and 31st\, 2024 \nSaturday\, August 31\, 2024 \n10:00 AM – Patriotic Program\, Historic Church of the Epiphany\, Eutawville\, SC – 101 Porcher Avenue\, Eutawville\, SC – Speaker – Rick Wise\, Interim Director\, Suth Carolina Battleground Preservation Trust \n11:15 AM – Wreath laying Ceremony\, Battle Monument Park\, Eutaw Springs\, SC \n12:15 PM – Lunch\, Sweatman’s BBQ\, Eutawville\, SC \n2:15 PM – Honor Wreath ceremony\, General Francis Marion’s Tomb\, Pineville\, SC \nWashington Light Infantry SC Battleground Preservation Trust Cannon Team at Battle Monument Park \nQuestions contact Douglas Doster at: \ndosterdouglas “at” gmail “dot’ com \n803-456-5015 \n  \nWreath Registration due to Doug Doster by August 25 to receive a ribbon: \nOrganization/ Chapter and State\, Name and Title of Presenter)s)\, Contact Information – Phone and email.
URL:https://gasocietysar.org/event/eutwaw-springs-sc-national-sar-commemoration/
LOCATION:Church of the Epiphany\, 101 Porcher Avenue\, Eutawville\, SC\, 29048\, United States
CATEGORIES:National Events
END:VEVENT
END:VCALENDAR