BEGIN:VCALENDAR
VERSION:2.0
PRODID:-//Georgia Society, Sons of the American Revolution - ECPv6.15.20//NONSGML v1.0//EN
CALSCALE:GREGORIAN
METHOD:PUBLISH
X-ORIGINAL-URL:https://gasocietysar.org
X-WR-CALDESC:Events for Georgia Society, Sons of the American Revolution
REFRESH-INTERVAL;VALUE=DURATION:PT1H
X-Robots-Tag:noindex
X-PUBLISHED-TTL:PT1H
BEGIN:VTIMEZONE
TZID:America/New_York
BEGIN:DAYLIGHT
TZOFFSETFROM:-0500
TZOFFSETTO:-0400
TZNAME:EDT
DTSTART:20230312T070000
END:DAYLIGHT
BEGIN:STANDARD
TZOFFSETFROM:-0400
TZOFFSETTO:-0500
TZNAME:EST
DTSTART:20231105T060000
END:STANDARD
BEGIN:DAYLIGHT
TZOFFSETFROM:-0500
TZOFFSETTO:-0400
TZNAME:EDT
DTSTART:20240310T070000
END:DAYLIGHT
BEGIN:STANDARD
TZOFFSETFROM:-0400
TZOFFSETTO:-0500
TZNAME:EST
DTSTART:20241103T060000
END:STANDARD
BEGIN:DAYLIGHT
TZOFFSETFROM:-0500
TZOFFSETTO:-0400
TZNAME:EDT
DTSTART:20250309T070000
END:DAYLIGHT
BEGIN:STANDARD
TZOFFSETFROM:-0400
TZOFFSETTO:-0500
TZNAME:EST
DTSTART:20251102T060000
END:STANDARD
END:VTIMEZONE
BEGIN:VEVENT
DTSTART;TZID=America/New_York:20241006T100000
DTEND;TZID=America/New_York:20241006T120000
DTSTAMP:20260424T161551
CREATED:20240909T151550Z
LAST-MODIFIED:20241003T015628Z
UID:8075-1728208800-1728216000@gasocietysar.org
SUMMARY:POSTPONED - National (KY) - Compatriot Grave Marking and two Patriot Grave markings
DESCRIPTION:POSTPONED\n\nCompatriot Major General Joseph Cabell Breckinridge\, Sr (President General 1900-1901) and \nPatriots John Breckinridge (P-120374) and Lettice/Letitia Preston Breckinridge (P-347997)\nLexington Cemetery\, 833 W Main Street\, Lexington\, KY 40508 \nMuster 9:00 AM – Service 10:00 AM \nPresident General Addington will be present so this will be considered a National Society SAR event.
URL:https://gasocietysar.org/event/compatriot-grave-marking-service-of-pg-major-general-joseph-cabell-breckinridge-sr/
LOCATION:Lexington Cemetery\, 833 W Main Street\, Lexington\, KY\, 40508\, United States
CATEGORIES:Grave Dedication,National Events
END:VEVENT
BEGIN:VEVENT
DTSTART;TZID=America/New_York:20241007T110000
DTEND;TZID=America/New_York:20241007T130000
DTSTAMP:20260424T161551
CREATED:20240206T211451Z
LAST-MODIFIED:20241003T015743Z
UID:7531-1728298800-1728306000@gasocietysar.org
SUMMARY:CANCELLED - National (NC/SC) - Battle of Kings Mountain
DESCRIPTION:CANCELLED\n\nBattle of King’s Mountain\n\nOctober 7\, 2024 @ 11:00 am – 12:00 pm\n\n\n\nBattle of King’s Mountain – 244th Anniversary \nDATE/TIME: October 07\, 2024 / MONDAY – 11:00 AM – 12:00 PM \nLOCATION: Kings Mountain National Battlefield Park\, 2625 Park Road\, Blacksburg\, SC \nCOLOR GUARD ASSEMBLE AT THE MONUMENT BY 10:00 AM \n\n\nKeynote Speaker: Randall Jones\, Historian and Author \nSAR\, DAR\, C.A.R. and other patriotic and lineage societies & chapters are invited to participate in a formal wreath laying ceremony at the United States’ Monument.  Participants presenting a wreath must deliver it to the park’s Visitor Center no later than 9:45 am on October 7th for labeling and transportation to the monument.  Transportation will be provided for those needing assistance to the monument – Please note that parking is at the Kings Mountain State Park with shuttles transporting to the National Park.  You will need to plan PLENTY of time to arrive. \nHosted by the Mecklenburg Chapter of the North Carolina Society Sons of the American Revolution. \nWREATH REGRISTRATION: Please send wreath registration information to: \nyankeedoodlesteve@gmail.com \nYou name will be placed on a PowerPoint that will be viewable at the Visitor’s Center.  Wreaths will be positioned at the monument but only a select few will be presented during the rendering honors portion of the program. \n************** \nThe South Atlantic District meeting will be held in Gaffney\, SC at 2:00 PM.  Please see next event on this calendar.
URL:https://gasocietysar.org/event/national-nc-sc-battle-of-kings-mountain/
LOCATION:GA
CATEGORIES:GASSAR Color Guard,National Events
END:VEVENT
BEGIN:VEVENT
DTSTART;TZID=America/New_York:20241010T080000
DTEND;TZID=America/New_York:20241010T170000
DTSTAMP:20260424T161551
CREATED:20240206T205009Z
LAST-MODIFIED:20240206T205225Z
UID:7520-1728547200-1728579600@gasocietysar.org
SUMMARY:National (WV) - 250th Commemoration of the Battle of Point Pleasant
DESCRIPTION:A memorial service for the 250th anniversary of the Battle of Point Pleasant will be held on Thursday\, October 10\, 2024.  For those of you who have been there before\, this is a change from the usual practice of having the memorial on Sunday so that it will occur on the actual date of the battle.  The service will be held at Tu-Endie-Wei State Park\, Pt. Pleasant\, WV.  Further detail will be provided as they become available. \nRespectfully\, \nJohn Turley \nVPG Central District 2022-2023 \nPresident WVSSAR 2020-2022
URL:https://gasocietysar.org/event/national-wv-250th-commemoration-of-the-battle-of-point-pleasant/
LOCATION:Tu-Endie-Wei State Park\, 1 Main Street\, Point Pleasant\, WV\, 25550\, United States
CATEGORIES:National Events
END:VEVENT
BEGIN:VEVENT
DTSTART;TZID=America/New_York:20241012T100000
DTEND;TZID=America/New_York:20241012T120000
DTSTAMP:20260424T161551
CREATED:20240206T220920Z
LAST-MODIFIED:20240206T220920Z
UID:7542-1728727200-1728734400@gasocietysar.org
SUMMARY:National (NJ) - Battle of Chestnut Neck Memorial Service
DESCRIPTION:Battle of Chestnut Neck Memorial Service \n\nSaturday\, October 12\, 2024\n10:00 AM  11:00 AM\n\n\nChestnut Neck Battle Monument717 Old New York RoadPort Republic\, NJ\, 08241United States (map)\n\nCommemoration and memorial service for the 1778 Battle of Chestnut Neck. For more information about the battle\, click here. This annual National SAR Color Guard event is hosted by the Somers Chapter. \nFollowing the 10am service\, we will move to Port Republic grave marking ceremony in Port Republic which is about 5 minutes away. \n\n\n1130am for the Micajah Smith grave marking (Patriot Ancestor of South Jersey Chapter member Kenneth McGill.) \n\n\nPort Republic City Hall will be open for light refreshments following the ceremony. \n\n\nAttending: Serfass\, McGill\, Williams\, Magnum
URL:https://gasocietysar.org/event/national-nj-battle-of-chestnut-neck-memorial-service/
LOCATION:GA
CATEGORIES:National Events
END:VEVENT
BEGIN:VEVENT
DTSTART;TZID=America/New_York:20241012T100000
DTEND;TZID=America/New_York:20241012T200000
DTSTAMP:20260424T161551
CREATED:20240826T142927Z
LAST-MODIFIED:20240906T183024Z
UID:8032-1728727200-1728763200@gasocietysar.org
SUMMARY:National (PA) - First Continental Congress SAR National 250th Event
DESCRIPTION:The SAR National 250th Commemoration of the First Continental Congress in Philadelphia\, PA\, hosted by the Pennsylvania SAR and the Philadelphia Continental Chapter on Saturday\, 12 October 2024 \n10am Harriton House Tour\, Charles Thomson Home – 500 Harriton Road\, Bryn Mawr\, PA \n1-2pm Charles Thomson Grave Marking – Secretary of the Continental Congress – Laurel Hill East Cemetery\, Philadelphia \n4-5pm Carpenters’ Hall\, 250th Ceremony – 320 Chestnut Street\, Philadelphia \n5-6pm Carpenters’ Hall Private Tour  \n6-8pm SAR Dinner\, Glory Beer Bar & Kitchen – 126 Chestnut St\, Philadelphia \nHosted by the Pennsylvania SAR and the Philadelphia Continental Chapter \nEvent Registration: You may register for the 250th events at the following link: https://forms.gle/5Het77H2u7okx4ys7    The registration deadline is September 30th. \nThe first event will take place at 1:00 pm at Laurel Hill East Cemetery in Philadelphia\, where we will conduct a Patriot grave marking for Charles Thomson\, Secretary of the Continental Congress. \nThe SAR 250th Commemoration of the First Continental Congress will take place at 4:00 pm at Carpenters’ Hall\, the location where the First Continental Congress met from September 5 to October 26\, 1774\, and the Continental Association was adopted October 20th \nThe 250th Commemoration will be followed by a private SAR tour of Carpenters’ Hall from 5:00 pm to 6:00 pm \nThe day will conclude with an SAR Dinner at Glory Beer Bar & Kitchen beginning at 6:00 pm. \n*********** \nHotel: The hotel room block rate is $229 per night from Oct 11-13 (Friday and Saturday night). Reservations must be made no later than Friday\, September 13\, at 5pm. The hotel reservation link is located at Sons of American Revolution
URL:https://gasocietysar.org/event/national-pa-first-continental-congress-sar-national-250th-event/
LOCATION:GA
CATEGORIES:Historic Sites & Celebrations,National Events
END:VEVENT
BEGIN:VEVENT
DTSTART;TZID=America/New_York:20241019T080000
DTEND;TZID=America/New_York:20241019T100000
DTSTAMP:20260424T161551
CREATED:20240206T235642Z
LAST-MODIFIED:20240206T235642Z
UID:7572-1729324800-1729332000@gasocietysar.org
SUMMARY:National (VA) - Wreath Laying at the tomb of Thomas Nelson\, Jr - Yorktown\, VA
DESCRIPTION:October 19th\, 2024\, Saturday (9:15 am) – Wreath Laying at the tomb of Thomas Nelson Jr.\, Yorktown\, VA\nEvent Level: National\nHost/POC: Thomas Nelson Jr Chapter VASSAR / Gary Hodges.\nLocation:  Grace Episcopal Church\, Yorktown\, VA.\nFiring Event: No \nDetails:  Muster no later than 8:15 due to complex lay-out.  Event Playbook link here: Thomas Nelson Playbook
URL:https://gasocietysar.org/event/national-va-wreath-laying-at-the-tomb-of-thomas-nelson-jr-yorktown-va/
LOCATION:Grace Episcopal Church\, 111 Church St\, Yorktown\, VA\, 23690\, United States
CATEGORIES:National Events
END:VEVENT
BEGIN:VEVENT
DTSTART;TZID=America/New_York:20241020T100000
DTEND;TZID=America/New_York:20241020T150000
DTSTAMP:20260424T161551
CREATED:20240206T221814Z
LAST-MODIFIED:20240206T222003Z
UID:7544-1729418400-1729436400@gasocietysar.org
SUMMARY:National (NJ) - Battle of Red Bank
DESCRIPTION:Battle of Red Bank Commemoration \n\nSunday\, October 20\, 2024\n10:00 AM  11:00 AM\n\n\n111 West Military Drive\, National Park\, NJ\, 08063United States (map)\n\n\nGoogle Calendar  ICS\n\n  \nJoin in the commemoration of the 1777 assault on Fort Mercer of the grounds surrounding the original fort in Red Bank Battle Field Park\, National Park\, NJ. The anniversary of this important Philadelphia Campaign attack should be an especially interesting and action-filled event. At this event\, guests can tour the Whitall House. Constructed in 1748 for James and Ann Whitall\, this house was designed in the Georgian style and became the centerpiece of their 400-acre plantation on the banks of the Delaware River. During the American Revolution\, the house was adjacent to Fort Mercer\, the site of a colonists’ victory over the Hessians. Following the battle\, the house was used as a hospital. Acquired by the county in 1904\, the house and grounds are interpreted as Red Bank Battlefield Park and are open to the public on a daily basis for recreation. \nClick here for more information about the Battle of Red Bank and the Whitall House. \nNATIONAL COLOR GUARD EVENT: \nThe Memorial service for the 14 Continental Soldiers killed as a result of the Battle of Red bank will start at 1 PM and include the following highlights: \n\nSpecial Memorial Service for the 14 Rhode Island soldiers for the 1st and 2nd Rhode Island Regiment. We hope to include a representative from the 1st or 2nd RI Regiment and the Hessian Unit.\nJen Janofsky\, Curator/Director of Red Bank Battlefield\, is scheduled to speak\nHonored during the ceremony will be recognition of the Hessian Soldiers who gave their lives that day. A speaker will overview the recent archaeological dig at the North end of the park\, unveiling bone fragments from over 17 Hessians. Specific identification of the fragments is still being conducted. This is the largest find of Hessian soldier remains from the Revolutionary War.\nLegacy Marker/Heritage Flag Ceremony is planned to be conducted after the Memorial Service\nContact: Tim Ogline\, SJCSAR President\, Larry Nelson\, SJCSAR Secretary\nColor Guard: F&D? Arrive 1215. Events starts 1-1:15\, Legacy follows; Reenactment 2:15\nAttending: Ogline\, Nelson\, McGill\, Williams\, Serfass\, Davis\,\n\nSource: https://friendsofredbank.weebly.com/18th-century-field-day.html
URL:https://gasocietysar.org/event/national-nj-battle-of-red-bank/
LOCATION:GA
CATEGORIES:National Events
END:VEVENT
END:VCALENDAR