BEGIN:VCALENDAR
VERSION:2.0
PRODID:-//Georgia Society, Sons of the American Revolution - ECPv6.15.20//NONSGML v1.0//EN
CALSCALE:GREGORIAN
METHOD:PUBLISH
X-WR-CALNAME:Georgia Society, Sons of the American Revolution
X-ORIGINAL-URL:https://gasocietysar.org
X-WR-CALDESC:Events for Georgia Society, Sons of the American Revolution
REFRESH-INTERVAL;VALUE=DURATION:PT1H
X-Robots-Tag:noindex
X-PUBLISHED-TTL:PT1H
BEGIN:VTIMEZONE
TZID:America/New_York
BEGIN:DAYLIGHT
TZOFFSETFROM:-0500
TZOFFSETTO:-0400
TZNAME:EDT
DTSTART:20240310T070000
END:DAYLIGHT
BEGIN:STANDARD
TZOFFSETFROM:-0400
TZOFFSETTO:-0500
TZNAME:EST
DTSTART:20241103T060000
END:STANDARD
BEGIN:DAYLIGHT
TZOFFSETFROM:-0500
TZOFFSETTO:-0400
TZNAME:EDT
DTSTART:20250309T070000
END:DAYLIGHT
BEGIN:STANDARD
TZOFFSETFROM:-0400
TZOFFSETTO:-0500
TZNAME:EST
DTSTART:20251102T060000
END:STANDARD
BEGIN:DAYLIGHT
TZOFFSETFROM:-0500
TZOFFSETTO:-0400
TZNAME:EDT
DTSTART:20260308T070000
END:DAYLIGHT
BEGIN:STANDARD
TZOFFSETFROM:-0400
TZOFFSETTO:-0500
TZNAME:EST
DTSTART:20261101T060000
END:STANDARD
END:VTIMEZONE
BEGIN:VEVENT
DTSTART;TZID=America/New_York:20250105T080000
DTEND;TZID=America/New_York:20250105T153000
DTSTAMP:20260424T105135
CREATED:20240206T210220Z
LAST-MODIFIED:20240702T202542Z
UID:7527-1736064000-1736091000@gasocietysar.org
SUMMARY:National (NJ) - Ten Crucial Days - Princeton\, NJ
DESCRIPTION:Sunday\, January 5\, 2025\n9:00 AM  10:00 AM\n\n\nPrinceton Battlefield State Park500 Mercer StreetPrinceton\, NJ\, 08540\n\nReenactment & Commemoration for the Battles of Assunpink Creek and Princeton\, January 2/3\, 1777 \n\n9:00 AM  10:00 AM\nPrinceton Battlefield State Park (map)\nGoogle Calendar  ICS\n\n\n8:00 to 11:00 am “Experience the Battle of Princeton” Reenactment – Princeton Battlefield\, 500 Mercer St.\, Princeton\, NJ 08540\n11:30 to 12:15 am Hereditary Organization/Military Representative Commemorative Wreath Laying\n1:00 to 2:00 pm Lunch\n2:30 to 3:15 pm Hereditary Organization/Military Representative Commemorative Wreath Laying at Assunpink Creek\, Mill Hill Park\, corner of Front and Broad Streets\, Trenton\, NJ\n\n  \n\nFri. 27 Dec.\, 2024 – Traversing the Ten Crucial Days Tour\nSat. 28 Dec.\, 2024 – Commemoration of the Battles of Trenton and Assumpink Creek with Wreath Ceremonies.\nSat. 4 Jan.\, 2025 – Traversing the Ten Crucial Days Tour\nSat. 18 Jan.\, 2025 – Traversing the Ten Crucial Days Tour \n\nThe Ten Crucial Days starting with Trenton and ending with Princeton only counts as ONE National Society SAR Event.
URL:https://gasocietysar.org/event/national-nj-ten-crucial-days-princeton-nj/
LOCATION:GA
CATEGORIES:National Events
END:VEVENT
BEGIN:VEVENT
DTSTART;TZID=America/New_York:20250117T100000
DTEND;TZID=America/New_York:20250117T113000
DTSTAMP:20260424T105135
CREATED:20240702T193837Z
LAST-MODIFIED:20241229T191653Z
UID:7901-1737108000-1737113400@gasocietysar.org
SUMMARY:National (SC) - Battle of Cowpens
DESCRIPTION:244th Anniversary Commemoration of the Battle of Cowpens\nWhen: 17 January 2025\, Friday at 10:00 AM \nWhere: Cowpens national Battlefield\, 4001 Chesnee Highway\, Gaffney\, SC   29341 \nSponsored by the Daniel Morgan Chapter South Carolina Society SAR \n  \nWreath Registration information to Ray Stapleton\, Secretary Daniel Morgan Chapter South Carolina Society SAR at \nstapler1@comcast.net \nPresenter Name\, Title\, and Organization (Chapter and Society)
URL:https://gasocietysar.org/event/national-sc-battle-of-cowpens/
LOCATION:Cowpens National Battlefield\, 4001 Chesnee Highway\, Gaffney\, SC\, 29341\, United States
CATEGORIES:Historic Sites & Celebrations,National Events
END:VEVENT
BEGIN:VEVENT
DTSTART;TZID=America/New_York:20250125T080000
DTEND;TZID=America/New_York:20250125T170000
DTSTAMP:20260424T105136
CREATED:20240702T155521Z
LAST-MODIFIED:20241221T222502Z
UID:7857-1737792000-1737824400@gasocietysar.org
SUMMARY:National (NC) - Commemoration of the Battle of Cowan's Ford
DESCRIPTION:244th COMMEMORATION OF THE BATTLE OF COWAN’S FORD\n\n\nDATE/TIME: \nJanuary 25\, 2025 / 7:30 AM – 11:00 AM\n\nORGANIZED BY:Mecklenburg Chapter SAR\n\nLOCATION: \n\nHopewell Presbyterian Church\n\n10500 Beatties Ford Road\, Huntersville\, NC\, United States 28078\n\n\n\n\n\n\n\n\n\n\nSchedule of Events: \n\nBreakfast: 7:30am\nCommemoration: 9:00am\n\nRegistration link is at https://mecklenburgsar.org/events/242nd-commemoration-of-the-battle-of-cowans-ford-2/
URL:https://gasocietysar.org/event/national-nc-commemoration-of-the-battle-of-cowans-ford/
LOCATION:Hopewell Presbyterian Church\, 10500 Beatties Ford Road\, Huntersville\, NC\, 28078\, United States
CATEGORIES:GASSAR Color Guard,National Events
END:VEVENT
END:VCALENDAR