BEGIN:VCALENDAR
VERSION:2.0
PRODID:-//Georgia Society, Sons of the American Revolution - ECPv6.15.20//NONSGML v1.0//EN
CALSCALE:GREGORIAN
METHOD:PUBLISH
X-ORIGINAL-URL:https://gasocietysar.org
X-WR-CALDESC:Events for Georgia Society, Sons of the American Revolution
REFRESH-INTERVAL;VALUE=DURATION:PT1H
X-Robots-Tag:noindex
X-PUBLISHED-TTL:PT1H
BEGIN:VTIMEZONE
TZID:America/New_York
BEGIN:DAYLIGHT
TZOFFSETFROM:-0500
TZOFFSETTO:-0400
TZNAME:EDT
DTSTART:20240310T070000
END:DAYLIGHT
BEGIN:STANDARD
TZOFFSETFROM:-0400
TZOFFSETTO:-0500
TZNAME:EST
DTSTART:20241103T060000
END:STANDARD
BEGIN:DAYLIGHT
TZOFFSETFROM:-0500
TZOFFSETTO:-0400
TZNAME:EDT
DTSTART:20250309T070000
END:DAYLIGHT
BEGIN:STANDARD
TZOFFSETFROM:-0400
TZOFFSETTO:-0500
TZNAME:EST
DTSTART:20251102T060000
END:STANDARD
BEGIN:DAYLIGHT
TZOFFSETFROM:-0500
TZOFFSETTO:-0400
TZNAME:EDT
DTSTART:20260308T070000
END:DAYLIGHT
BEGIN:STANDARD
TZOFFSETFROM:-0400
TZOFFSETTO:-0500
TZNAME:EST
DTSTART:20261101T060000
END:STANDARD
END:VTIMEZONE
BEGIN:VEVENT
DTSTART;TZID=America/New_York:20250816T100000
DTEND;TZID=America/New_York:20250816T120000
DTSTAMP:20260423T222238
CREATED:20250520T225312Z
LAST-MODIFIED:20250520T225312Z
UID:18054-1755338400-1755345600@gasocietysar.org
SUMMARY:National (KY) - Battle of Blue Licks - 10:00 AM
DESCRIPTION:The 2025 Battle of Blue Licks Memorial Service is on Saturday 16 August at 10:00 a.m.  \nThis National Society SAR color guard event is held in the Blue Licks Battlefield Resort Park near Carlisle\, KY.   Please forward this email to anyone in your chapter that may be interested. \nAnyone interested in presenting a wreath\, participating in the color guard\, or the gun salute should contact Scott Giltner at stgilt@earthlink.net .  If you want your wreath listed in the printed program you should register the wreath by 5:00 p.m. on 10 August. \nPlease indicate if you will be bringing your state flag.  Color guard participants are requested to muster at 8:45 a.m. at the monument on the day of the ceremony. \nThose carrying flintlock firearms will muster for the safety inspection near the lodge at 8:30 a.m. \nDetailed instructions on the color guard and mustering points will be provided closer to the date of the ceremony. \n  \nAUGUST \n16th – Annual Battle of Blue Licks Memorial Ceremony \nLocation: Blue Licks Battlefield State Resort Park\, 10299 Maysville Rd.\, Carlisle\, KY \nTime: 10:00 a.m. (color guard muster at 8:45 a.m.) (rifle/musket men muster at 8:30 a.m.) \n  \nOn Friday\, 15 August at 4:30 p.m. there will be a fife and drum presentation on the music of the American Revolution.  Attached id the flyer for this event.  Several other events of interest are being planned as part of the greater Battle of Blue Licks weekend. More information on these events will also be provided closer to the date of the ceremony. \nCurrent information can be found on the Gov. Isaac Shelby chapter website at https://gissar.org/pages/blue_licks.html . \nThe Gov. Isaac Shelby chapter looks forward to your participation in the 2025 Battle of Blue Licks Memorial Ceremony. \nIn Patriotic Service\, \nScott Giltner\, Secretary\, Gov. Isaac Shelby Chapter \nAccommodations \nBlue Licks Battlefield State Resort Park – 10299 Maysville Rd. – Carlisle\, KY 40311 – Phone: (859) 289-5507\nhttps://guestrez.megasyshms.com/JN39V/blue-licks-battlefield-state-resort-park \nHampton Inn Maysville – 3-star hotel – 503 Market Place Drive – Maysville\, KY 41056 – Phone: (606) 759-0600\nwww.hilton.com \nFrench Quarter Inn – 3-star hotel – 25 E McDonald Pkwy – Maysville\, KY 41056 – Phone: (606) 564-8000 \nSuper 8 by Wyndham Maysville KY – 2-star hotel – 550 Tucker Dr – Maysville\, KY 41056 – Phone: (606) 375-4751\nwww.wyndhamhotels.com/super-8 \nQuality Inn – 2-star hotel – 1428a US-68 – Maysville\, KY 41056 – Phone: (606) 759-5696\nwww.choicehotels.com
URL:https://gasocietysar.org/event/national-ky-battle-of-blue-licks-1000-am/
LOCATION:GA
CATEGORIES:National Events
END:VEVENT
BEGIN:VEVENT
DTSTART;TZID=America/New_York:20250823T113000
DTEND;TZID=America/New_York:20250823T123000
DTSTAMP:20260423T222238
CREATED:20250705T150950Z
LAST-MODIFIED:20250705T151057Z
UID:18149-1755948600-1755952200@gasocietysar.org
SUMMARY:National (NY) - The Battle of Brooklyn Commemoration
DESCRIPTION:The Battle of Brooklyn Commemoration\n\nSaturday\, August 23\, 2025\n11:30 AM  12:30 PM\n\n\nOld Stone House\, 336 3rd Street Brooklyn\, NY\, 11215336 3rd Street\, Brooklyn\, NY\, 11215United States (map)\nSee New Jersey SAR event calendar for more details.
URL:https://gasocietysar.org/event/ny-the-battle-of-brooklyn-commemoration/
LOCATION:GA
CATEGORIES:National Events
END:VEVENT
BEGIN:VEVENT
DTSTART;TZID=America/New_York:20250830T100000
DTEND;TZID=America/New_York:20250830T120000
DTSTAMP:20260423T222238
CREATED:20241221T215918Z
LAST-MODIFIED:20241221T215918Z
UID:8257-1756548000-1756555200@gasocietysar.org
SUMMARY:National (SC) - Battle of Eutaw Springs
DESCRIPTION:243rd Anniversary Commemoration of the Battle of Eutaw Springs on Friday and Saturday\, August 30th and 31st\, 2024 \nFriday \, August 29\, 2025 \n9:00 AM ???? – Narrated Tour of Fort Motte\, Fort Watson\, and Eutaw Springs Battle Sites \nLunch in Santee on your own. \n1:30 PM – Narrated Tour – Eutaw Springs Battleground 9meet bus at the Church of the Epiphany\, 101 Porcher Avenue\, Eutawville\, SC) \n(Donation of $30 is requested and covers both morning and afternoon tours) \n5:30 PM – Social – Clark’s Inn and Restaurant\, Santee\, SC \n6:00 PM – Dinner/Program – Clark’s Inn and Restaurant\, Santee\, SC ($50 per person due by August 21\, 2025) – Speaker; Steven D. Smith\, PhD – The Battle of Fort Watson and Fort Motte\, 1781 – For Dinner select one – Roast Beef\, Clark’s Special Chicken\, Vegetable Plate. \nChecks due to Battle of Eutaw Springs Chapter SCSSAR c/o Douglas Doster\, 480 Winding Brook Drive\, Cameron\, SC   29030 \n  \nSaturday\, August 30\, 2025 \n10:00 AM – Patriotic Program\, Historic Church of the Epiphany\, Eutawville\, SC – 101 Porcher Avenue\, Eutawville\, SC – Speaker – Rick Wise\, Interim Director\, Suth Carolina Battleground Preservation Trust \n11:15 AM – Wreath laying Ceremony\, Battle Monument Park\, Eutaw Springs\, SC \n12:15 PM – Lunch\, Sweatman’s BBQ\, Eutawville\, SC \n2:15 PM – Honor Wreath ceremony\, General Francis Marion’s Tomb\, Pineville\, SC \nWashington Light Infantry SC Battleground Preservation Trust Cannon Team at Battle Monument Park \nQuestions contact Douglas Doster at: \ndosterdouglas “at” gmail “dot’ com \n803-456-5015 \n  \nWreath Registration due to Doug Doster by August 26 to receive a ribbon: \nOrganization/ Chapter and State\, Name and Title of Presenter)s)\, Contact Information – Phone and email.
URL:https://gasocietysar.org/event/national-sc-battle-of-eutaw-springs/
LOCATION:GA
CATEGORIES:GASSAR Color Guard,National Events
END:VEVENT
END:VCALENDAR