BEGIN:VCALENDAR
VERSION:2.0
PRODID:-//Georgia Society, Sons of the American Revolution - ECPv6.15.20//NONSGML v1.0//EN
CALSCALE:GREGORIAN
METHOD:PUBLISH
X-ORIGINAL-URL:https://gasocietysar.org
X-WR-CALDESC:Events for Georgia Society, Sons of the American Revolution
REFRESH-INTERVAL;VALUE=DURATION:PT1H
X-Robots-Tag:noindex
X-PUBLISHED-TTL:PT1H
BEGIN:VTIMEZONE
TZID:America/New_York
BEGIN:DAYLIGHT
TZOFFSETFROM:-0500
TZOFFSETTO:-0400
TZNAME:EDT
DTSTART:20240310T070000
END:DAYLIGHT
BEGIN:STANDARD
TZOFFSETFROM:-0400
TZOFFSETTO:-0500
TZNAME:EST
DTSTART:20241103T060000
END:STANDARD
BEGIN:DAYLIGHT
TZOFFSETFROM:-0500
TZOFFSETTO:-0400
TZNAME:EDT
DTSTART:20250309T070000
END:DAYLIGHT
BEGIN:STANDARD
TZOFFSETFROM:-0400
TZOFFSETTO:-0500
TZNAME:EST
DTSTART:20251102T060000
END:STANDARD
BEGIN:DAYLIGHT
TZOFFSETFROM:-0500
TZOFFSETTO:-0400
TZNAME:EDT
DTSTART:20260308T070000
END:DAYLIGHT
BEGIN:STANDARD
TZOFFSETFROM:-0400
TZOFFSETTO:-0500
TZNAME:EST
DTSTART:20261101T060000
END:STANDARD
END:VTIMEZONE
BEGIN:VEVENT
DTSTART;TZID=America/New_York:20251206T080000
DTEND;TZID=America/New_York:20251206T113000
DTSTAMP:20260423T165803
CREATED:20250520T234956Z
LAST-MODIFIED:20250520T235140Z
UID:18086-1765008000-1765020600@gasocietysar.org
SUMMARY:National (VA) - Great Bridge
DESCRIPTION:250th Commemoration of the Battle of Great Bridge\n\n\nGreat Bridge Battlefield and Waterways Museum\n1775 Historic Way\nChespeake\, VA 23322\n \n\n\nSaturday\, December 06\, 2025 – 8:00 AM – 5:00 PM EDT\nCategory: NATIONAL EVENT – VASSAR SPONSORED\n\n \n\n\nThe commemoration of the Battle of Great Bridge is held annually on the first Saturday in December in coordination with the City of Chesapeake and this year we are excited to celebrate the 250th Anniversary! \nThe Battle of Great Bridge took place on December 9\, 1775. A task organized Patriot regiment of over 700 men led by Col. William Woodford\, consisting of six companies of the 2nd Virginia and five companies of the Culpeper Minute Bn.\, joined by North Carolina volunteers and small elements of the Princess Anne District Minute Bn.\, assembled on the south end of the Great Bridge causeway in early December to challenge British control over this key terrain that enabled movement into the Virginia interior and south to North Carolina. Skirmishes took place until the morning of December 9\, 1775 when a British assault force led by Capt. Charles Fordyce with 120 men of the 14th Regiment of Foot\, with support from Loyalist forces including Lord Dunmore’s Ethiopean Regiment\, attempted to assault the fortified Patriot defenses on the south end of the bridge. The causeway and bridge were narrow and surrounded by swamps\, placing the British regulars in a kill zone facing frontal and flanking fire. Alerted to the attack by Patriot sentries including William “Billy” Flora\, a free black man serving in the Princess Anne District Minute Bn.\, hundreds of Patriots manned the defenses and when the British were within 50 yards\, they commenced sustained rifle and musket fire against the tightly packed grenadiers leading the assault. The attack faltered only a few yards from the Patriot defenses with British Capt. Charles Fordyce being killed and over half of their force killed\, wounded or captured\, including 60 regulars and possibly 30 or 40 Loyalists in the pitched thirty minute battle.  Stunned\, the British troops evacuated the area that evening and fell back to safety aboard ships of the British fleet assembled in Norfolk Harbor. Col. Woodford’s Patriot forces\, reinforced by the 2nd North Carolina Regiment under Col. Robert Howe\, occupied the City of Norfolk\, their original intended destination\, on December 14th. The Patriots suffered only a single minor casualty at Great Bridge during the two weeks of contact with the British\, while the casualties resulting from the failed assault broke the will of the British and Loyalist forces. \nFor more reading:\n– Patrick H. Hannum\, “The Battle of Great Bridge: Preserving the Site. Honoring the Soldiers\,” November 27\, 2017\, Journal of the American Revolution (JAR)\n– “Great Bridge Museum Opens Amid Pandemic\,” November 18\, 2020\, JAR\n– “Eleven Patriot Company Commanders at Great Bridge\,” December 9\, 1775\, November 22\, 2022 JAR\n– Norman Fuss\, “Billy Flora at the Battle of Great Bridge\,” October 14\, 2014\, JAR\n– Patrick H. Hannum & Frederick R. Kienle\, “George Washington’s Leadership Guidance to William Woodford\, Did he Listen?” April 12\, 2022\, JAR\n– Jeremy Horne\, “William Flora Historical Marker\,” Encyclopedia Virginia\, William Flora Historical Marker – Encyclopedia Virginia. \n  \n-DCF \n\n\nContact: Don Fergusson | donald.c.fergusson@gmail.com
URL:https://gasocietysar.org/event/national-va-great-bridge/
LOCATION:GA
CATEGORIES:National Events
END:VEVENT
BEGIN:VEVENT
DTSTART;TZID=America/New_York:20251213T110000
DTEND;TZID=America/New_York:20251213T120000
DTSTAMP:20260423T165803
CREATED:20251030T185735Z
LAST-MODIFIED:20251030T185735Z
UID:18937-1765623600-1765627200@gasocietysar.org
SUMMARY:Wreaths Across America - Gwinnett Memorial Park - 11:00 AM
DESCRIPTION:Wreaths Across America Ceremony \n11:00 AM CEREMONY\nGwinnett Memorial Park\n925 Lawrenceville Hwy\, Lawrenceville\, GA 30046 \n  \nSponsored by the Philadelphia Winn Chapter – Daughters of the American Revolution \nQuestions? Contact: Regent Randi Minor\, 770-882-8108\, RandiMD@gmail.com or\nHonorary Regent Lynn Jacques\, 678-332-9852\, LynnJacques55@gmail.com.
URL:https://gasocietysar.org/event/wreaths-across-america-gwinnett-memorial-park-1100-am/
LOCATION:Gwinnett Memorial Park\, 925 Lawrenceville Hwy\, Lawrenceville\, GA\, 30046\, United States
CATEGORIES:GASSAR Color Guard,National Events
END:VEVENT
BEGIN:VEVENT
DTSTART;TZID=America/New_York:20251213T140000
DTEND;TZID=America/New_York:20251213T150000
DTSTAMP:20260423T165803
CREATED:20251030T190024Z
LAST-MODIFIED:20251030T190732Z
UID:18940-1765634400-1765638000@gasocietysar.org
SUMMARY:Wreath Across America Ceremony - East Shadowland Memorial Gardens - 2:00 PM
DESCRIPTION:Wreaths Across America Ceremony \n2:00 PM CEREMONY \nEast Shadowlawn Memorial Gardens\n87 Scenic Hwy\, Lawrenceville\, Georgia 30046 \n  \nSponsored by the Philadelphia Winn Chapter – Daughters of the American Revolution \nQuestions? Contact: Regent Randi Minor\, 770-882-8108\, RandiMD@gmail.com or\nHonorary Regent Lynn Jacques\, 678-332-9852\, LynnJacques55@gmail.com.
URL:https://gasocietysar.org/event/wreath-accross-america-ceremony-200-pm/
LOCATION:East Shadowlawn Memorial Gardens\, 87 Scenic Hwy\, Lawrenceville\, GA\, 30046\, United States
CATEGORIES:GASSAR Color Guard,National Events
END:VEVENT
END:VCALENDAR