BEGIN:VCALENDAR
VERSION:2.0
PRODID:-//Georgia Society, Sons of the American Revolution - ECPv6.15.20//NONSGML v1.0//EN
CALSCALE:GREGORIAN
METHOD:PUBLISH
X-ORIGINAL-URL:https://gasocietysar.org
X-WR-CALDESC:Events for Georgia Society, Sons of the American Revolution
REFRESH-INTERVAL;VALUE=DURATION:PT1H
X-Robots-Tag:noindex
X-PUBLISHED-TTL:PT1H
BEGIN:VTIMEZONE
TZID:America/New_York
BEGIN:DAYLIGHT
TZOFFSETFROM:-0500
TZOFFSETTO:-0400
TZNAME:EDT
DTSTART:20250309T070000
END:DAYLIGHT
BEGIN:STANDARD
TZOFFSETFROM:-0400
TZOFFSETTO:-0500
TZNAME:EST
DTSTART:20251102T060000
END:STANDARD
BEGIN:DAYLIGHT
TZOFFSETFROM:-0500
TZOFFSETTO:-0400
TZNAME:EDT
DTSTART:20260308T070000
END:DAYLIGHT
BEGIN:STANDARD
TZOFFSETFROM:-0400
TZOFFSETTO:-0500
TZNAME:EST
DTSTART:20261101T060000
END:STANDARD
BEGIN:DAYLIGHT
TZOFFSETFROM:-0500
TZOFFSETTO:-0400
TZNAME:EDT
DTSTART:20270314T070000
END:DAYLIGHT
BEGIN:STANDARD
TZOFFSETFROM:-0400
TZOFFSETTO:-0500
TZNAME:EST
DTSTART:20271107T060000
END:STANDARD
END:VTIMEZONE
BEGIN:VEVENT
DTSTART;TZID=America/New_York:20260212T180000
DTEND;TZID=America/New_York:20260214T120000
DTSTAMP:20260423T141815
CREATED:20260119T141220Z
LAST-MODIFIED:20260119T141220Z
UID:19900-1770919200-1771070400@gasocietysar.org
SUMMARY:National - (VA) - Crossing of the Dan - South Boston\,
DESCRIPTION:Thursday\, 12 February 2026 – South Boston/Halifax Museum – Revolutionary War Taverns program by Paul Smith.  Starts at 6:00 PM \nFriday\, 13 February 2026 – Town of Halifax\, VA Banister Encampment – 1:00 PM to 4:00 PM  \nFriday 13 February 2026 – VA250 presentation by Kevin Hampton – Beth Car Church – 5:30 PM – VASSAR Color Guard Musket Salute after program. \nSaturday\, 14 February 2026 – Main SAR commemoration event at the Prizery – Program starts at 10:00 AM – Speaker will be Salina Baker\, Author of “The Line of Splendor\, A Novel of Nathanael Greene and the American Revolution”. \nAll events are free to the public. \nRegistration and more details can be found at: crossingofthedan.com \n 
URL:https://gasocietysar.org/event/national-va-crossing-of-the-dan-south-boston/
LOCATION:The Prizery\, 700 Bruce Street\, South Boston\, VA\, 24592\, United States
CATEGORIES:National Events
END:VEVENT
BEGIN:VEVENT
DTSTART;TZID=America/New_York:20260214T080000
DTEND;TZID=America/New_York:20260214T123000
DTSTAMP:20260423T141815
CREATED:20250606T190601Z
LAST-MODIFIED:20251219T194200Z
UID:18113-1771056000-1771072200@gasocietysar.org
SUMMARY:Battle of Kettle Creek - Morning activities in Washington\, GA
DESCRIPTION:Saturday Morning – February 14th\, 2026 \nA National Society SAR Historic Sites & Celebrations Committee Event \nWashington Square in Historic Downtown Washington\, GA 30673\n9:50 A.M. – The Georgia Society SAR Elijah Clarke Militia Honor Guard with Musket Salutes will raise the 1776 Colors of the Revolutionary War on the Wilkes County Courthouse Flagpole. \n9:50 A.M. –12 Noon – Come experience Revolutionary Living History including demonstrations and performers.  Located just off the square in the Court Street Livery (16 W Court Street\, Washington\, GA) Look for the SAR Living History building signs.           \n10:10 A.M. – The Georgia Society SAR combined Color Guard & Militia will gather at the Revolutionary War monument on the Washington City Square to Salute and Honor the Wilkes County Militia – (the Heroes of the Hornets’ Nest) and all Revolutionary War Patriots. \n10:30 A.M. – Color Guard and parade participants gather behind the Courthouse for the assembly of the Revolutionary War Parade — ALL the public (Children & Grownups) are welcome to participate in the event as our National Colors and re-enactors lead us around Washington Square. Parade STARTS at 10:45 A.M. \n10:45 A.M. – The parade will start and will march two complete times around Washington Square and will end behind the courthouse at Fort Washington Park. \n11:15 A.M. – Georgia Society SAR Elijah Clarke Militia and other re-enactors with black-powder muskets will present a dramatic portrayal of the Battle of Kettle Creek in Fort Washington Park behind the Wilkes County Courthouse. \n12:00 P.M. – The Georgia Society SAR Color Guard–Elijah Clarke Militia and others\, will present arms and fire a thunderous musket salute as the Revolutionary War Colors are lowered and our Present-day National Colors are raised on the Wilkes County Courthouse Flagpole.
URL:https://gasocietysar.org/event/battle-of-kettle-creek-save-the-date/
LOCATION:Washington Georgia\, Washington\, GA\, United States
CATEGORIES:GA Society Chapter Events,GA Society Events,National Events
END:VEVENT
BEGIN:VEVENT
DTSTART;TZID=America/New_York:20260214T143000
DTEND;TZID=America/New_York:20260214T163000
DTSTAMP:20260423T141815
CREATED:20251219T194724Z
LAST-MODIFIED:20251219T201158Z
UID:19825-1771079400-1771086600@gasocietysar.org
SUMMARY:National - (GA) - Battle of Kettle Creek Commemoration
DESCRIPTION:Saturday Afternoon – February 14th\, 2026 \nA National Society SAR Historic Sites & Celebrations Event continues \nKettle Creek Battlefield\, War Hill Road\, Washington\, GA 30673 \n2:30 P.M. – Pageantry at the Kettle Creek Battlefield includes\, Continental Army\, Georgia Militia\, Musket volley salutes\, Wreath Presentations\, SAR/DAR/CAR\, Hereditary Organizations\, Local\, State & National officials\, High School JROTC\, students and public\, place wreaths to honor the Heroes of the Hornets’ Nest — the Wilkes County Militia for their 1779 Victory at Kettle Creek. \nPlease see “Wreath Registration Form for Saturday” and send to Ed Rigel\, Jr. \n******************** \n“Revolutionary Days” Celebrating the 247th Anniversary of The Battle of Kettle Creek Kettle Creek Battlefield Memorial Ceremony \nSaturday\, February 14\,2026 at 2:30pm – War Hill Road\, Washington\, Wilkes County\, Georgia \nAll Societies and Chapters of the C.A.R.\, DAR\, SAR\, other hereditary Societies and patriotic or historical organizations are invited to attend. Descendants and the public are especially welcome.\nSubmit request to participate in the Wreath Presentation no later than January 21\, 2026\, to assure listing in the Ceremony Program \nOrganization:\nName of Presenter:\nOffice or Title of Presenter:\nEmail Address:\nPhone:\nDue to rocky soil conditions and winds we do NOT use wreath stands at War Hill.\nMail to: Ed Rigel\, Jr.\, 133 Durham Lake Pkwy\, Fairburn\, GA 30213 \nor \nEmail:edrigel@gmail.com
URL:https://gasocietysar.org/event/national-battle-of-kettle-creek-commemoration/
LOCATION:Kettle Creek Battlefield\, 299 War Hill Road\, Washington\, GA\, 30673\, United States
CATEGORIES:DAR Events,GASSAR Color Guard,National Events
END:VEVENT
BEGIN:VEVENT
DTSTART;TZID=America/New_York:20260221T080000
DTEND;TZID=America/New_York:20260221T170000
DTSTAMP:20260423T141815
CREATED:20260119T172203Z
LAST-MODIFIED:20260119T172203Z
UID:19932-1771660800-1771693200@gasocietysar.org
SUMMARY:National - (TX) - George Washington Birthday Parade - Laredo\, TX
DESCRIPTION:National – (TX) – George Washington Birthday Parade – Laredo\, TX \nSee Texas Society SAR website for more information.
URL:https://gasocietysar.org/event/national-tx-george-washington-birthday-parade-laredo-tx/
LOCATION:GA
CATEGORIES:National Events
END:VEVENT
BEGIN:VEVENT
DTSTART;TZID=America/New_York:20260222T150000
DTEND;TZID=America/New_York:20260222T160000
DTSTAMP:20260423T141815
CREATED:20260119T145311Z
LAST-MODIFIED:20260119T145311Z
UID:19916-1771772400-1771776000@gasocietysar.org
SUMMARY:National - (GA) - George Washington Celebration - Gainesville\, GA - 3:00 PM
DESCRIPTION:Lyman Hall Chapter Georgia SAR and the Colonel William Candler Chapter National Society DAR \nInvite you to attend a ceremony celebrating the 294th Anniversary of the Birth of President George Washington \nSunday\, February 22nd\, 2026\, at 3:00 PM \nWashington Monument at the corner of Green and Washington Streets – 212 Washington Street\, Gainesville\, Georgia\, 30501 – GPS N34° 18.036 W083° 49.547 \nPlease RSVP by Wednesday February 17th To: Sid Hughes at SidHughes@icloud.com \nFor wreath registration please include: Organization\, Name of Presenter\, Office or Title of Presenter\, Email Address\, Telephone Number
URL:https://gasocietysar.org/event/national-ga-george-washington-celebration-gainesville-ga-300-pm/
LOCATION:GA
CATEGORIES:GASSAR Color Guard,National Events
END:VEVENT
BEGIN:VEVENT
DTSTART;TZID=America/New_York:20260227T100000
DTEND;TZID=America/New_York:20260227T120000
DTSTAMP:20260423T141815
CREATED:20251219T201846Z
LAST-MODIFIED:20251219T205222Z
UID:19833-1772186400-1772193600@gasocietysar.org
SUMMARY:National - (NC) - Commemoration of the Battle of Moores Creek Bridge - 10:00 AM
DESCRIPTION:FRIDAY – February 27th – 10:00 AM \nPlease join us as we celebrate the 250th Anniversary of the Battle of Moores Creek Bridge\, the 1st Patriot victory during the War for Independence.  Activities will include musket and cannon demonstrations\, as well as demonstrations of colonial trades such as blacksmithing\, candle dipping\, spinning\, cooking\, gardening\, powder horn making\, colonial toys and games\, live music\, and much more.  For up-to-date information\, please follow us on Facebook at www.facebook.com/moorescreeknps. \nThe combined North Carolina SAR Color Guard and North Carolina DAR\, C.A.R.\, and SR chapters will commence a memorial walk on Friday\, February 27\, starting at the Visitor Center at 10:00 AM.  There will be wreaths displayed at the Women’s Monument\, at the Moore Monument\, at the Loyalist Monument\, and finally at the Patriot John Grady Monument.  Senior representatives of the SAR and DAR will present wreaths for their respective chapters.  The event is FREE and additional activities will continue on Saturday and Sunday\, February 28-Mar 1\, 2026 from 10:00 AM-4:00 PM. \nRSVP to get your wreath properly recognized in the program.  Deadline February 1\, 2026\nPlease plan to drop off your wreath early; parking will be at a premium.  Overflow parking will be in the parking lot of the Moores Creek Missionary Baptist Church. \n  \n***** \nSuggested accommodations in Wilmington \nHampton Inn Wilmington-University Area/Smith Creek Station\n124 Old Eastwood Rd\, Wilmington\, NC 28403-1861  855-605-0317 \nHoliday Inn Express & Suites Wilmington – University Center\n160 Van Campen Blvd\, Wilmington\, NC 28403-1621  877-859-5095 \nWingate by Wyndham Wilmington\n5126 Market St\, Wilmington\, NC 28405-3445  800-337-0070
URL:https://gasocietysar.org/event/national-nc-commemoration-of-the-battle-of-moores-creek-bridge-1000-am/
LOCATION:GA
CATEGORIES:National Events
END:VEVENT
BEGIN:VEVENT
DTSTART;TZID=America/New_York:20260228T110000
DTEND;TZID=America/New_York:20260228T120000
DTSTAMP:20260423T141815
CREATED:20251219T202555Z
LAST-MODIFIED:20260202T234406Z
UID:19837-1772276400-1772280000@gasocietysar.org
SUMMARY:National - (GA) - Brier Creek Commemoration and Patriot Grave Marking - 11:00 AM
DESCRIPTION:247th Anniversary Celebration event is Saturday\, February 28\, 2026 at 11:00 AM \nThe Brier Creek and Wiregrass Chapters of the Georgia Scoiety SAR and the Gov. David Emanuel – Adam Brinson Chapter NSDAR invite you to attend the 247th ANNIVERSARY OF THE BATTLE OF BRIER CREEK\, A National SAR Event \nSaturday\, February 28th\, at 11:00 a.m. \nBrier Creek Battlefield and Memorial Site \nThis year there will be a Patriot Grave Marker Dedication Ceremony for Patriot Thomas Farnsley Lovett (SAR P-346349) as well as the Dedication of 2.5 mile Walking Trail \n  \nGoogle maps to Brier Creek Battlefield or set GPS to: Tuckahoe Wildlife Management Area then down Brannen’s Bridge Road for ½ mile\, Screven County\, Georgia \n  \nSAR\, DAR\, C.A.R.\, other patriotic and lineage societies\, chapters\, and the general public are invited to the 247th Anniversary of the   Battle of Brier Creek.  Continental\, military\, and period attire is encouraged. \nTo participate in the Wreath Presentation\, please complete and return the registration form no later than Friday\, February 20\, 2026\, to assure listing in the Ceremony Program.  Need the Name of the Wreath Presneter\, Organization\, Office or Title of Presenter\, Email Address \nPlease complete and mail by Friday\, February 20\, 2026 to Jane Durden\, PO Box 478\, Swainsboro\, GA   30401-0478 or email to: hsdurden@bellsouth.net \n******************** \nLOCATIONS TO STAY \n\nSYLVANIA INN-SYLVANIA – 404 West Ogeechee Street\, Sylvania\, GA – 912-564-2490 – 912-564-9212 – sylvaniainn@gmail.com\n\n\nKINCHEY PLACE BED & BREAKFAST-SYLVANIA – 309 Singleton Ave\, Sylvania\, GA – 912-425-2169 – info@kinchleyplace.com\n\n\nEDENFIELD HOUSE INN-SWAINSBORO (Exceptional) – 426 West Church Street\, Swainsboro\, GA – 478-237-3007 – 540-717-4672\, 516-220-9703  (David & April Quinn) – Edenfieldhouseinn.com – Edenfieldhouse426@gmail.com\n\n\nHOLIDAY INN-STATESBORO – 427 S Main Street\, Statesboro\, GA – 912-205-5999\n\n\nHAMPTON INN-WAYNESBORO – 235 Peachtree Street – Waynesboro\, GA – 706-558-4190
URL:https://gasocietysar.org/event/national-ga-brier-creek-commemoration/
LOCATION:Brier Creek Battlefield\, 6199 Brannens Bridge Road\, Sylvania\, GA\, 30467\, United States
CATEGORIES:GASSAR Color Guard,Historic Sites & Celebrations,National Events
END:VEVENT
END:VCALENDAR