BEGIN:VCALENDAR
VERSION:2.0
PRODID:-//Georgia Society, Sons of the American Revolution - ECPv6.15.20//NONSGML v1.0//EN
CALSCALE:GREGORIAN
METHOD:PUBLISH
X-WR-CALNAME:Georgia Society, Sons of the American Revolution
X-ORIGINAL-URL:https://gasocietysar.org
X-WR-CALDESC:Events for Georgia Society, Sons of the American Revolution
REFRESH-INTERVAL;VALUE=DURATION:PT1H
X-Robots-Tag:noindex
X-PUBLISHED-TTL:PT1H
BEGIN:VTIMEZONE
TZID:America/New_York
BEGIN:DAYLIGHT
TZOFFSETFROM:-0500
TZOFFSETTO:-0400
TZNAME:EDT
DTSTART:20230312T070000
END:DAYLIGHT
BEGIN:STANDARD
TZOFFSETFROM:-0400
TZOFFSETTO:-0500
TZNAME:EST
DTSTART:20231105T060000
END:STANDARD
BEGIN:DAYLIGHT
TZOFFSETFROM:-0500
TZOFFSETTO:-0400
TZNAME:EDT
DTSTART:20240310T070000
END:DAYLIGHT
BEGIN:STANDARD
TZOFFSETFROM:-0400
TZOFFSETTO:-0500
TZNAME:EST
DTSTART:20241103T060000
END:STANDARD
BEGIN:DAYLIGHT
TZOFFSETFROM:-0500
TZOFFSETTO:-0400
TZNAME:EDT
DTSTART:20250309T070000
END:DAYLIGHT
BEGIN:STANDARD
TZOFFSETFROM:-0400
TZOFFSETTO:-0500
TZNAME:EST
DTSTART:20251102T060000
END:STANDARD
END:VTIMEZONE
BEGIN:VEVENT
DTSTART;TZID=America/New_York:20240210T093000
DTEND;TZID=America/New_York:20240210T123000
DTSTAMP:20260425T065345
CREATED:20230809T180311Z
LAST-MODIFIED:20240118T005128Z
UID:7034-1707557400-1707568200@gasocietysar.org
SUMMARY:Kettle Creek events in Downtown Washington\, Georgia
DESCRIPTION:A National Society SAR Historic Sites & Celebrations Committee Event Washington Square in Historic Downtown Washington\, GA 30673  \n9:50 A.M. – The Georgia Society SAR Elijah Clarke Militia Honor Guard with Musket Salutes will raise the 1776 Colors of the Revolutionary War on the Wilkes County Courthouse Flag pole. \n9:50 A.M. –12 Noon – Come experience Revolutionary Living History including demonstrations and performers. Located just off the square in Court Street Livery (16 W Court Street\, Washington\, GA) Look for the SAR Living History building signs. Various groups will have displays including one of colonial toys. Some refreshments will also be available. \n10:10 A.M. – The Georgia Society SAR combined Color Guard & Militia will gather at the Revolutionary War monument on the Washington City Square to Salute and Honor the Wilkes County Militia – (the Heroes of the Hornets’ Nest) and all Revolutionary War Patriots. \n10:30 A.M. – Color Guard and parade participants gather behind the Courthouse for the assembly of the Revolutionary War Parade — ALL the public (Children & Grownups) are welcome to participate in the event as our National Colors and re-enactors lead us around Washington Square. Parade STARTS at 10:45 A.M.  \n10:45 A.M. – The parade will start and will march two complete times around Washington Square and will end behind the courthouse at Fort Washington Park. \n11:15 A.M. – Georgia Society SAR Elijah Clarke Militia and other re-enactors with black-powder muskets will present a dramatic portrayal of the Battle of Kettle Creek in Fort Washington Park behind the Wilkes County Courthouse. \n11:45 A.M. – The Georgia Society SAR Color Guard–Elijah Clarke Militia and others\, will present arms and fire a thunderous musket salute as the Revolutionary War Colors are lowered and our Present-day National Colors are raised on the Wilkes County Courthouse Flag pole.
URL:https://gasocietysar.org/event/kettle-creek-events-in-downtown-washington-georgia/
LOCATION:Washington Georgia\, Washington\, GA\, United States
CATEGORIES:GASSAR Color Guard,Historic Sites & Celebrations,National Events
END:VEVENT
BEGIN:VEVENT
DTSTART;TZID=America/New_York:20240210T133000
DTEND;TZID=America/New_York:20240210T163000
DTSTAMP:20260425T065345
CREATED:20230809T180658Z
LAST-MODIFIED:20240206T152111Z
UID:7037-1707571800-1707582600@gasocietysar.org
SUMMARY:National (GA) - Kettle Creek - Wreath Ceremony
DESCRIPTION:A National Society SAR Historic Sites & Celebrations Event continues\nKettle Creek Battlefield\, 299 War Hill Road\, Washington\, GA 30673 \nWreath registration information should be sent to Ed Rigel by February 2\, 2024 at  \nedrigel “at” gmail “dot” com  \nSATURDAY Wreath Registration – Please email 1) Organization\, 2) name of Presenter\, 3) Office or Title of Presenter\, 4) email address\, and 5) telephone number \n  \n2:30 P.M. – Pageantry at the Kettle Creek Battlefield includes\, Continental Army\, Georgia Militia\, Musket volley salutes\, Wreath Presentations\, SAR/DAR/CAR\, Hereditary\nOrganizations\, Local\, State & National officials\, High School JROTC\, students and public\, place wreaths to honor the Heroes of the Hornets’ Nest — the Wilkes County Militia for their 1779\nVictory at Kettle Creek. \nIn the event of inclement weather this event will be held in the Washington-Wilkes Recreation Department Gym. \n  \n 
URL:https://gasocietysar.org/event/kettle-creek-wreath-ceremony/
LOCATION:GA
CATEGORIES:DAR Events,GA Society Events,GASSAR Color Guard,Historic Sites & Celebrations,National Events
END:VEVENT
END:VCALENDAR