BEGIN:VCALENDAR
VERSION:2.0
PRODID:-//Georgia Society, Sons of the American Revolution - ECPv6.15.20//NONSGML v1.0//EN
CALSCALE:GREGORIAN
METHOD:PUBLISH
X-WR-CALNAME:Georgia Society, Sons of the American Revolution
X-ORIGINAL-URL:https://gasocietysar.org
X-WR-CALDESC:Events for Georgia Society, Sons of the American Revolution
REFRESH-INTERVAL;VALUE=DURATION:PT1H
X-Robots-Tag:noindex
X-PUBLISHED-TTL:PT1H
BEGIN:VTIMEZONE
TZID:America/New_York
BEGIN:DAYLIGHT
TZOFFSETFROM:-0500
TZOFFSETTO:-0400
TZNAME:EDT
DTSTART:20230312T070000
END:DAYLIGHT
BEGIN:STANDARD
TZOFFSETFROM:-0400
TZOFFSETTO:-0500
TZNAME:EST
DTSTART:20231105T060000
END:STANDARD
BEGIN:DAYLIGHT
TZOFFSETFROM:-0500
TZOFFSETTO:-0400
TZNAME:EDT
DTSTART:20240310T070000
END:DAYLIGHT
BEGIN:STANDARD
TZOFFSETFROM:-0400
TZOFFSETTO:-0500
TZNAME:EST
DTSTART:20241103T060000
END:STANDARD
BEGIN:DAYLIGHT
TZOFFSETFROM:-0500
TZOFFSETTO:-0400
TZNAME:EDT
DTSTART:20250309T070000
END:DAYLIGHT
BEGIN:STANDARD
TZOFFSETFROM:-0400
TZOFFSETTO:-0500
TZNAME:EST
DTSTART:20251102T060000
END:STANDARD
END:VTIMEZONE
BEGIN:VEVENT
DTSTART;TZID=America/New_York:20240718T080000
DTEND;TZID=America/New_York:20240720T170000
DTSTAMP:20260424T225110
CREATED:20240206T195222Z
LAST-MODIFIED:20240206T195222Z
UID:7497-1721289600-1721494800@gasocietysar.org
SUMMARY:(VA) - Fairfax Resolves - 11:00 AM
DESCRIPTION:SAVE THE DATE!!!! \nThis is a Nationally recognized event. \nThree day event to commemorate the 250th anniversary of the signing of the Fairfax Resolves. Additional information to be posted.
URL:https://gasocietysar.org/event/va-fairfax-resolves-1100-am/
LOCATION:Market Street\, Old Town Alexandria\, 300 King Street\, Alexandria\, VA\, 20170\, United States
CATEGORIES:Miscellaneous Events,National Events
END:VEVENT
END:VCALENDAR