BEGIN:VCALENDAR
VERSION:2.0
PRODID:-//Georgia Society, Sons of the American Revolution - ECPv6.15.20//NONSGML v1.0//EN
CALSCALE:GREGORIAN
METHOD:PUBLISH
X-WR-CALNAME:Georgia Society, Sons of the American Revolution
X-ORIGINAL-URL:https://gasocietysar.org
X-WR-CALDESC:Events for Georgia Society, Sons of the American Revolution
REFRESH-INTERVAL;VALUE=DURATION:PT1H
X-Robots-Tag:noindex
X-PUBLISHED-TTL:PT1H
BEGIN:VTIMEZONE
TZID:America/New_York
BEGIN:DAYLIGHT
TZOFFSETFROM:-0500
TZOFFSETTO:-0400
TZNAME:EDT
DTSTART:20230312T070000
END:DAYLIGHT
BEGIN:STANDARD
TZOFFSETFROM:-0400
TZOFFSETTO:-0500
TZNAME:EST
DTSTART:20231105T060000
END:STANDARD
BEGIN:DAYLIGHT
TZOFFSETFROM:-0500
TZOFFSETTO:-0400
TZNAME:EDT
DTSTART:20240310T070000
END:DAYLIGHT
BEGIN:STANDARD
TZOFFSETFROM:-0400
TZOFFSETTO:-0500
TZNAME:EST
DTSTART:20241103T060000
END:STANDARD
BEGIN:DAYLIGHT
TZOFFSETFROM:-0500
TZOFFSETTO:-0400
TZNAME:EDT
DTSTART:20250309T070000
END:DAYLIGHT
BEGIN:STANDARD
TZOFFSETFROM:-0400
TZOFFSETTO:-0500
TZNAME:EST
DTSTART:20251102T060000
END:STANDARD
END:VTIMEZONE
BEGIN:VEVENT
DTSTART;TZID=America/New_York:20241228T090000
DTEND;TZID=America/New_York:20241228T143000
DTSTAMP:20260424T133151
CREATED:20240206T205752Z
LAST-MODIFIED:20241101T145950Z
UID:7525-1735376400-1735396200@gasocietysar.org
SUMMARY:National (NJ) - Reenactments of the Battles of Trenton and Assunpink Creek - Not SAR event
DESCRIPTION:Ten Crucial Days Commemorative Wreath Laying \n\nSunday\, December 8\, 2024\n1:30 PM  2:30 PM\n\n\nGoogle Calendar  ICS\n\n\n9:00 to 10:00 Hereditary Organization/Military Representative Commemorative Wreath Laying at Trenton Battle Monument\n11:30 to 1:30 “First Crossing” Reenactment Washington Crossing Historic Park\n01:30 2:15 Hereditary Organization/Military Representative Commemorative Wreath Laying at Washington Crossing Historic Park Wreath Laying\n\n  \n\n 7 Dec.\, 2024 – Traversing the Ten Crucial Days Tour\n 8 Dec.\, 2024 – “First Crossing” and “Washington’s Landing” Reenactments with Wreath Commemoration at the Pennsylvania and New Jersey Washington Crossing Parks\n 27 Dec.\, 2024 – Traversing the Ten Crucial Days Tour\n 28 Dec.\, 2024 – Commemoration of the Battles of Trenton and Assumpink Creek with Wreath Ceremonies.\n 4 Jan.\, 2025 – Traversing the Ten Crucial Days Tour\n 18 Jan.\, 2025 – Traversing the Ten Crucial Days Tour\n\nThe Ten Crucial Days starting with Trenton and ending with Princeton only counts as ONE National Society SAR Event.
URL:https://gasocietysar.org/event/national-nj-ten-crucial-days-trenton-nj/
LOCATION:GA
CATEGORIES:National Events
END:VEVENT
END:VCALENDAR