BEGIN:VCALENDAR
VERSION:2.0
PRODID:-//Georgia Society, Sons of the American Revolution - ECPv6.15.20//NONSGML v1.0//EN
CALSCALE:GREGORIAN
METHOD:PUBLISH
X-ORIGINAL-URL:https://gasocietysar.org
X-WR-CALDESC:Events for Georgia Society, Sons of the American Revolution
REFRESH-INTERVAL;VALUE=DURATION:PT1H
X-Robots-Tag:noindex
X-PUBLISHED-TTL:PT1H
BEGIN:VTIMEZONE
TZID:America/New_York
BEGIN:DAYLIGHT
TZOFFSETFROM:-0500
TZOFFSETTO:-0400
TZNAME:EDT
DTSTART:20240310T070000
END:DAYLIGHT
BEGIN:STANDARD
TZOFFSETFROM:-0400
TZOFFSETTO:-0500
TZNAME:EST
DTSTART:20241103T060000
END:STANDARD
BEGIN:DAYLIGHT
TZOFFSETFROM:-0500
TZOFFSETTO:-0400
TZNAME:EDT
DTSTART:20250309T070000
END:DAYLIGHT
BEGIN:STANDARD
TZOFFSETFROM:-0400
TZOFFSETTO:-0500
TZNAME:EST
DTSTART:20251102T060000
END:STANDARD
BEGIN:DAYLIGHT
TZOFFSETFROM:-0500
TZOFFSETTO:-0400
TZNAME:EDT
DTSTART:20260308T070000
END:DAYLIGHT
BEGIN:STANDARD
TZOFFSETFROM:-0400
TZOFFSETTO:-0500
TZNAME:EST
DTSTART:20261101T060000
END:STANDARD
END:VTIMEZONE
BEGIN:VEVENT
DTSTART;TZID=America/New_York:20250117T100000
DTEND;TZID=America/New_York:20250117T113000
DTSTAMP:20260424T120759
CREATED:20240702T193837Z
LAST-MODIFIED:20241229T191653Z
UID:7901-1737108000-1737113400@gasocietysar.org
SUMMARY:National (SC) - Battle of Cowpens
DESCRIPTION:244th Anniversary Commemoration of the Battle of Cowpens\nWhen: 17 January 2025\, Friday at 10:00 AM \nWhere: Cowpens national Battlefield\, 4001 Chesnee Highway\, Gaffney\, SC   29341 \nSponsored by the Daniel Morgan Chapter South Carolina Society SAR \n  \nWreath Registration information to Ray Stapleton\, Secretary Daniel Morgan Chapter South Carolina Society SAR at \nstapler1@comcast.net \nPresenter Name\, Title\, and Organization (Chapter and Society)
URL:https://gasocietysar.org/event/national-sc-battle-of-cowpens/
LOCATION:Cowpens National Battlefield\, 4001 Chesnee Highway\, Gaffney\, SC\, 29341\, United States
CATEGORIES:Historic Sites & Celebrations,National Events
END:VEVENT
END:VCALENDAR