BEGIN:VCALENDAR
VERSION:2.0
PRODID:-//Georgia Society, Sons of the American Revolution - ECPv6.15.20//NONSGML v1.0//EN
CALSCALE:GREGORIAN
METHOD:PUBLISH
X-ORIGINAL-URL:https://gasocietysar.org
X-WR-CALDESC:Events for Georgia Society, Sons of the American Revolution
REFRESH-INTERVAL;VALUE=DURATION:PT1H
X-Robots-Tag:noindex
X-PUBLISHED-TTL:PT1H
BEGIN:VTIMEZONE
TZID:America/New_York
BEGIN:DAYLIGHT
TZOFFSETFROM:-0500
TZOFFSETTO:-0400
TZNAME:EDT
DTSTART:20240310T070000
END:DAYLIGHT
BEGIN:STANDARD
TZOFFSETFROM:-0400
TZOFFSETTO:-0500
TZNAME:EST
DTSTART:20241103T060000
END:STANDARD
BEGIN:DAYLIGHT
TZOFFSETFROM:-0500
TZOFFSETTO:-0400
TZNAME:EDT
DTSTART:20250309T070000
END:DAYLIGHT
BEGIN:STANDARD
TZOFFSETFROM:-0400
TZOFFSETTO:-0500
TZNAME:EST
DTSTART:20251102T060000
END:STANDARD
BEGIN:DAYLIGHT
TZOFFSETFROM:-0500
TZOFFSETTO:-0400
TZNAME:EDT
DTSTART:20260308T070000
END:DAYLIGHT
BEGIN:STANDARD
TZOFFSETFROM:-0400
TZOFFSETTO:-0500
TZNAME:EST
DTSTART:20261101T060000
END:STANDARD
END:VTIMEZONE
BEGIN:VEVENT
DTSTART;TZID=America/New_York:20250509T080000
DTEND;TZID=America/New_York:20250509T120000
DTSTAMP:20260424T052917
CREATED:20240702T195619Z
LAST-MODIFIED:20250504T151150Z
UID:7911-1746777600-1746792000@gasocietysar.org
SUMMARY:National (FL) - Galvez Day - Battle of Pensacola
DESCRIPTION:The National Society SAR and the Florida Society SAR invite you to a National SAR event honoring The Battle of Pensacola and General Bernardo de Galvez.\nSchedule (all times are in Central Time):\n08:30 – Color Guard Muster at Fort George \n09:45 – Color Guard procession from Fort George down to the Galvez Monument \n10:00-10:30 – Ceremony at the Galvez Monument \n11:30 – 2:30 – Luncheon at Pensacola Yacht Club (Reservations are REQUIRED.  Link below) \n3:00 – 3:30 – Wreath Laying at the Minuteman Monument in Veterans Memorial Park \n  \nThe Color Guard will have the pleasure of once again being under the command of Scott Collins\, Vice President General for the NSSAR South Atlantic District and the NSSAR Color Guard Commander. \nYou’ll note that there are some changes to the schedule from what has been published.  There is no service at St. Michael’s Basilica this year due to scheduling problems\, so the overall ceremony in the morning will be much shorter.  Also\, the women from the DAR will be “mustering” with the color guard up at Fort George and following behind the Color Guard as we come down Palafox Street to the Monument.  Unlike past years\, I have asked that the color guard not have to stand flanking the monument with the flags for the entire ceremony but rather post the colors and be able to then find a seat or find some shade.  The City of Pensacola is running the morning ceremony\, and they have asked that we not retire the colors at the end of the ceremony. \n  \nFor those who are staying for the luncheon and the wreath laying\, Rhonda Brach\, the current Regent of the Fort Pickens DAR\, has offered her house at 903 N. Spring Street for Color Guardsmen and others to come and cool off a bit before heading to the Luncheon at 11:30. \n  \nLink to purchase a ticket for the Luncheon:  https://ecom.roller.app/uwfhistorictrust/galvezpublicluncheon/en-us/home \n 
URL:https://gasocietysar.org/event/national-fl-galvez-day-battle-of-pensacola/
LOCATION:GA
CATEGORIES:Miscellaneous Events,National Events
END:VEVENT
END:VCALENDAR