BEGIN:VCALENDAR
VERSION:2.0
PRODID:-//Georgia Society, Sons of the American Revolution - ECPv6.15.20//NONSGML v1.0//EN
CALSCALE:GREGORIAN
METHOD:PUBLISH
X-ORIGINAL-URL:https://gasocietysar.org
X-WR-CALDESC:Events for Georgia Society, Sons of the American Revolution
REFRESH-INTERVAL;VALUE=DURATION:PT1H
X-Robots-Tag:noindex
X-PUBLISHED-TTL:PT1H
BEGIN:VTIMEZONE
TZID:America/New_York
BEGIN:DAYLIGHT
TZOFFSETFROM:-0500
TZOFFSETTO:-0400
TZNAME:EDT
DTSTART:20240310T070000
END:DAYLIGHT
BEGIN:STANDARD
TZOFFSETFROM:-0400
TZOFFSETTO:-0500
TZNAME:EST
DTSTART:20241103T060000
END:STANDARD
BEGIN:DAYLIGHT
TZOFFSETFROM:-0500
TZOFFSETTO:-0400
TZNAME:EDT
DTSTART:20250309T070000
END:DAYLIGHT
BEGIN:STANDARD
TZOFFSETFROM:-0400
TZOFFSETTO:-0500
TZNAME:EST
DTSTART:20251102T060000
END:STANDARD
BEGIN:DAYLIGHT
TZOFFSETFROM:-0500
TZOFFSETTO:-0400
TZNAME:EDT
DTSTART:20260308T070000
END:DAYLIGHT
BEGIN:STANDARD
TZOFFSETFROM:-0400
TZOFFSETTO:-0500
TZNAME:EST
DTSTART:20261101T060000
END:STANDARD
END:VTIMEZONE
BEGIN:VEVENT
DTSTART;TZID=America/New_York:20250526T080000
DTEND;TZID=America/New_York:20250526T170000
DTSTAMP:20260424T052850
CREATED:20240702T201237Z
LAST-MODIFIED:20240702T201237Z
UID:7920-1748246400-1748278800@gasocietysar.org
SUMMARY:National (DC) - National Memorial Day Parade
DESCRIPTION:Save teh date – On the Monday of Memorial day normally at 2:00 PM start time
URL:https://gasocietysar.org/event/national-dc-national-memorial-day-parade/
LOCATION:GA
CATEGORIES:Miscellaneous Events,National Events
END:VEVENT
BEGIN:VEVENT
DTSTART;TZID=America/New_York:20250526T080000
DTEND;TZID=America/New_York:20250526T170000
DTSTAMP:20260424T052850
CREATED:20240702T201410Z
LAST-MODIFIED:20240702T201427Z
UID:7922-1748246400-1748278800@gasocietysar.org
SUMMARY:Memorial Day Events
DESCRIPTION:Please support the SAR by participating in community events.
URL:https://gasocietysar.org/event/memorial-day-events/
LOCATION:GA
CATEGORIES:Miscellaneous Events,National Events
END:VEVENT
END:VCALENDAR