BEGIN:VCALENDAR
VERSION:2.0
PRODID:-//Georgia Society, Sons of the American Revolution - ECPv6.15.20//NONSGML v1.0//EN
CALSCALE:GREGORIAN
METHOD:PUBLISH
X-ORIGINAL-URL:https://gasocietysar.org
X-WR-CALDESC:Events for Georgia Society, Sons of the American Revolution
REFRESH-INTERVAL;VALUE=DURATION:PT1H
X-Robots-Tag:noindex
X-PUBLISHED-TTL:PT1H
BEGIN:VTIMEZONE
TZID:America/New_York
BEGIN:DAYLIGHT
TZOFFSETFROM:-0500
TZOFFSETTO:-0400
TZNAME:EDT
DTSTART:20240310T070000
END:DAYLIGHT
BEGIN:STANDARD
TZOFFSETFROM:-0400
TZOFFSETTO:-0500
TZNAME:EST
DTSTART:20241103T060000
END:STANDARD
BEGIN:DAYLIGHT
TZOFFSETFROM:-0500
TZOFFSETTO:-0400
TZNAME:EDT
DTSTART:20250309T070000
END:DAYLIGHT
BEGIN:STANDARD
TZOFFSETFROM:-0400
TZOFFSETTO:-0500
TZNAME:EST
DTSTART:20251102T060000
END:STANDARD
BEGIN:DAYLIGHT
TZOFFSETFROM:-0500
TZOFFSETTO:-0400
TZNAME:EDT
DTSTART:20260308T070000
END:DAYLIGHT
BEGIN:STANDARD
TZOFFSETFROM:-0400
TZOFFSETTO:-0500
TZNAME:EST
DTSTART:20261101T060000
END:STANDARD
END:VTIMEZONE
BEGIN:VEVENT
DTSTART;TZID=America/New_York:20250816T100000
DTEND;TZID=America/New_York:20250816T120000
DTSTAMP:20260423T235032
CREATED:20250520T225312Z
LAST-MODIFIED:20250520T225312Z
UID:18054-1755338400-1755345600@gasocietysar.org
SUMMARY:National (KY) - Battle of Blue Licks - 10:00 AM
DESCRIPTION:The 2025 Battle of Blue Licks Memorial Service is on Saturday 16 August at 10:00 a.m.  \nThis National Society SAR color guard event is held in the Blue Licks Battlefield Resort Park near Carlisle\, KY.   Please forward this email to anyone in your chapter that may be interested. \nAnyone interested in presenting a wreath\, participating in the color guard\, or the gun salute should contact Scott Giltner at stgilt@earthlink.net .  If you want your wreath listed in the printed program you should register the wreath by 5:00 p.m. on 10 August. \nPlease indicate if you will be bringing your state flag.  Color guard participants are requested to muster at 8:45 a.m. at the monument on the day of the ceremony. \nThose carrying flintlock firearms will muster for the safety inspection near the lodge at 8:30 a.m. \nDetailed instructions on the color guard and mustering points will be provided closer to the date of the ceremony. \n  \nAUGUST \n16th – Annual Battle of Blue Licks Memorial Ceremony \nLocation: Blue Licks Battlefield State Resort Park\, 10299 Maysville Rd.\, Carlisle\, KY \nTime: 10:00 a.m. (color guard muster at 8:45 a.m.) (rifle/musket men muster at 8:30 a.m.) \n  \nOn Friday\, 15 August at 4:30 p.m. there will be a fife and drum presentation on the music of the American Revolution.  Attached id the flyer for this event.  Several other events of interest are being planned as part of the greater Battle of Blue Licks weekend. More information on these events will also be provided closer to the date of the ceremony. \nCurrent information can be found on the Gov. Isaac Shelby chapter website at https://gissar.org/pages/blue_licks.html . \nThe Gov. Isaac Shelby chapter looks forward to your participation in the 2025 Battle of Blue Licks Memorial Ceremony. \nIn Patriotic Service\, \nScott Giltner\, Secretary\, Gov. Isaac Shelby Chapter \nAccommodations \nBlue Licks Battlefield State Resort Park – 10299 Maysville Rd. – Carlisle\, KY 40311 – Phone: (859) 289-5507\nhttps://guestrez.megasyshms.com/JN39V/blue-licks-battlefield-state-resort-park \nHampton Inn Maysville – 3-star hotel – 503 Market Place Drive – Maysville\, KY 41056 – Phone: (606) 759-0600\nwww.hilton.com \nFrench Quarter Inn – 3-star hotel – 25 E McDonald Pkwy – Maysville\, KY 41056 – Phone: (606) 564-8000 \nSuper 8 by Wyndham Maysville KY – 2-star hotel – 550 Tucker Dr – Maysville\, KY 41056 – Phone: (606) 375-4751\nwww.wyndhamhotels.com/super-8 \nQuality Inn – 2-star hotel – 1428a US-68 – Maysville\, KY 41056 – Phone: (606) 759-5696\nwww.choicehotels.com
URL:https://gasocietysar.org/event/national-ky-battle-of-blue-licks-1000-am/
LOCATION:GA
CATEGORIES:National Events
END:VEVENT
END:VCALENDAR