BEGIN:VCALENDAR
VERSION:2.0
PRODID:-//Georgia Society, Sons of the American Revolution - ECPv6.15.20//NONSGML v1.0//EN
CALSCALE:GREGORIAN
METHOD:PUBLISH
X-WR-CALNAME:Georgia Society, Sons of the American Revolution
X-ORIGINAL-URL:https://gasocietysar.org
X-WR-CALDESC:Events for Georgia Society, Sons of the American Revolution
REFRESH-INTERVAL;VALUE=DURATION:PT1H
X-Robots-Tag:noindex
X-PUBLISHED-TTL:PT1H
BEGIN:VTIMEZONE
TZID:America/New_York
BEGIN:DAYLIGHT
TZOFFSETFROM:-0500
TZOFFSETTO:-0400
TZNAME:EDT
DTSTART:20240310T070000
END:DAYLIGHT
BEGIN:STANDARD
TZOFFSETFROM:-0400
TZOFFSETTO:-0500
TZNAME:EST
DTSTART:20241103T060000
END:STANDARD
BEGIN:DAYLIGHT
TZOFFSETFROM:-0500
TZOFFSETTO:-0400
TZNAME:EDT
DTSTART:20250309T070000
END:DAYLIGHT
BEGIN:STANDARD
TZOFFSETFROM:-0400
TZOFFSETTO:-0500
TZNAME:EST
DTSTART:20251102T060000
END:STANDARD
BEGIN:DAYLIGHT
TZOFFSETFROM:-0500
TZOFFSETTO:-0400
TZNAME:EDT
DTSTART:20260308T070000
END:DAYLIGHT
BEGIN:STANDARD
TZOFFSETFROM:-0400
TZOFFSETTO:-0500
TZNAME:EST
DTSTART:20261101T060000
END:STANDARD
END:VTIMEZONE
BEGIN:VEVENT
DTSTART;TZID=America/New_York:20251002T080000
DTEND;TZID=America/New_York:20251004T170000
DTSTAMP:20260423T210805
CREATED:20250520T231820Z
LAST-MODIFIED:20250520T232149Z
UID:18062-1759392000-1759597200@gasocietysar.org
SUMMARY:National Society SAR - Fall Leadership
DESCRIPTION:The Galt House – Louisville\, KY
URL:https://gasocietysar.org/event/national-society-sar-fall-leadership-2/
LOCATION:GA
CATEGORIES:National Events,NSSAR Meetings
END:VEVENT
BEGIN:VEVENT
DTSTART;TZID=America/New_York:20251004T100000
DTEND;TZID=America/New_York:20251004T110000
DTSTAMP:20260423T210805
CREATED:20250520T233023Z
LAST-MODIFIED:20250705T155417Z
UID:18071-1759572000-1759575600@gasocietysar.org
SUMMARY:National (NJ) - Battle of Chestnut Neck
DESCRIPTION:Battle of Chestnut Neck Memorial Service\n\n10:00 AM  11:00 AM\nChestnut Neck Battle Monument (map)\nGoogle Calendar  ICS\n\n\n\n\n\n\n\n\nCommemoration and memorial service for the 1778 Battle of Chestnut Neck. For more information about the battle\, click here. This annual National SAR Color Guard event is hosted by the Somers Chapter. All are welcome. \n\nChestnut Neck Battle Monument717 Old New York Road\, Port Republic\, NJ\, 08241United States (map)\n\nhttp://Colrichardsomers.com
URL:https://gasocietysar.org/event/national-nj-battle-of-chestnut-neck/
LOCATION:GA
CATEGORIES:National Events
END:VEVENT
END:VCALENDAR