BEGIN:VCALENDAR
VERSION:2.0
PRODID:-//Georgia Society, Sons of the American Revolution - ECPv6.15.20//NONSGML v1.0//EN
CALSCALE:GREGORIAN
METHOD:PUBLISH
X-ORIGINAL-URL:https://gasocietysar.org
X-WR-CALDESC:Events for Georgia Society, Sons of the American Revolution
REFRESH-INTERVAL;VALUE=DURATION:PT1H
X-Robots-Tag:noindex
X-PUBLISHED-TTL:PT1H
BEGIN:VTIMEZONE
TZID:America/New_York
BEGIN:DAYLIGHT
TZOFFSETFROM:-0500
TZOFFSETTO:-0400
TZNAME:EDT
DTSTART:20240310T070000
END:DAYLIGHT
BEGIN:STANDARD
TZOFFSETFROM:-0400
TZOFFSETTO:-0500
TZNAME:EST
DTSTART:20241103T060000
END:STANDARD
BEGIN:DAYLIGHT
TZOFFSETFROM:-0500
TZOFFSETTO:-0400
TZNAME:EDT
DTSTART:20250309T070000
END:DAYLIGHT
BEGIN:STANDARD
TZOFFSETFROM:-0400
TZOFFSETTO:-0500
TZNAME:EST
DTSTART:20251102T060000
END:STANDARD
BEGIN:DAYLIGHT
TZOFFSETFROM:-0500
TZOFFSETTO:-0400
TZNAME:EDT
DTSTART:20260308T070000
END:DAYLIGHT
BEGIN:STANDARD
TZOFFSETFROM:-0400
TZOFFSETTO:-0500
TZNAME:EST
DTSTART:20261101T060000
END:STANDARD
END:VTIMEZONE
BEGIN:VEVENT
DTSTART;TZID=America/New_York:20251026T100000
DTEND;TZID=America/New_York:20251026T110000
DTSTAMP:20260423T194729
CREATED:20250520T234241Z
LAST-MODIFIED:20250520T234241Z
UID:18079-1761472800-1761476400@gasocietysar.org
SUMMARY:National (NJ) - Battle of Red Bank
DESCRIPTION:Battle of Red Bank Commemoration\n\nSunday\, October 26\, 2025\n10:00 AM  11:00 AM\n\n\n111 West Military DriveNational Park\, NJ\, 08063United States (map)\n\n\nGoogle Calendar  ICS\n\n\n\n\n\n\n\n\n\nJoin in the commemoration of the 1777 assault on Fort Mercer of the grounds surrounding the original fort in Red Bank Battle Field Park\, National Park\, NJ. The anniversary of this important Philadelphia Campaign attack should be an especially interesting and action-filled event. At this event\, guests can tour the Whitall House. Constructed in 1748 for James and Ann Whitall\, this house was designed in the Georgian style and became the centerpiece of their 400-acre plantation on the banks of the Delaware River. During the American Revolution\, the house was adjacent to Fort Mercer\, the site of a colonists’ victory over the Hessians. Following the battle\, the house was used as a hospital. Acquired by the county in 1904\, the house and grounds are interpreted as Red Bank Battlefield Park and are open to the public on a daily basis for recreation. \nClick here for more information about the Battle of Red Bank and the Whitall House. \nNATIONAL COLOR GUARD EVENT: \nThe Memorial service for the 14 Continental Soldiers killed as a result of the Battle of Red bank will start at 1 PM and include the following highlights: \n\n\nSpecial Memorial Service for the 14 Rhode Island soldiers for the 1st and 2nd Rhode Island Regiment. We hope to include a representative from the 1st or 2nd RI Regiment and the Hessian Unit. \n\n\nJen Janofsky\, Curator/Director of Red Bank Battlefield\, is scheduled to speak \n\n\nHonored during the ceremony will be recognition of the Hessian Soldiers who gave their lives that day. A speaker will overview the recent archaeological dig at the North end of the park\, unveiling bone fragments from over 17 Hessians. Specific identification of the fragments is still being conducted. This is the largest find of Hessian soldier remains from the Revolutionary War. \n\n\nLegacy Marker/Heritage Flag Ceremony is planned to be conducted after the Memorial Service \n\n\nContact: Tim Ogline\, SJCSAR President\, Larry Nelson\, SJCSAR Secretary \n\n\nColor Guard: F&D? Arrive 1215. Events starts 1-1:15\, Legacy follows; Reenactment 2:15 \n\n\nAttending: Ogline\, Nelson\, McGill\, Williams\, Serfass\, Davis\, \n\n\n\n\n\n\n\n\n\nSource: https://friendsofredbank.weebly.com/18th-century-field-day.html
URL:https://gasocietysar.org/event/national-nj-battle-of-red-bank-2/
LOCATION:GA
CATEGORIES:National Events
END:VEVENT
END:VCALENDAR