BEGIN:VCALENDAR
VERSION:2.0
PRODID:-//Georgia Society, Sons of the American Revolution - ECPv6.15.20//NONSGML v1.0//EN
CALSCALE:GREGORIAN
METHOD:PUBLISH
X-ORIGINAL-URL:https://gasocietysar.org
X-WR-CALDESC:Events for Georgia Society, Sons of the American Revolution
REFRESH-INTERVAL;VALUE=DURATION:PT1H
X-Robots-Tag:noindex
X-PUBLISHED-TTL:PT1H
BEGIN:VTIMEZONE
TZID:America/New_York
BEGIN:DAYLIGHT
TZOFFSETFROM:-0500
TZOFFSETTO:-0400
TZNAME:EDT
DTSTART:20240310T070000
END:DAYLIGHT
BEGIN:STANDARD
TZOFFSETFROM:-0400
TZOFFSETTO:-0500
TZNAME:EST
DTSTART:20241103T060000
END:STANDARD
BEGIN:DAYLIGHT
TZOFFSETFROM:-0500
TZOFFSETTO:-0400
TZNAME:EDT
DTSTART:20250309T070000
END:DAYLIGHT
BEGIN:STANDARD
TZOFFSETFROM:-0400
TZOFFSETTO:-0500
TZNAME:EST
DTSTART:20251102T060000
END:STANDARD
BEGIN:DAYLIGHT
TZOFFSETFROM:-0500
TZOFFSETTO:-0400
TZNAME:EDT
DTSTART:20260308T070000
END:DAYLIGHT
BEGIN:STANDARD
TZOFFSETFROM:-0400
TZOFFSETTO:-0500
TZNAME:EST
DTSTART:20261101T060000
END:STANDARD
END:VTIMEZONE
BEGIN:VEVENT
DTSTART;VALUE=DATE:20251111
DTEND;VALUE=DATE:20251112
DTSTAMP:20260423T194849
CREATED:20250520T234350Z
LAST-MODIFIED:20250520T234350Z
UID:18081-1762819200-1762905599@gasocietysar.org
SUMMARY:Veterans Day
DESCRIPTION:
URL:https://gasocietysar.org/event/veterans-day-3/
LOCATION:GA
CATEGORIES:National Events
END:VEVENT
BEGIN:VEVENT
DTSTART;TZID=America/New_York:20251111T150000
DTEND;TZID=America/New_York:20251111T160000
DTSTAMP:20260423T194849
CREATED:20251030T191657Z
LAST-MODIFIED:20251030T191658Z
UID:18944-1762873200-1762876800@gasocietysar.org
SUMMARY:Snellville Veterans Day - 3:00 PM
DESCRIPTION:Snellville Veterans Day – 3:00 PM \nDate: Tuesday 11 November 2025 \nSnellville Veterans Memorial – 2342 Oak Rd\, SW\, Snellville\, GA   30078
URL:https://gasocietysar.org/event/snellville-veterans-day-300-pm/
LOCATION:Snellville Veterans Memorial\, 2342 Oak Road SW\, Snellville\, GA\, 30078\, United States
CATEGORIES:GASSAR Color Guard,National Events
END:VEVENT
END:VCALENDAR