BEGIN:VCALENDAR
VERSION:2.0
PRODID:-//Georgia Society, Sons of the American Revolution - ECPv6.15.20//NONSGML v1.0//EN
CALSCALE:GREGORIAN
METHOD:PUBLISH
X-ORIGINAL-URL:https://gasocietysar.org
X-WR-CALDESC:Events for Georgia Society, Sons of the American Revolution
REFRESH-INTERVAL;VALUE=DURATION:PT1H
X-Robots-Tag:noindex
X-PUBLISHED-TTL:PT1H
BEGIN:VTIMEZONE
TZID:America/New_York
BEGIN:DAYLIGHT
TZOFFSETFROM:-0500
TZOFFSETTO:-0400
TZNAME:EDT
DTSTART:20160313T070000
END:DAYLIGHT
BEGIN:STANDARD
TZOFFSETFROM:-0400
TZOFFSETTO:-0500
TZNAME:EST
DTSTART:20161106T060000
END:STANDARD
BEGIN:DAYLIGHT
TZOFFSETFROM:-0500
TZOFFSETTO:-0400
TZNAME:EDT
DTSTART:20170312T070000
END:DAYLIGHT
BEGIN:STANDARD
TZOFFSETFROM:-0400
TZOFFSETTO:-0500
TZNAME:EST
DTSTART:20171105T060000
END:STANDARD
BEGIN:DAYLIGHT
TZOFFSETFROM:-0500
TZOFFSETTO:-0400
TZNAME:EDT
DTSTART:20180311T070000
END:DAYLIGHT
BEGIN:STANDARD
TZOFFSETFROM:-0400
TZOFFSETTO:-0500
TZNAME:EST
DTSTART:20181104T060000
END:STANDARD
BEGIN:DAYLIGHT
TZOFFSETFROM:-0500
TZOFFSETTO:-0400
TZNAME:EDT
DTSTART:20190310T070000
END:DAYLIGHT
BEGIN:STANDARD
TZOFFSETFROM:-0400
TZOFFSETTO:-0500
TZNAME:EST
DTSTART:20191103T060000
END:STANDARD
BEGIN:DAYLIGHT
TZOFFSETFROM:-0500
TZOFFSETTO:-0400
TZNAME:EDT
DTSTART:20200308T070000
END:DAYLIGHT
BEGIN:STANDARD
TZOFFSETFROM:-0400
TZOFFSETTO:-0500
TZNAME:EST
DTSTART:20201101T060000
END:STANDARD
BEGIN:DAYLIGHT
TZOFFSETFROM:-0500
TZOFFSETTO:-0400
TZNAME:EDT
DTSTART:20210314T070000
END:DAYLIGHT
BEGIN:STANDARD
TZOFFSETFROM:-0400
TZOFFSETTO:-0500
TZNAME:EST
DTSTART:20211107T060000
END:STANDARD
BEGIN:DAYLIGHT
TZOFFSETFROM:-0500
TZOFFSETTO:-0400
TZNAME:EDT
DTSTART:20220313T070000
END:DAYLIGHT
BEGIN:STANDARD
TZOFFSETFROM:-0400
TZOFFSETTO:-0500
TZNAME:EST
DTSTART:20221106T060000
END:STANDARD
BEGIN:DAYLIGHT
TZOFFSETFROM:-0500
TZOFFSETTO:-0400
TZNAME:EDT
DTSTART:20230312T070000
END:DAYLIGHT
BEGIN:STANDARD
TZOFFSETFROM:-0400
TZOFFSETTO:-0500
TZNAME:EST
DTSTART:20231105T060000
END:STANDARD
END:VTIMEZONE
BEGIN:VEVENT
DTSTART;TZID=America/New_York:20221217T120000
DTEND;TZID=America/New_York:20221217T133000
DTSTAMP:20260424T111549
CREATED:20220808T182059Z
LAST-MODIFIED:20221214T154421Z
UID:6385-1671278400-1671283800@gasocietysar.org
SUMMARY:Wreaths Across America event in Lawrenceville\, GA
DESCRIPTION:There will be many Wreaths Across America Events on this weekend and at various times.  Please try to support any of these events you can attend.  Wreaths Across America is considered a National SAR Color guard event. \nProgram will stat at NOON.  Color guard should report about forty-five minutes to an hour early. \nThe Georgia Society SAR Color Guard will be participating at \nEast Shadowlawn Memorial Gardens \nHighway 124 \n87 Scenic Highway S \nLawrenceville\, Georgia \n\nThe cemetery will have 2 employees directing where to park as they enter.\n\nThe Color Guard may park to the left near the white buildings. No one else is parking there. They may enter the building using the steps on the right side of the first building to use the restroom\, change clothes\, or get some coffee or hot chocolate. These steps enter into the kitchen and the restroom is immediately past the kitchen.
URL:https://gasocietysar.org/event/wreaths-across-america-events/
CATEGORIES:GASSAR Color Guard,National Events
END:VEVENT
BEGIN:VEVENT
DTSTART;VALUE=DATE:20221217
DTEND;VALUE=DATE:20221218
DTSTAMP:20260424T111549
CREATED:20220816T223008Z
LAST-MODIFIED:20220816T223008Z
UID:6487-1671235200-1671321599@gasocietysar.org
SUMMARY:Wreaths Across America events
DESCRIPTION:Various locations and various times – please try to support these events as you are able.
URL:https://gasocietysar.org/event/wreaths-across-america-events-2/
CATEGORIES:National Events
END:VEVENT
BEGIN:VEVENT
DTSTART;TZID=America/New_York:20221119T100000
DTEND;TZID=America/New_York:20221119T130000
DTSTAMP:20260424T111549
CREATED:20220808T182800Z
LAST-MODIFIED:20220823T152452Z
UID:6394-1668852000-1668862800@gasocietysar.org
SUMMARY:Fort Morris Come & Take it
DESCRIPTION:This is a National Society SAR event. \nFort Morris 17th Annual “Come and Take It!” Commemoration \nGeorgia Society Sons of the American Revolution \nSaturday\, November 19th\, 2022 at 10:00am \n  \nFriday\, November 18th\, at 5:00pm – Hospitality & Lodging:  Holiday Inn Express\, 4601 Hwy 17; Richmond Hill; Exit #87 of I-95; Call (912) 756-6668 ask for the Sons of the American Revolution Rate – (code SOR) $149.00 for rooms with a King-size bed or two Double-sized beds. The cut-off date for special rate is September 23rd\, so if you want to participate\, reserve now. \n6:30pm – Dinner:  Love’s Seafood Restaurant\, 6817 Chief of Love Rd (912) 925-3616) \n  \nSat\, Nov. 19th\, at 10:00am – Fort Morris Sunbury Memorial Ceremony; Fort Morris Historic Site\, 2559 Fort Morris Rd\, Midway\, GA 31320 Exit #76 off I-95 (912) 884-5999; CAR\, DAR & SAR Chapter Representatives will receive a “Come and Take It!” Flag Streamer. \n  \n 12:00 noon – Lunch: Sunbury Crab Co\, 541 Brigantine-Dunmore Road (912) 884-8640 \n  \nNumber of Reservations:   Friday Dinner:                 Saturday Lunch:                      \n  \n  \nName(s):                                                                                                                                                                      \n  \nEmail:                                                                                      Telephone:                                                                   \n  \n  \n  \nParticipation:  Flag Bearer:                     Musket Salute:                      Wreath Presenter:             \n  \nOrganization:                                                                          Title:                                                                             \n  \nName of Wreath Presenter:                                                   Location of Residence:                                                 \n  \nTo ensure recognition in the printed program\, please respond ASAP  \nstevenhinson61@gmail.com \nMail to:  Steven Hinson\, 128 Deerfield Dr\, Brunswick\, GA 31525\, (912) 258-2033
URL:https://gasocietysar.org/event/fort-morris-come-take-it/
LOCATION:Fort Morris Historic Site State Park\, 2559 fort Morris Road\, Midway\, GA\, 31320\, United States
CATEGORIES:GASSAR Color Guard,Historic Sites & Celebrations,National Events
END:VEVENT
BEGIN:VEVENT
DTSTART;TZID=America/New_York:20221111T150000
DTEND;TZID=America/New_York:20221111T170000
DTSTAMP:20260424T111549
CREATED:20220818T161906Z
LAST-MODIFIED:20221110T013226Z
UID:6494-1668178800-1668186000@gasocietysar.org
SUMMARY:Veterans Day - Snellville\, GA - CANCELLED
DESCRIPTION:Event has been cancelled due to inclement weather that is in the forecast \nPlease join us for a Veterans Day Program at the Veterans Memorial located in front of City Hall in Snellville\, GA \nProgram will begin at 3:00 PM \n 
URL:https://gasocietysar.org/event/veterans-day-snellville-ga/
LOCATION:Snellville Veterans Memorial\, 2342 Oak Road SW\, Snellville\, GA\, 30078\, United States
CATEGORIES:GA Society Events,GASSAR Color Guard,National Events
END:VEVENT
BEGIN:VEVENT
DTSTART;TZID=America/New_York:20221111T110000
DTEND;TZID=America/New_York:20221111T123000
DTSTAMP:20260424T111549
CREATED:20220816T220702Z
LAST-MODIFIED:20221110T013325Z
UID:6471-1668164400-1668169800@gasocietysar.org
SUMMARY:Oconee County Veterans Memorial - moved to gym
DESCRIPTION:Event has been moved to the Oconee Veterans Park Gymnasium located a short distance from the Memorial inside the park. \nA BBQ will be hosted by Compatriot Jay Guest at the Oconee County Senior Center for the Color Guard after the event at the Gym. \nVeterans Day Event \n11:00 AM \nOconee County Veterans Memorial at the Oconee County Veterans Park at 3500 Hog Mountain road\, Watkinsville\, GA   30677
URL:https://gasocietysar.org/event/oconee-county-veterans-memorial/
LOCATION:Oconee County Veterans Memorial\, 3500 Hog Mountain Road\, Watkinsville\, GA\, 30677\, United States
CATEGORIES:GA Society Events,GASSAR Color Guard,National Events
END:VEVENT
BEGIN:VEVENT
DTSTART;TZID=America/New_York:20221019T080000
DTEND;TZID=America/New_York:20221019T170000
DTSTAMP:20260424T111549
CREATED:20220816T215230Z
LAST-MODIFIED:20220905T145729Z
UID:6467-1666166400-1666198800@gasocietysar.org
SUMMARY:Victory at Yorktown
DESCRIPTION:VIRGINIA SOCIETY & NATIONAL SOCIETY SONS OF THE AMERICAN REVOLUTION  \nWREATH LAYING CEREMONY AT THE GRAVE OF GOV. THOMAS NELSON\, JR. \n Signer of the Declaration of Independence\, War Governor of Virginia\, and Commander of Virginia’s Forces.  He gave all for Liberty. \nThank you for joining us as we honor and perpetuate the memory of Virginia’s Revolutionary War Governor Thomas Nelson\, Jr. at Grace Episcopal Church in Yorktown on October 19.  If your organization will be presenting a wreath\, please provide answers to the questions below and return this form not later than October 3  to: \nGary O. Hodges\, 211 Mistletoe Drive\, Newport News\, VA  23606-3609 \nEmail: gary.hodges1@verizon.net      Home 757-874-9078 \nFull name of State Society and Chapter or other Organization presenting a wreath: * \nName and Title of person(s) presenting the wreath: \nTelephone & Email Address:  \nName of Escort(s)\, if any: \nOther Data:  \nAll wreath presenters are requested to be on site by 9:00 AM and report to the lectern to verify correct name\, proper pronunciation\, and order of presentation.   Escorts and flag bearers are welcome.   The ceremony will start at 9:15 AM and will be completed by 10:15 AM.  All visiting SAR members are invited to join the VASSAR unit to march in the 3/4-mile parade at 10:30 AM and to attend the Patriotic Exercises afterward.  If you have any questions\, please contact Gary O. Hodges at the address and phone number shown above.  Your prompt reply will be appreciated.   Thank you.                                                            \nPLEASE NOTE STARTING TIME IS 9:15 AM \n* If your wreath does not have identification as to the State Society\, Chapter or Organization to which it belongs then please attach that information to the backside of the wreath in order to help us ensure the proper placement for the presentation ceremony. \n  \n The Yorktown Day Association cordially invites you to celebrate Yorktown Day commemorating the 241st Anniversary of the Victory at Yorktown. \n Civilian\, Coat & Tie Military\, Class A/Service Dress \nvisit www.visityorktown.org \nYorktown Day Celebration Wednesday\, October 19\, 2022 \n8:30 a.m. – Commemorative Ceremony at the French Cemetery\, Yorktown Battlefield\, sponsored by The American Friends of Lafayette and The Friends of Rochambeau. \n9:10 a.m. – Wreath-Laying Ceremony at the grave of Governor Thomas the French and American Alliance\, sponsored by the French Wars Veterans Association in Washington\, DC. \n10:30 a.m. – Yorktown Day Parade\, Main Street\, sponsored by the National Park Service. \n11:15 a.m. – Patriotic Exercises and Memorial Wreath-Laying Ceremony at the Monument to Alliance and Victory\, Yorktown. \n12:45 p.m. – 3rd Infantry Old Guard Fife and Drum performance at Yorktown Battlefield Visitor Center.  Event sponsored by Colonial National Historical Park and the Yorktown Day Association. \nAdditional Activities \nVisit the Town of York\, the National Park Service Yorktown Battlefield Visitor Center and Battlefield Tours\, the Nelson House\, the Custom House\, the Watermen’s Museum\, the Gallery at York Hall\, the York County Historical Museum\, and the American Revolution Museum at Yorktown. On the Battlefield Tour Roads\, visit the siege lines\, the redoubts\, and Surrender Field. \n  \nThe Yorktown Day Association cordially invites you to attend a Dinner Tuesday\, the eighteenth of October 6:00 p.m. \nAmerican Revolution Museum at Yorktown Virginia and Reception Wednesday\, the nineteenth of October 12:30 to 2:00 p.m.  The DAR Custom House Garden Main Street\, Yorktown \nRSVP with check using the enclosed card by September 30. \n  \nYorktown Victory Celebration 2022 RSVP Form \nPlease indicate which event you will be attending: \n__  Dinner\, Tuesday\, October 18\, 2022\, 6:00 p.m. \nAmerican Revolution Museum at Yorktown – $75.00 per person (Cash bar) -Hors d’oeuvres\, Garden Salad\, Chicken Cordon Bleu topped with a White Wine Cream Sauce (Vegetarian/GF Option: Marinated Portabella Mushrooms over GF Penne Pasta Tossed in Basil-Avocado Sauce with Roasted Vegetables)\, Garlic Mashed Potatoes\, Vegetable Medley\, and Dessert. \n__ Reception\, Wednesday\, October 19\, 2022\, 12:30–2:00 p.m. – The DAR Custom House Garden\, Yorktown – $35.00 per person (Cash bar) – A variety of refreshments and desserts will be available. \nThe reservation fees are non-refundable. A list of paid guests will assure your admission at the door. Please submit all reservations by September 30\, 2022. Reservations are taken on a first-come basis. Please notify of any special needs. \nName (s): \nAssociation Affiliation (REQUIRED—LIST ONLY ONE): \nAddress: \nPhone #: \nEmail: \n# Vegetarian Meal(s): ___  Special Needs: ___________________________________  Amount enclosed: $_____________________ \nMake checks payable to the Yorktown Day Association \nPlease mail check and this form to: Yorktown Day Association\, Post Office Box 405′ Yorktown\, Virginia 23690
URL:https://gasocietysar.org/event/victory-at-yorktown/
CATEGORIES:GASSAR Color Guard,National Events
END:VEVENT
BEGIN:VEVENT
DTSTART;TZID=America/New_York:20221007T110000
DTEND;TZID=America/New_York:20221007T150000
DTSTAMP:20260424T111549
CREATED:20220808T190351Z
LAST-MODIFIED:20220830T222714Z
UID:6418-1665140400-1665154800@gasocietysar.org
SUMMARY:Kings Mountain Commemoration – National Society SAR
DESCRIPTION:Battle of King’s Mountain \nDATE/TIME: October 07\, 2022 / 11:00 AM – 3:00 PM \nORGANIZED BY: Battle of Kings Mountain Chapter North Carolina SAR \nLOCATION: Kings Mountain National Battlefield Park\, 2625 Park Road\, Blacksburg\, SC \n  \nTHE NATIONAL SOCIETY SAR \nTHE BATTLE OF KINGS MOUNTAIN CHAPTER\, NORTH CAROLINA SAR \nAND \nTHE DANIEL MORGAN CHAPTER\, SOUTH CAROLINA SAR \nINVITES EVERYONE TO ATTEND \n  \nThe 242nd Anniversary of the Battle of Kings Mountain Friday\, October 7\, 2022\, at 11:00 am \nKings Mountain National Military Park in Blacksburg\, SC \n  \nAll SAR\, DAR\, C.A.R. and other patriotic and lineage societies & chapters are invited to participate in the annual commemorative ceremony. To register your chapter or organization\, click on the link below NO LATER THAN THE END OF THE DAY ON WEDNESDAY\, SEPTEMBER 28\, 2022\, to allow the National Park Service to prepare for the ceremony. \nQuestions about the event can be directed to: clark.h.summers@gmail.com \n  \nEVENT REGISTRATION FORM \n  \nLodging Information:  A “courtesy block” of hotel rooms with king or double-queen beds at the Hampton Inn Gastonia for $96 per night is available until 9/22/22.  Call (704) 866-9090 to make reservations and ask for the SAR group rate.  Hampton Inn Gastonia\, 1859 Remount Rd\, Gastonia NC 28054.
URL:https://gasocietysar.org/event/kings-mountain-commemoration-national-society-sar/
LOCATION:Kings Mountain National Military Park\, 2625 Park Road\, Blacksburg\, SC\, 29702\, United States
CATEGORIES:GASSAR Color Guard,Historic Sites & Celebrations,National Events
END:VEVENT
BEGIN:VEVENT
DTSTART;TZID=America/New_York:20220903T100000
DTEND;TZID=America/New_York:20220903T130000
DTSTAMP:20260424T111549
CREATED:20220816T210206Z
LAST-MODIFIED:20220816T210206Z
UID:6455-1662199200-1662210000@gasocietysar.org
SUMMARY:Battle or Eutaw Springs
DESCRIPTION:Saturday\, September 3\, 2022 \nNational Society SAR Event \n10:00 AM – Patriotic Church Service\, \nChurch of the Epiphany \n211 Epiphany Road \nEutawville\, SC \n  \n11:15 Wreath Laying Ceremony \n(WREATHS MUST BE PRE-REGISTERED TO BE PRESENTED) \nBattle Monument Park\, \nIntersection of Highways 6 & 45 \nEutaw Springs\, SC \n(GPS 33.40728\, -80.29875) \n  \nNoon – Lunch on your own at \nSweatmans BBQ \n1427 Eutaw Road \nHolly Hill\, SC \nNo reservation required – payable at the door. \n  \nWreaths \nDouglas Doster\, 480 Winding Brook Drive\, Cameron\, SC   29030 \n803-823-2824 \ndosterdouglas@gmail.com
URL:https://gasocietysar.org/event/battle-or-eutaw-springs/
CATEGORIES:GASSAR Color Guard,Historic Sites & Celebrations,National Events
END:VEVENT
BEGIN:VEVENT
DTSTART;TZID=America/New_York:20220304T080000
DTEND;TZID=America/New_York:20220305T170000
DTSTAMP:20260424T111549
CREATED:20211020T172021Z
LAST-MODIFIED:20211020T172021Z
UID:5550-1646380800-1646499600@gasocietysar.org
SUMMARY:National Spring Leadership
DESCRIPTION:Louisville\, KY
URL:https://gasocietysar.org/event/national-spring-leadership/
CATEGORIES:National Events
END:VEVENT
BEGIN:VEVENT
DTSTART;TZID=America/New_York:20220116T130000
DTEND;TZID=America/New_York:20220116T170000
DTSTAMP:20260424T111549
CREATED:20211215T195558Z
LAST-MODIFIED:20211215T195931Z
UID:5621-1642338000-1642352400@gasocietysar.org
SUMMARY:241st Battle of Cowpens Commemoration - National Society SAR Event
DESCRIPTION:Location: Cowpens National Battlefield\n4001 Chesnee Highway\nGaffney\, SC 29341 \nWreaths: There will only be ONE main wreath to represent all wreaths.\nDo NOT bring your chapter wreaths to this event.\nYou will need to REGISTER your wreath to be listed on the scrolling\nwreath presenters list that will be shown at the site and online.\nTo register please send email with Organization name and presenter info\nto\njdhoyle “at” rocketmail “dot” com \nAttendance: Due to the COVID restrictions imposed on the park by the government the\nNational Park Service is trying to keep the crowd size to a minimum.\nIf you register a wreath\, you can report this on the SAR Americanism\nreport and your physical presence at the park is not required. \nColor Guard: The National Society SAR Color Guard is supporting this event and Color\nGuardsmen are welcomed. Due to need to inform the National Park\nService of the size of the Color Guard and the need to be able to\ncommunicate with guardsmen of any changes you will need to register\nby December 31\, 2021\, on Signup Genius to participate in the event.\nPlease use the following link to sign up \nhttps://www.signupgenius.com/go/20F094CAAA92DABFD0-cowpens \nAlso\, you must have a mask with you at the event in case they are required. \nThe information printed in The Palmetto Patriot in the Winter 2021 edition page 14 concerning the date and time on the event at the Cowpens National Battlefield Park is incorrect. The event shown on SCSSAR.org on Saturday\, January 15\, 2022\, is a South Carolina Society SAR and is separate from this event.
URL:https://gasocietysar.org/event/241st-battle-of-cowpens-commemoration-national-society-sar-event/
CATEGORIES:National Events
END:VEVENT
BEGIN:VEVENT
DTSTART;TZID=America/New_York:20170928T080000
DTEND;TZID=America/New_York:20170930T170000
DTSTAMP:20260424T111549
CREATED:20170615T174003Z
LAST-MODIFIED:20170905T130128Z
UID:725-1506585600-1506790800@gasocietysar.org
SUMMARY:GSSAR Color Guard
DESCRIPTION:NSSAR Fall Leadership\, Louisville\, KY: Ed Rigel\, Sr.\, George Thurmond\, Allen Greenly\, Paul Prescott\, Shep Hammack
URL:https://gasocietysar.org/event/gssar-color-guard-12/
CATEGORIES:National Events
END:VEVENT
END:VCALENDAR