BEGIN:VCALENDAR
VERSION:2.0
PRODID:-//Georgia Society, Sons of the American Revolution - ECPv6.15.20//NONSGML v1.0//EN
CALSCALE:GREGORIAN
METHOD:PUBLISH
X-ORIGINAL-URL:https://gasocietysar.org
X-WR-CALDESC:Events for Georgia Society, Sons of the American Revolution
REFRESH-INTERVAL;VALUE=DURATION:PT1H
X-Robots-Tag:noindex
X-PUBLISHED-TTL:PT1H
BEGIN:VTIMEZONE
TZID:America/New_York
BEGIN:DAYLIGHT
TZOFFSETFROM:-0500
TZOFFSETTO:-0400
TZNAME:EDT
DTSTART:20160313T070000
END:DAYLIGHT
BEGIN:STANDARD
TZOFFSETFROM:-0400
TZOFFSETTO:-0500
TZNAME:EST
DTSTART:20161106T060000
END:STANDARD
BEGIN:DAYLIGHT
TZOFFSETFROM:-0500
TZOFFSETTO:-0400
TZNAME:EDT
DTSTART:20170312T070000
END:DAYLIGHT
BEGIN:STANDARD
TZOFFSETFROM:-0400
TZOFFSETTO:-0500
TZNAME:EST
DTSTART:20171105T060000
END:STANDARD
BEGIN:DAYLIGHT
TZOFFSETFROM:-0500
TZOFFSETTO:-0400
TZNAME:EDT
DTSTART:20180311T070000
END:DAYLIGHT
BEGIN:STANDARD
TZOFFSETFROM:-0400
TZOFFSETTO:-0500
TZNAME:EST
DTSTART:20181104T060000
END:STANDARD
END:VTIMEZONE
BEGIN:VEVENT
DTSTART;TZID=America/New_York:20170928T080000
DTEND;TZID=America/New_York:20170930T170000
DTSTAMP:20260424T123736
CREATED:20170615T174003Z
LAST-MODIFIED:20170905T130128Z
UID:725-1506585600-1506790800@gasocietysar.org
SUMMARY:GSSAR Color Guard
DESCRIPTION:NSSAR Fall Leadership\, Louisville\, KY: Ed Rigel\, Sr.\, George Thurmond\, Allen Greenly\, Paul Prescott\, Shep Hammack
URL:https://gasocietysar.org/event/gssar-color-guard-12/
CATEGORIES:National Events
END:VEVENT
END:VCALENDAR