BEGIN:VCALENDAR
VERSION:2.0
PRODID:-//Georgia Society, Sons of the American Revolution - ECPv6.15.20//NONSGML v1.0//EN
CALSCALE:GREGORIAN
METHOD:PUBLISH
X-ORIGINAL-URL:https://gasocietysar.org
X-WR-CALDESC:Events for Georgia Society, Sons of the American Revolution
REFRESH-INTERVAL;VALUE=DURATION:PT1H
X-Robots-Tag:noindex
X-PUBLISHED-TTL:PT1H
BEGIN:VTIMEZONE
TZID:America/New_York
BEGIN:DAYLIGHT
TZOFFSETFROM:-0500
TZOFFSETTO:-0400
TZNAME:EDT
DTSTART:20250309T070000
END:DAYLIGHT
BEGIN:STANDARD
TZOFFSETFROM:-0400
TZOFFSETTO:-0500
TZNAME:EST
DTSTART:20251102T060000
END:STANDARD
BEGIN:DAYLIGHT
TZOFFSETFROM:-0500
TZOFFSETTO:-0400
TZNAME:EDT
DTSTART:20260308T070000
END:DAYLIGHT
BEGIN:STANDARD
TZOFFSETFROM:-0400
TZOFFSETTO:-0500
TZNAME:EST
DTSTART:20261101T060000
END:STANDARD
BEGIN:DAYLIGHT
TZOFFSETFROM:-0500
TZOFFSETTO:-0400
TZNAME:EDT
DTSTART:20270314T070000
END:DAYLIGHT
BEGIN:STANDARD
TZOFFSETFROM:-0400
TZOFFSETTO:-0500
TZNAME:EST
DTSTART:20271107T060000
END:STANDARD
END:VTIMEZONE
BEGIN:VEVENT
DTSTART;TZID=America/New_York:20260512T133000
DTEND;TZID=America/New_York:20260512T143000
DTSTAMP:20260423T181930
CREATED:20260119T000328Z
LAST-MODIFIED:20260202T021410Z
UID:19896-1778592600-1778596200@gasocietysar.org
SUMMARY:Sequoyah Chapter\, NSDAR - America 250 Marker Dedication Ceremony - 1:30 PM
DESCRIPTION:The Sequoyah Chapter\, NSDAR will have an America 250 Marker Dedication Ceremony on May 14\, 2026. The ceremony will be in front of the Pickens County Courthouse located at 52 North Main Street in Jasper\, Georgia from 1:30 – 2:30. \nLocation: Pickens County Courthouse\nDate and Time: May 14\, 2026. 1:30 – 2:30.
URL:https://gasocietysar.org/event/sequoyah-chapter-nsdar-america-250-marker-dedication-ceremony-130-pm/
LOCATION:Pickens County Courthouse\, 52 North Main Street\, Jasper\, GA\, 30143\, United States
CATEGORIES:DAR Events,GASSAR Color Guard
END:VEVENT
BEGIN:VEVENT
DTSTART;TZID=America/New_York:20260515T080000
DTEND;TZID=America/New_York:20260516T170000
DTSTAMP:20260423T181930
CREATED:20260125T202703Z
LAST-MODIFIED:20260125T202703Z
UID:19945-1778832000-1778950800@gasocietysar.org
SUMMARY:South Atlantic District meeting as part of Florida Society SAR Annual Meeting
DESCRIPTION:Details forthcoming
URL:https://gasocietysar.org/event/south-atlantic-district-meeting-as-part-of-florida-society-sar-annual-meeting/
CATEGORIES:District Event
END:VEVENT
BEGIN:VEVENT
DTSTART;TZID=America/New_York:20260516T130000
DTEND;TZID=America/New_York:20260516T140000
DTSTAMP:20260423T181930
CREATED:20260125T202412Z
LAST-MODIFIED:20260125T233623Z
UID:19943-1778936400-1778940000@gasocietysar.org
SUMMARY:Patriot Enoch Smith Grave Marker Dedication - Ellijay at 1:00 PM
DESCRIPTION:WHAT/WHO:  Single Patriot Enoch Smith grave marking jointly co-sponsor Blue Ridge Mountains (BRM) Chapter SAR with Capt. James Kell (CJK) Chapter DAR \nWHERE: This will be at Macedonia Baptist Church\, 6568 Big Creek Road\, Ellijay\, GA   30536 at 1:00 PM \nHOW:  The DAR have determined that the grave is lost to time but will place a plaque on a pole in the cemetery with the dedication.  SAR will mark with our traditional granite plaque at its foot. \n  \nOther details forthcoming. 
URL:https://gasocietysar.org/event/patriot-enoch-smith-grave-marker-dedication/
CATEGORIES:DAR Events,GASSAR Color Guard,Grave Dedication
END:VEVENT
BEGIN:VEVENT
DTSTART;TZID=America/New_York:20260516T140000
DTEND;TZID=America/New_York:20260516T150000
DTSTAMP:20260423T181930
CREATED:20260322T211006Z
LAST-MODIFIED:20260322T211006Z
UID:21483-1778940000-1778943600@gasocietysar.org
SUMMARY:250th Mareker Dedication - Acworth\, GA - 2:00 PM
DESCRIPTION: Come join us in a ceremony dedicating a granite marker honoring the  \n250th Anniversary of American Independence\, 1776 – 2026.  \nMars Hill Cemetery – 2850 Mars Hill Church Road – Acworth\, GA 30101  \nSaturday; May 16\, 2026 @ 2:00 PM  \nSponsored by the Captain John Collins Chapter Georgia Society Sons of the American Revolution. \n  \nTo present a wreath\, please complete the Wreath Registration  \nForm and email to President Jim Poole at  \njimpoole82@gmail.com
URL:https://gasocietysar.org/event/250th-mareker-dedication-acworth-ga-200-pm/
LOCATION:Mars Hill Cemetery\, 2850 Mars Hill Church Road\, Acworth\, GA\, 30101\, United States
CATEGORIES:GA Society Chapter Events
END:VEVENT
BEGIN:VEVENT
DTSTART;TZID=America/New_York:20260523T090000
DTEND;TZID=America/New_York:20260523T230000
DTSTAMP:20260423T181930
CREATED:20260315T135022Z
LAST-MODIFIED:20260315T135022Z
UID:21454-1779526800-1779577200@gasocietysar.org
SUMMARY:Memorial Day - Georgia National Cemetery - 10:00 AM - placing of flags at 9:00 AM
DESCRIPTION:The Georgia National Cemetery has requested a color guard and musket firing for the Georgia national Cemetery Memorial Day event. \nAt 9:00 AM a few thousand volunteers place gravesite flags on the 23\,000+ gravesites of Veterans and their family members in the cemetery. \nThis is immediately followed by the ceremony (expected at 10:00 AM) \nKeynote speadker is COL (Ret) Richard White\, President of the Georgia Military Veterans’ Hall of Fame. \nBill Palmer is coordinating. \n 
URL:https://gasocietysar.org/event/memorial-day-georgia-national-cemetery-1000-am-placing-of-flags-at-900-am/
LOCATION:Georgia National Cemetery\, 1080 Scott Hudgens Dr\, Canton\, GA\, 30114\, United States
CATEGORIES:GASSAR Color Guard,National Events
END:VEVENT
BEGIN:VEVENT
DTSTART;TZID=America/New_York:20260523T110000
DTEND;TZID=America/New_York:20260523T120000
DTSTAMP:20260423T181930
CREATED:20260315T133909Z
LAST-MODIFIED:20260315T133909Z
UID:21448-1779534000-1779537600@gasocietysar.org
SUMMARY:Grave Marking - Patrito Thomas A Hinesley
DESCRIPTION:Casimir Pulaski Chapter Georgia Society SAR invites you to a Grave Marker Dedciation Ceremony for Patriot Thomas A Hinesley (P-182083) \nDate: 23 May 2026 \nTime: 11:00 AM \nLocation: Carroll County Veterans Memorial Park – 1050 Newman Road  – Carrollton\, Georgia 30116 \nContact Jim Swinson for more details – jgswinson@yahoo.com – 770-658-4976
URL:https://gasocietysar.org/event/grave-marking-patrito-thomas-a-hinesley/
LOCATION:Carroll County Veterans Memorial Park\, 1050 newman Road\, Carrollton\, GA\, 30116\, United States
CATEGORIES:GASSAR Color Guard,Grave Dedication
END:VEVENT
BEGIN:VEVENT
DTSTART;TZID=America/New_York:20260523T110000
DTEND;TZID=America/New_York:20260523T170000
DTSTAMP:20260423T181930
CREATED:20260315T134329Z
LAST-MODIFIED:20260315T134329Z
UID:21452-1779534000-1779555600@gasocietysar.org
SUMMARY:(IN) - National - George Rogers Clark Commemoration
DESCRIPTION:Location: George Rogers Clark Memorial – 401 S 2nd St – Vincennes\, IN   47591 \nTime: 11:00 AM
URL:https://gasocietysar.org/event/in-national-george-rogers-clark-commemoration/
CATEGORIES:National Events
END:VEVENT
BEGIN:VEVENT
DTSTART;TZID=America/New_York:20260524T110000
DTEND;TZID=America/New_York:20260524T130000
DTSTAMP:20260423T181930
CREATED:20260315T140830Z
LAST-MODIFIED:20260315T141110Z
UID:21456-1779620400-1779627600@gasocietysar.org
SUMMARY:Patriotic Service and 250th Stone Dedication Ceremony - Gainesville\, GA - 11:00 AM
DESCRIPTION:Memorial Day Patriotic Service followed by Memorial Stone Dedication \nLocation: Northlake Baptist Church – 4823 Thompson Bridge Road – Gainesville\, GA 30506 (closer to Murrayville) \nTime: Prestentation of Colors for 11:00 AM ceremony followed by 250th Memorial Stone Dedication at Flagpole after the service at 12:15 PM \nExpect to have musket and cannon firing \nEmil Decker is contact person
URL:https://gasocietysar.org/event/patriotic-service-and-dedication-ceremony-gainesville-ga-1100-am/
LOCATION:Northlake Baptist Church\, 4823 Thompson Bridge Rd\, Gainesville\, GA\, 30506\, United States
CATEGORIES:GASSAR Color Guard,National Events
END:VEVENT
BEGIN:VEVENT
DTSTART;TZID=America/New_York:20260531T080000
DTEND;TZID=America/New_York:20260531T170000
DTSTAMP:20260423T181930
CREATED:20251219T204232Z
LAST-MODIFIED:20251219T204413Z
UID:19840-1780214400-1780246800@gasocietysar.org
SUMMARY:National - (MO) - Battle of Fort San Carlos Commemoration
DESCRIPTION:I extend a heartfelt welcome and seek your attendance and command of Color Guard activities at the 2026 Commemoration and Grave marking Ceremonies at Ste. Genevieve\, Missouri. Most years the event has been held the Sunday immediately preceding Memorial Day. However\, in 2026\, Missouri Society is hosting this national Color Guard event on May 31.\n \nPlease plan on attending and drop a pin on your calendar for this ceremony. We have had 30 plus color guard for the prior 3 years\, and enjoy the full support of the community and their local militia group.\n \n2026 is a special year that honors the signing of the Declaration of Independence. It will be a two-day event in Ste. Genevieve. The French Colonial Museum and historians will be Saturday’s highlight. \n \nIf plans come together\, a first-time grave marking for a patriot may also get worked into Saturday’s schedule. The rural cemetery is south of Ste. Genevieve about 60 miles.\n \nIf your schedule permits\, stay a night or two. The town is blessed with some very nice restaurants and shops for the spouse if she joins you.\n \nI look forward to seeing you! MOSSAR will notify everyone when online registration is established.\n \n\nSteven G Perkins\nMissouri Society SAR – Ozark Mtn Chapter\nChapter Registrar/Genealogist\nState Color Guard Commander
URL:https://gasocietysar.org/event/national-mo-battle-of-fort-san-carlos-commemoration/
CATEGORIES:National Events
END:VEVENT
BEGIN:VEVENT
DTSTART;TZID=America/New_York:20260607T140000
DTEND;TZID=America/New_York:20260607T160000
DTSTAMP:20260423T181930
CREATED:20260118T225919Z
LAST-MODIFIED:20260118T230742Z
UID:19881-1780840800-1780848000@gasocietysar.org
SUMMARY:Patriot Grave Marker Dedication - James Pittman - Madison County\, Georgia - Time to be determined
DESCRIPTION:Brandy Pethel\, Regent of the James Pittman Chapter\, NSDAR has received the NSDAR Historian General approval letter dated 9 September 2025 for a Patriot Grave Marking for Patriot James Green Pittman (SAR P-271003).  The Georgia Society SAR has no evidence that this Patriot’s grave has been marked before.  As such\, we accept the evidence found and approved by the NSDAR Historian General and approve this grave marking for the SAR to be performed. \nRegent Brandy Pethel has requested that this joint DAR/SAR Patriot grave marking to be performed on Sunday\, June 7\, 2026 at the grave site located in Madison County\, GA.   \nTime is still to be determined.  other details forthcoming \n  \n 
URL:https://gasocietysar.org/event/patriot-grave-marker-dedication-james-pittman-madison-county-georgia-time-to-be-determined/
CATEGORIES:DAR Events,GA Society Events,GASSAR Color Guard,Grave Dedication
END:VEVENT
BEGIN:VEVENT
DTSTART;TZID=America/New_York:20260613T100000
DTEND;TZID=America/New_York:20260613T110000
DTSTAMP:20260423T181930
CREATED:20260203T182711Z
LAST-MODIFIED:20260315T141330Z
UID:19971-1781344800-1781348400@gasocietysar.org
SUMMARY:Patriot Grave Marking - John Thrasher (P-304753)
DESCRIPTION:The Athens Chapter Georgia Scoiety SAR invites you to a Patriot Grave Marker Dedciation cermony for Patriot John Thrasher (P-304753) at the Old Salem Methodist Church near Farmington\, Georgia in Oconee County. \nAddress: 3280 Salem Road\, Watkinsville\, GA   30677 \nMore details forthcoming
URL:https://gasocietysar.org/event/patriot-grave-marking-john-thrasher-p-304753/
LOCATION:Old Salem Methodist Church\, 3280 Salem Road\, Watkinsville\, GA\, 30677\, United States
CATEGORIES:GASSAR Color Guard,Grave Dedication
END:VEVENT
BEGIN:VEVENT
DTSTART;TZID=America/New_York:20260613T100000
DTEND;TZID=America/New_York:20260613T110000
DTSTAMP:20260423T181930
CREATED:20260315T142445Z
LAST-MODIFIED:20260315T142637Z
UID:21466-1781344800-1781348400@gasocietysar.org
SUMMARY:Flag Day Service and Annual Flag Retirement - Cumming\, GA
DESCRIPTION:The Robert Forsyth Chapter and the Piedmont Chapter of the Georgia Society SAR invite you to their Flag Day Service and Annual Flag Retirement Service. \nLocation: Ingram Funeral Home Chapel – 210 Ingram Avenue – Cumming\, GA 30040 \nDate: 13 June 2026 \nTime: 10:00 AM \nThis is considered a National Event by the NSSAR Color Guard \n 
URL:https://gasocietysar.org/event/flag-day-service-and-annual-flag-retirement-cumming-ga/
LOCATION:Ingram Funeral Home\, 210 Ingram Avenue\, Cumming\, GA\, 30040\, United States
CATEGORIES:GA Society Chapter Events,National Events
END:VEVENT
BEGIN:VEVENT
DTSTART;TZID=America/New_York:20260613T100000
DTEND;TZID=America/New_York:20260613T110000
DTSTAMP:20260423T181930
CREATED:20260406T192032Z
LAST-MODIFIED:20260406T192032Z
UID:21495-1781344800-1781348400@gasocietysar.org
SUMMARY:15th Annual Gwinnett Flag Day Ceremony - Lawrenceville\, GA - 10:00 AM
DESCRIPTION:15th ANNUAL GWINNETT FLAG DAY CEREMONY \nSaturday\, June 13\, 2026\, at 10:00 AM \nVFW Post 5255\, 368 Grayson Highway\, Lawrenceville\, GA 30046 \nJoin us as we unite in celebration and patriotism to honor the 249th birthday of the American Flag\, our nation’s symbol of freedom\, equality\, and justice for all. \nGwinnett Flag Day LLC – A 501c3 non-profit\, nonpolitical organization with the mission of uniting our communities and teaching future generations the history and importance of respecting our American Flag. \nWebsite: GwinnettFlagDay.org Facebook: Flag Day Gwinnett \nRefreshments available before and after the ceremony.
URL:https://gasocietysar.org/event/15th-annual-gwinnett-flag-day-ceremony-lawrenceville-ga-1000-am/
LOCATION:Lawrenceville VFW Post 5255\, 368 Grayson Hwy\, Lawrenceville\, GA\, 30046\, United States
CATEGORIES:GA Society Events,GASSAR Color Guard,National Events
END:VEVENT
BEGIN:VEVENT
DTSTART;TZID=America/New_York:20260614T080000
DTEND;TZID=America/New_York:20260614T083000
DTSTAMP:20260423T181930
CREATED:20260119T150434Z
LAST-MODIFIED:20260119T150434Z
UID:19924-1781424000-1781425800@gasocietysar.org
SUMMARY:National - Flag Day
DESCRIPTION:
URL:https://gasocietysar.org/event/national-flag-day/
CATEGORIES:National Events
END:VEVENT
BEGIN:VEVENT
DTSTART;TZID=America/New_York:20260620T100000
DTEND;TZID=America/New_York:20260620T123000
DTSTAMP:20260423T181930
CREATED:20260118T232437Z
LAST-MODIFIED:20260118T232437Z
UID:19888-1781949600-1781958600@gasocietysar.org
SUMMARY:National - (FL) - Alligator Bridge Commemoration - Time ???
DESCRIPTION:SATURDAY JUNE 20\, 2026\, BATTLE OF ALLIGATOR BRIDGE COMEMORATION CALLAHAN FLORIDA FAIRGROUNDS MULTI-PURPOSE BUILDING. DETAILS TO FOLLOW. NATIONAL EVENT FOR FIRST TIME!  \n Details forthcoming
URL:https://gasocietysar.org/event/national-fl-alligator-bridge-commemoration-time/
CATEGORIES:National Events
END:VEVENT
BEGIN:VEVENT
DTSTART;TZID=America/New_York:20260704T200000
DTEND;TZID=America/New_York:20260704T210000
DTSTAMP:20260423T181930
CREATED:20260205T174847Z
LAST-MODIFIED:20260205T174847Z
UID:19989-1783195200-1783198800@gasocietysar.org
SUMMARY:Independence Day - Braves Game - 8:00 PM Game time
DESCRIPTION:Planning is underway with the Atlanta Braves for a larger ceremony with the Atlanta Braves organization – guardsmen\, militia\, artillery.\nMay have the opportunity to display and/or fire cannons – potentially on the field. \nNeed to determine interst level as plans are being developed.
URL:https://gasocietysar.org/event/independence-day-braves-game-800-pm-game-time/
LOCATION:Truist Park\, 755 Battery Ave\, SE\, Atlanta\, GA\, 30339\, United States
CATEGORIES:GASSAR Color Guard,National Events
END:VEVENT
BEGIN:VEVENT
DTSTART;VALUE=DATE:20260710
DTEND;VALUE=DATE:20260717
DTSTAMP:20260423T181930
CREATED:20250522T215417Z
LAST-MODIFIED:20250522T215417Z
UID:18091-1783641600-1784246399@gasocietysar.org
SUMMARY:National - 136th Congress - Greensboro\, NC
DESCRIPTION:
URL:https://gasocietysar.org/event/national-136th-congress-greensboro-nc/
CATEGORIES:National Events,NSSAR Meetings
END:VEVENT
BEGIN:VEVENT
DTSTART;TZID=America/New_York:20260725T100000
DTEND;TZID=America/New_York:20260725T120000
DTSTAMP:20260423T181930
CREATED:20260125T203603Z
LAST-MODIFIED:20260125T203603Z
UID:19949-1784973600-1784980800@gasocietysar.org
SUMMARY:Georgia Society SAR Summer Board of Managers Meeting
DESCRIPTION:Georgia Society SAR Summer BOM Meeting \nPam’s Garden Patch Restaurant\n100 Southland Drive\nBarnesville\, GA \n 
URL:https://gasocietysar.org/event/georgia-society-sar-summer-board-of-managers-meeting/
LOCATION:Garden Patch Restaurant\, 100 Southland Drive\, Barnesville\, GA\, 30204\, United States
CATEGORIES:GA Society Chapter Events,GA Society Events
END:VEVENT
BEGIN:VEVENT
DTSTART;TZID=America/New_York:20260815T083000
DTEND;TZID=America/New_York:20260815T120000
DTSTAMP:20260423T181930
CREATED:20251219T210310Z
LAST-MODIFIED:20251219T211017Z
UID:19853-1786782600-1786795200@gasocietysar.org
SUMMARY:National - (KY) - Battle of Blue Licks Commemoration
DESCRIPTION:The Gov. Isaac Shelby Chapter\, Kentucky Society Sons of the American Revolution invites you to attend the Memorial Service for the 244th Anniversary of the Battle of Blue Licks.  \nSaturday\, 15 August\, 2026 @10:00 a.m. EDT. Blue Licks Battlefield State Park 10299 Maysville Road\, Carlisle\, KY (Color Guard Muster at 8:45 a.m.)  \nJoin us in this National Color Guard event by presenting a wreath\, carrying your state flag or participating in the flintlock salute. 
URL:https://gasocietysar.org/event/national-ky-battle-of-blue-licks-commemoration/
CATEGORIES:National Events
END:VEVENT
BEGIN:VEVENT
DTSTART;TZID=America/New_York:20260905T080000
DTEND;TZID=America/New_York:20260905T170000
DTSTAMP:20260423T181930
CREATED:20260119T144120Z
LAST-MODIFIED:20260119T144120Z
UID:19914-1788595200-1788627600@gasocietysar.org
SUMMARY:Bushnell's Turtle 250th
DESCRIPTION:Labor Day Weekend \nWarrenton\, GA \n  \nWe are looking for Revolutionary Era Reenactors\, craftsmen\, Artisans\, Spokesmen\, Coordinators and Military Enthusiasts \nFor more information email: r2t2enterprise@gmail.com or call 706-914-0930
URL:https://gasocietysar.org/event/bushnells-turtle-250th/
CATEGORIES:GASSAR Color Guard
END:VEVENT
BEGIN:VEVENT
DTSTART;TZID=America/New_York:20260905T100000
DTEND;TZID=America/New_York:20260905T110000
DTSTAMP:20260423T181930
CREATED:20260119T142914Z
LAST-MODIFIED:20260119T143950Z
UID:19908-1788602400-1788606000@gasocietysar.org
SUMMARY:National - (DE) - Battle of Couch's Bridge
DESCRIPTION:Battle of Couch’s Bridge\n\n10:00 AM to 11:00 AM\nPencader Heritage Museum\, 2029 Sunset Lake Road\, Newark\, DE\, 19702 (map)\nGoogle Calendar  ICS\n\n\n\n\n\n\n\n\nOn September 3\, 1777\, at Cooch’s Bridge\, the first battle of the Philadelphia Campaign and the only battle fought on Delaware soil during the Revolutionary War. At least two-dozen Continental soldiers were killed during that battle and are believed to be buried in forgotten\, unmarked graves somewhere on the battlefield. \nThe Delaware Societies of the Sons and the Daughters of the American Revolution requests your presence to honor and remember the soldiers who fell at the Battle of Cooch’s Bridge. Also participating will be the Pencader Heritage Area Association\, Friends of Cooch’s Bridge Historic Site\, Delaware Division of Historic and Cultural Affairs\, 1st Delaware Regiment\, and member of the Friends of the Washington Rochambeau Trail. \nColor Guard Muster: Compatriots wearing continental uniforms would be greatly appreciated. Please register at the following link: Battle of Cooch’s Bridge Memorial Service. Memorial service honoring the fallen Continental & militia soldiers who bravely fought in the only American Revolutionary War battle in Delaware. Contact: Peter Moller\, Cooch’s Bridge Battlefield DESSAR Coordinator and NJSSAR Trustee\, hobokenpete@gmail.com
URL:https://gasocietysar.org/event/national-de-battle-of-couchs-bridge/
LOCATION:Pencader Heritage Museum\, 2029 Sunset Lake Road\, Newark\, DE\, 19702\, United States
CATEGORIES:National Events
END:VEVENT
BEGIN:VEVENT
DTSTART;TZID=America/New_York:20260905T110000
DTEND;TZID=America/New_York:20260905T140000
DTSTAMP:20260423T181930
CREATED:20260119T150155Z
LAST-MODIFIED:20260119T150155Z
UID:19920-1788606000-1788616800@gasocietysar.org
SUMMARY:National - (VA) - Battle of the Capes - 11:00 AM
DESCRIPTION:245th Anniversary of the Battle of the Virginia Capes and the 400th Anniversary of the French Navy \nCo-hosted by the Norfolk Chapter and the French Navy \nDetails to follow
URL:https://gasocietysar.org/event/national-va-battle-of-the-capes-1100-am-2/
CATEGORIES:National Events
END:VEVENT
BEGIN:VEVENT
DTSTART;TZID=America/New_York:20260912T100000
DTEND;TZID=America/New_York:20260912T110000
DTSTAMP:20260423T181930
CREATED:20260315T143958Z
LAST-MODIFIED:20260315T143958Z
UID:21470-1789207200-1789210800@gasocietysar.org
SUMMARY:Grave marking Patriot Claborne Webb - Elberton\, GA (potential of two others) - Time 10:00 AM
DESCRIPTION:The Samuel Elbert Chapter of the Georgia Society SAR invites you to a Grave marker Dedciation Ceremony for Patriot Claborne Webb (P-315141) \nLocation: Deadwyler Cemetery – Ware Drive – Elberton\, GA (GPS 34.07010\, -82.95617) (at Hwy 17 & Hwy 72 Loop) \nDate: 12 September 2026 \nTime: 10:00 AM \nRussell Terrell is ccontact person – rbterrell58@gmail.com
URL:https://gasocietysar.org/event/grave-marking-patriot-claborne-webb-elberton-ga-potential-of-two-others-time-1000-am/
CATEGORIES:GASSAR Color Guard,Grave Dedication
END:VEVENT
BEGIN:VEVENT
DTSTART;TZID=America/New_York:20260917T080000
DTEND;TZID=America/New_York:20260917T083000
DTSTAMP:20260423T181930
CREATED:20260119T150338Z
LAST-MODIFIED:20260119T150338Z
UID:19922-1789632000-1789633800@gasocietysar.org
SUMMARY:Constitution Day
DESCRIPTION:
URL:https://gasocietysar.org/event/constitution-day-5/
END:VEVENT
BEGIN:VEVENT
DTSTART;TZID=America/New_York:20260919T080000
DTEND;TZID=America/New_York:20260919T160000
DTSTAMP:20260423T181930
CREATED:20260108T194207Z
LAST-MODIFIED:20260108T194207Z
UID:19861-1789804800-1789833600@gasocietysar.org
SUMMARY:National (VA) - Washington Tomb Vigil
DESCRIPTION:Please mark your schedules and pass along to your members that the Vigil for Washington’s Tomb at Mount Vernon is set for September 19\, 2026. \nLater there will be a signup genius sent with the ability to sign up and yes it will be organized and sent out after Congress. But I wanted you all to know as soon as it was set with Mount Vernon. \nIt is one week later this year and coincides with the market that takes place on the property. \nHit me with any questions.  \nKen Goodson – National Color Guard Vice Commander – 616-836-8298
URL:https://gasocietysar.org/event/national-va-washington-tomb-vigil/
CATEGORIES:National Events
END:VEVENT
BEGIN:VEVENT
DTSTART;TZID=America/New_York:20260919T110000
DTEND;TZID=America/New_York:20260919T120000
DTSTAMP:20260423T181930
CREATED:20260118T223129Z
LAST-MODIFIED:20260125T233934Z
UID:19874-1789815600-1789819200@gasocietysar.org
SUMMARY:NSDAR Patriot Grave Marking in Shady Dale Georgia - 1100 AM
DESCRIPTION:Your attendance is requested by the George Walton Chapter Georgia Society SAR and the NSDAR in marking Patriot Jacob Mercer at Providence Baptist Church in Shady Dale\, Georgia at 11:00 AM. \nColor Guard and Muskets are needed. \nDetails are still forthcoming.
URL:https://gasocietysar.org/event/nsdar-patriot-grave-marking-in-shady-dale-georgia-time/
CATEGORIES:DAR Events,GASSAR Color Guard
END:VEVENT
BEGIN:VEVENT
DTSTART;TZID=America/New_York:20261001T080000
DTEND;TZID=America/New_York:20261003T170000
DTSTAMP:20260423T181930
CREATED:20250520T232510Z
LAST-MODIFIED:20250520T232830Z
UID:18068-1790841600-1791046800@gasocietysar.org
SUMMARY:National Society SAR - Fall Leadership
DESCRIPTION:The Galt House – Louisville\, KY
URL:https://gasocietysar.org/event/national-society-sar-fall-leadership-3/
CATEGORIES:National Events,NSSAR Meetings
END:VEVENT
BEGIN:VEVENT
DTSTART;TZID=America/New_York:20261007T100000
DTEND;TZID=America/New_York:20261007T120000
DTSTAMP:20260423T181930
CREATED:20260119T151117Z
LAST-MODIFIED:20260119T151117Z
UID:19928-1791367200-1791374400@gasocietysar.org
SUMMARY:National - (NC/SC) - Battle of Kings Mountain Commemoration
DESCRIPTION:Details forthcoming.
URL:https://gasocietysar.org/event/national-nc-sc-battle-of-kings-mountain-commemoration/
LOCATION:Kings Mountain National Military Park\, 2625 Park Road\, Blacksburg\, SC\, 29702\, United States
CATEGORIES:National Events
END:VEVENT
BEGIN:VEVENT
DTSTART;TZID=America/New_York:20261009T080000
DTEND;TZID=America/New_York:20261009T100000
DTSTAMP:20260423T181930
CREATED:20260119T151306Z
LAST-MODIFIED:20260119T151306Z
UID:19930-1791532800-1791540000@gasocietysar.org
SUMMARY:Siege of Savannah
DESCRIPTION:Details forthcoming
URL:https://gasocietysar.org/event/siege-of-savannah-2/
CATEGORIES:Historic Sites & Celebrations
END:VEVENT
BEGIN:VEVENT
DTSTART;TZID=America/New_York:20261017T130000
DTEND;TZID=America/New_York:20261017T140000
DTSTAMP:20260423T181930
CREATED:20260225T161143Z
LAST-MODIFIED:20260225T234300Z
UID:20746-1792242000-1792245600@gasocietysar.org
SUMMARY:Grave Marking - Patriot Edward Williams (P-320654) - Raburn County - 1:00 PM
DESCRIPTION:Grave marker Dedication Ceremony for Patriot Edward Williams (P-320654) \nLocation – Chechero Baptist Church Cemetery\, 4973 US -76\, Claytong\, Georiga\, Raburn County \nTime: 1:00 PM \nSponsored by Joseph Habersham Chapter
URL:https://gasocietysar.org/event/grave-marking-patriot-edward-williams-p-320654-raburn-county/
CATEGORIES:GASSAR Color Guard,Grave Dedication
END:VEVENT
END:VCALENDAR