BEGIN:VCALENDAR
VERSION:2.0
PRODID:-//Georgia Society, Sons of the American Revolution - ECPv6.15.20//NONSGML v1.0//EN
CALSCALE:GREGORIAN
METHOD:PUBLISH
X-WR-CALNAME:Georgia Society, Sons of the American Revolution
X-ORIGINAL-URL:https://gasocietysar.org
X-WR-CALDESC:Events for Georgia Society, Sons of the American Revolution
REFRESH-INTERVAL;VALUE=DURATION:PT1H
X-Robots-Tag:noindex
X-PUBLISHED-TTL:PT1H
BEGIN:VTIMEZONE
TZID:America/New_York
BEGIN:DAYLIGHT
TZOFFSETFROM:-0500
TZOFFSETTO:-0400
TZNAME:EDT
DTSTART:20250309T070000
END:DAYLIGHT
BEGIN:STANDARD
TZOFFSETFROM:-0400
TZOFFSETTO:-0500
TZNAME:EST
DTSTART:20251102T060000
END:STANDARD
BEGIN:DAYLIGHT
TZOFFSETFROM:-0500
TZOFFSETTO:-0400
TZNAME:EDT
DTSTART:20260308T070000
END:DAYLIGHT
BEGIN:STANDARD
TZOFFSETFROM:-0400
TZOFFSETTO:-0500
TZNAME:EST
DTSTART:20261101T060000
END:STANDARD
BEGIN:DAYLIGHT
TZOFFSETFROM:-0500
TZOFFSETTO:-0400
TZNAME:EDT
DTSTART:20270314T070000
END:DAYLIGHT
BEGIN:STANDARD
TZOFFSETFROM:-0400
TZOFFSETTO:-0500
TZNAME:EST
DTSTART:20271107T060000
END:STANDARD
END:VTIMEZONE
BEGIN:VEVENT
DTSTART;TZID=America/New_York:20260104T090000
DTEND;TZID=America/New_York:20260104T123000
DTSTAMP:20260423T125712
CREATED:20250705T163059Z
LAST-MODIFIED:20251219T201052Z
UID:18162-1767517200-1767529800@gasocietysar.org
SUMMARY:National - (NJ) - Reenactment & Commemoration for the Battles of Assunpink Creek and Princeton\, January 2/3\, 1777
DESCRIPTION:9:00 to 11:00 am “Experience the Battle of Princeton” Reenactment – Princeton Battlefield\, 500 Mercer St.\, Princeton\, NJ 08540\n11:30 to 12:15 am Hereditary Organization/Military Representative Commemorative Wreath Laying
URL:https://gasocietysar.org/event/national-nj-reenactment-commemoration-for-the-battles-of-assunpink-creek-and-princeton-january-2-3-1777/
LOCATION:GA
CATEGORIES:National Events
END:VEVENT
BEGIN:VEVENT
DTSTART;TZID=America/New_York:20260117T100000
DTEND;TZID=America/New_York:20260117T113000
DTSTAMP:20260423T125712
CREATED:20251219T170954Z
LAST-MODIFIED:20251219T191905Z
UID:19806-1768644000-1768649400@gasocietysar.org
SUMMARY:National - (SC) - Battle of Cowpens Commemoration - 10:00 AM
DESCRIPTION:Battle of Cowpens Commemoration \nNational Society SAR event sponsored by the Daniel Morgan Chapter South Carolina Society SAR \nPlease RSVP to \nRay Stapleton\, Daniel Morgan Chapter Secretary \nstapler1@comcast.net \n540-255-3428
URL:https://gasocietysar.org/event/national-sc-battle-of-cowpens-commemoration-1000-am/
LOCATION:Cowpens National Battlefield\, 4001 Chesnee Highway\, Gaffney\, SC\, 29341\, United States
CATEGORIES:DAR Events,GASSAR Color Guard,Historic Sites & Celebrations,National Events
END:VEVENT
BEGIN:VEVENT
DTSTART;TZID=America/New_York:20260117T140000
DTEND;TZID=America/New_York:20260117T143000
DTSTAMP:20260423T125712
CREATED:20251219T191041Z
LAST-MODIFIED:20251219T204014Z
UID:19808-1768658400-1768660200@gasocietysar.org
SUMMARY:(SC) - Daniel Morgan Statute Wreath Laying
DESCRIPTION:Daniel Morgan Chapter of the South Carolina Society SAR invites you to the Daniel Morgan Wreath Laying event to be held at the Daniel Morgan Statute on Morgan Square in Spartanburg\, SC 29302. – Time 1:45 to 2:00 PM
URL:https://gasocietysar.org/event/sc-daniel-morgan-statute-wreath-laying/
LOCATION:Morgan Square\, 111 West Main Street\, Spartanburg\, SC\, 29306\, United States
END:VEVENT
BEGIN:VEVENT
DTSTART;TZID=America/New_York:20260119T080000
DTEND;TZID=America/New_York:20260119T170000
DTSTAMP:20260423T125712
CREATED:20260119T143440Z
LAST-MODIFIED:20260119T143440Z
UID:19911-1768809600-1768842000@gasocietysar.org
SUMMARY:National - (WV) - Point Pleasant Battle Days
DESCRIPTION:Point Pleasant Battle Days Oct3-5.  \nOct 3 School Day \n*Oct 4 Parade \, muster 1030am. \n*Oct 5 Commemoration Service 12 noon \n\n\n( * Color guard presence requested for event. )
URL:https://gasocietysar.org/event/national-wv-point-pleasant-battle-days/
LOCATION:GA
CATEGORIES:National Events
END:VEVENT
BEGIN:VEVENT
DTSTART;TZID=America/New_York:20260131T080000
DTEND;TZID=America/New_York:20260131T103000
DTSTAMP:20260423T125712
CREATED:20250923T182636Z
LAST-MODIFIED:20260129T222707Z
UID:18588-1769846400-1769855400@gasocietysar.org
SUMMARY:CANCELED - National - (NC) - Battle of Cowan's Ford - 8:00 AM
DESCRIPTION:*****CANCELED due to weather issues.*****\n245th Cowan’s Ford Graveside Ceremony\n\n\nDate/Time: \nJanuary 31\, 2026 – 8:00 AM\n\nOrganized by:Mecklenburg Chapter SAR NC Society Sons of the American Revolution\n\nLocation: \n\nHopewell Presbyterian Church\n\n10500 Beatties Ford Road\, Huntersville\, NC\, United States\n\n\n\n\n\n\n\n \n\n\n\nBOM Meeting follows graveside ceremony for BG Davidson KIA 01FEB1781 @ Battle of Cowans’ Ford.\n\n\n\n\n\n\n\nEvents begin @ 0800 hrs
URL:https://gasocietysar.org/event/national-nc-battle-of-cowans-ford/
LOCATION:Hopewell Presbyterian Church\, 10500 Beatties Ford Road\, Huntersville\, NC\, 28078\, United States
CATEGORIES:Historic Sites & Celebrations,National Events
END:VEVENT
END:VCALENDAR